{"text_format":"1","workbook":"xlsx","n_sheets":12,"sheets":["記入例","表紙","内訳明細書1枚目","内訳明細書2枚目","内訳明細書3枚目","内訳明細書4枚目","内訳明細書5枚目","内訳明細書6枚目","内訳明細書7枚目","内訳明細書8枚目","内訳明細書9枚目","内訳明細書10枚目"],"not_rendered":{"charts":0,"images":0,"macros":1,"external_links":0,"defined_names":12,"comments":0,"pivot_tables":0},"unopened":[],"bounds":{"document_bytes":16777216,"sheet_cells":100000,"rows_first":2000,"rows_last":500,"rows_between":2000,"halvings":0,"cell_chars":16384,"cell_head_chars":4096},"cells_cut":0,"cells_raw":0,"read":"whole","date_system":"1900"}

{"sheet":"記入例","index":0,"n_rows":35,"n_cols":32,"rows_kept":35,"cut":false,"hidden":false,"merged":[[32,2,32,8],[33,2,33,34],[34,2,34,20],[1,22,3,27],[1,3,1,4],[2,3,2,4],[4,5,4,13],[2,5,2,10],[1,5,1,11],[5,24,6,27],[7,21,7,22],[21,16,21,18],[21,19,21,23],[21,24,21,25],[21,26,21,29],[17,26,17,29],[15,26,15,29],[16,26,16,29],[13,18,13,19],[13,20,13,29],[16,16,16,18],[16,19,16,23],[16,24,16,25],[19,26,19,29],[20,26,20,29],[18,16,18,18],[18,19,18,23],[18,24,18,25],[20,16,20,18],[20,19,20,23],[20,24,20,25],[18,26,18,29],[19,16,19,18],[19,19,19,23],[19,24,19,25],[8,2,8,3],[8,5,8,10],[8,18,10,19],[8,20,10,29],[10,2,11,4],[10,5,11,6],[10,7,11,7],[10,8,11,9],[11,18,12,19],[11,20,12,27],[11,28,12,29],[12,2,13,3],[12,4,13,13],[17,16,17,18],[17,19,17,23],[17,24,17,25],[5,5,5,8],[5,11,7,20],[7,23,7,24],[15,4,15,12],[15,13,15,15],[15,16,15,18],[15,19,15,23],[15,24,15,25],[6,5,6,8],[7,5,7,8],[20,4,20,12],[20,13,20,15],[16,4,16,12],[16,13,16,15],[18,4,18,12],[18,13,18,15],[19,4,19,12],[19,13,19,15],[17,4,17,12],[17,13,17,15],[31,2,31,25],[27,2,27,8],[28,2,28,34],[22,24,22,25],[22,26,22,29],[22,4,22,12],[22,16,22,18],[22,19,22,23],[21,4,21,12],[21,13,21,15],[22,13,22,15],[29,2,29,31],[30,2,30,39]]}
[]
[null,null,"※",null,null,"に必要項目を入力してください。",null,null,null,null,null,null,null,null,null,null,null,null,null,null,null,null,"記入例"]
[null,null,null,null,null,"には入力しないでください。"]
[]
[null,null,null,null,null,"↓登録された業者コードを入力してください。"]
[null,null,null,null,null,"業者コード",null,null,null,null,null,"請求内訳明細書",null,null,null,null,null,null,null,null,null,null,null,null,"※提出日要確認"]
[]
[null,null,null,null,null,"登録番号",null,null,null,null,null,null,null,null,null,null,null,null,null,null,null,"西暦",null,null,null,"年",null,"月",null,"日"]
[null,null,"(業者控)",null,null,null,null,null,null,null,null,null,null,null,null,null,null,null,"住所"]
[]
[null,null,"工事番号",null,null,null,null,"ー"]
[null,null,null,null,null,null,null,null,null,null,null,null,null,null,null,null,null,null,"会社名",null,null,null,null,null,null,null,null,null,"印"]
[null,null,"工事名"]
[null,null,null,null,null,null,null,null,null,null,null,null,null,null,null,null,null,null,"TEL"]
[]
[null,null,"月","日","品名／規格",null,null,null,null,null,null,null,null,"数量",null,null,"単価",null,null,"金額",null,null,null,null,"税率",null,"備考"]
[null,null,null,null,null,null,null,null,null,null,null,null,null,1000,null,null,1,null,null,{"$f":"IF(ROUNDDOWN(N17*Q17,0)=0,\"\",ROUNDDOWN(N17*Q17,0))","v":1000},null,null,null,null,null,null,null,null,null,null,null,"　"]
[null,null,null,null,null,null,null,null,null,null,null,null,null,2000,null,null,2,null,null,{"$f":"IF(ROUNDDOWN(N18*Q18,0)=0,\"\",ROUNDDOWN(N18*Q18,0))","v":4000},null,null,null,null,0.08]
[null,null,null,null,null,null,null,null,null,null,null,null,null,3000,null,null,3,null,null,{"$f":"IF(ROUNDDOWN(N19*Q19,0)=0,\"\",ROUNDDOWN(N19*Q19,0))","v":9000}]
[null,null,null,null,null,null,null,null,null,null,null,null,null,null,null,null,null,null,null,-300,null,null,null,null,0]
[]
[]
[]
[]
[]
[]
[]
[null,null,"※請求書の取扱上の注意点"]
[null,null,"①この請求書は当社専用の請求書(3枚複写)です。提出される場合は別紙請求内訳明細書(3枚複写)とともに業者控を除く各2枚ずつをセットにして提出してください。"]
[null,null,"②この請求書及び請求内訳明細書は※毎月20日で締め切り25日までに当社へ必着とします。遅れますと次月払いとなりますのでご注意願います。"]
[null,null,"③支払日は毎月17日(AM9：00～PM4：00)です。ただし17日が休日の場合は、翌日営業とします。(会社の都合により提出締切日及び支払日が変更となる場合は事前にお知らせいたします。)"]
[null,null,"④請求年月日、工事件名、工事番号は必ず記入してください。(工事件名、工事番号は当社現場担当に確認してください。)"]
[null,null,"⑤社印は必ず押印してください。"]
[null,null,"⑥数量と単価を入力すると自動的に計算できるようになっていますので活用ください。金額を入力しても問題ありませんが、関数は消えてしまうのでご注意ください。"]
[null,null,"⑦税率１０％の場合は入力なし、軽減税率には数字を、非課税は０％と必ず入力してください。"]

{"sheet":"表紙","index":1,"n_rows":84,"n_cols":27,"rows_kept":84,"cut":false,"hidden":false,"merged":[[80,20,80,22],[81,20,81,22],[80,23,80,26],[81,23,81,26],[80,16,80,19],[53,23,53,26],[52,23,52,26],[53,20,53,22],[52,20,52,22],[53,16,53,19],[52,16,52,19],[60,20,60,21],[70,16,71,20],[70,21,71,26],[72,16,73,20],[72,21,73,26],[4,10,5,16],[20,16,21,19],[12,15,12,16],[16,16,17,20],[18,16,19,20],[4,4,4,7],[5,4,5,7],[14,21,15,22],[7,15,8,16],[9,15,10,16],[11,15,11,16],[7,17,8,26],[9,17,10,24],[11,17,11,26],[20,21,20,26],[21,21,21,26],[9,25,10,26],[18,21,19,26],[16,21,17,26],[14,16,15,20],[12,17,12,26],[14,23,15,24],[14,25,15,26],[6,20,6,21],[7,1,7,2],[16,1,21,2],[14,3,15,14],[14,1,15,2],[16,3,17,6],[16,7,16,14],[17,7,17,14],[19,7,19,14],[18,7,18,14],[20,3,21,6],[20,7,20,14],[21,7,21,14],[18,3,19,6],[35,1,37,2],[40,1,41,2],[33,1,33,2],[34,3,34,4],[34,5,34,6],[35,3,37,4],[42,3,43,6],[42,7,42,14],[43,7,43,14],[34,1,34,2],[35,5,37,6],[61,1,61,2],[61,15,62,16],[61,17,62,26],[62,1,62,2],[62,3,62,4],[62,5,62,6],[58,10,59,16],[49,1,49,26],[42,1,47,2],[42,16,43,20],[42,21,43,26],[54,12,54,13],[51,23,51,26],[55,1,55,15],[52,3,52,6],[53,3,53,6],[52,7,52,11],[53,7,53,11],[53,14,53,15],[52,14,52,15],[53,12,53,13],[52,12,52,13],[44,3,45,6],[51,12,51,13],[68,1,69,2],[68,3,69,14],[68,16,69,20],[63,1,65,2],[63,3,65,4],[63,5,65,6],[63,15,64,16],[63,17,64,24],[66,15,66,16],[66,17,66,26],[68,21,69,22],[68,23,69,24],[68,25,69,26],[63,25,64,26],[65,15,65,16],[65,17,65,26],[78,3,78,6],[78,7,78,11],[72,7,72,14],[73,7,73,14],[74,3,75,6],[74,7,74,14],[75,7,75,14],[78,12,78,13],[70,1,75,2],[70,7,70,14],[71,7,71,14],[72,3,73,6],[30,10,31,16],[30,4,30,7],[31,4,31,7],[50,12,50,13],[50,14,50,15],[50,16,50,19],[46,3,47,6],[50,3,50,6],[38,15,38,16],[46,16,47,19],[44,7,44,14],[45,7,45,14],[40,3,41,14],[33,15,34,16],[33,17,34,26],[44,16,45,20],[44,21,45,26],[37,15,37,16],[40,21,41,22],[35,15,36,16],[35,25,36,26],[40,23,41,24],[40,25,41,26],[32,20,32,21],[82,3,82,6],[82,7,82,11],[82,12,82,13],[82,14,82,15],[82,16,82,19],[79,12,79,13],[79,14,79,15],[79,16,79,19],[83,16,83,19],[79,3,79,6],[83,1,83,15],[81,3,81,6],[80,3,80,6],[79,7,79,11],[80,14,80,15],[81,14,81,15],[81,12,81,13],[80,12,80,13],[83,20,83,22],[83,23,83,26],[54,20,54,22],[54,23,54,26],[55,16,55,19],[55,20,55,22],[55,23,55,26],[78,14,78,15],[78,16,78,19],[78,20,78,22],[78,23,78,26],[54,14,54,15],[54,16,54,19],[82,20,82,22],[82,23,82,26],[79,20,79,22],[79,23,79,26],[77,1,77,26],[74,16,75,19],[74,21,74,26],[75,21,75,26],[70,3,71,6],[81,7,81,11],[80,7,80,11],[54,3,54,6],[54,7,54,11],[58,4,58,7],[59,4,59,7],[40,16,41,20],[35,17,36,24],[37,17,37,26],[46,21,46,26],[47,21,47,26],[50,20,50,22],[50,23,50,26],[51,14,51,15],[51,16,51,19],[51,20,51,22],[51,3,51,6],[51,7,51,11],[38,17,38,26],[46,7,46,14],[47,7,47,14],[50,7,50,11]]}
[]
[]
[]
[]
[null,null,null,null,"業者コード",null,null,null,null,null,"請求書"]
[null,null,null,null,{"$f":"IF(内訳明細書1枚目!E2=\"\",\"\",内訳明細書1枚目!E2)","v":""}]
[null,null,null,null,null,null,null,null,null,null,null,null,null,null,null,null,null,null,null,"西暦",{"$f":"IF(内訳明細書1枚目!V3=\"\",\"\",内訳明細書1枚目!V3)","v":""},null,"年",{"$f":"IF(内訳明細書1枚目!Y3=\"\",\"\",内訳明細書1枚目!Y3)","v":""},"月",{"$f":"IF(内訳明細書1枚目!AA3=\"\",\"\",内訳明細書1枚目!AA3)","v":""},"日"]
[null,"(業者控)",null,null,null,null,null,null,null,null,null,null,null,null,null,"住所",null,{"$f":"IF(内訳明細書1枚目!T4=\"\",\"\",内訳明細書1枚目!T4)","v":""}]
[]
[null,null,null,null,null,null,null,null,null,null,null,null,null,null,null,"会社名",null,{"$f":"IF(内訳明細書1枚目!T7=\"\",\"\",内訳明細書1枚目!T7)","v":""},null,null,null,null,null,null,null,"印"]
[]
[null,null,null,null,null,null,null,null,null,null,null,null,null,null,null,"TEL",null,{"$f":"IF(内訳明細書1枚目!T9=\"\",\"\",内訳明細書1枚目!T9)","v":""}]
[null,null,null,null,null,null,null,null,null,null,null,null,null,null,null,"登録番号",null,{"$f":"IF(内訳明細書1枚目!E4=\"\",\"\",内訳明細書1枚目!E4)","v":""}]
[]
[null,"工事名",null,{"$f":"IF(内訳明細書1枚目!D8=\"\",\"\",内訳明細書1枚目!D8)","v":""},null,null,null,null,null,null,null,null,null,null,null,null,"工事番号",null,null,null,null,{"$f":"IF(内訳明細書1枚目!E6=\"\",\"\",内訳明細書1枚目!E6)","v":""},null,"ー",null,{"$f":"IF(内訳明細書1枚目!H6=\"\",\"\",内訳明細書1枚目!H6)","v":""}]
[]
[null,"今月分",null,"請求金額Ⓐ(税抜)",null,null,null,null,null,null,null,null,null,null,null,null,"立替払金額(税込) Ⓓ",null,null,null,null,"△"]
[null,null,null,null,null,null,null,{"$f":"SUM(内訳明細書1枚目:内訳明細書8枚目!S12:V25)","v":0}]
[null,null,null,"消費税Ⓑ",null,null,null,null,null,null,null,null,null,null,null,null,"差引支払金額(Ⓒ-Ⓓ)"]
[null,null,null,null,null,null,null,{"$f":"_xlfn.AGGREGATE(9,6,内訳明細書1枚目!AC12:AC25,内訳明細書2枚目!AC12:AC25,内訳明細書3枚目!AC12:AC25,内訳明細書4枚目!AC12:AC25,内訳明細書5枚目!AC12:AC25,内訳明細書6枚目!AC12:AC25,内訳明細書7枚目!AC12:AC25,内訳明細書8枚目!AC12:AC25)","v":0}]
[null,null,null,"合計金額Ⓒ",null,null,null,null,null,null,null,null,null,null,null,null,"支払決定金額",null,null,null,"小"]
[null,null,null,null,null,null,null,{"$f":"H18+H20","v":0},null,null,null,null,null,null,null,null,null,null,null,null,"約"]
[]
[]
[]
[]
[]
[]
[]
[]
[null,null,null,null,"業者コード",null,null,null,null,null,"請求書"]
[null,null,null,null,{"$f":"IF(E6=\"\",\"\",E6)","v":""}]
[null,null,null,null,null,null,null,null,null,null,null,null,null,null,null,null,{"$f":"Q7","v":0},null,null,"西暦",{"$f":"IF(U7=\"\",\"\",U7)","v":""},null,"年",{"$f":"IF(X7=\"\",\"\",X7)","v":""},"月",{"$f":"IF(Z7=\"\",\"\",Z7)","v":""},"日"]
[null,"(現場控)",null,null,null,null,null,null,null,null,null,null,null,null,null,"住所",null,{"$f":"IF(R8=\"\",\"\",R8)","v":""}]
[null,"承認",null,"所属長",null,"担当"]
[null,null,null,null,null,null,null,null,null,null,null,null,null,null,null,"会社名",null,{"$f":"IF(R10=\"\",\"\",R10)","v":""},null,null,null,null,null,null,null,"印"]
[]
[null,null,null,null,null,null,null,null,null,null,null,null,null,null,null,"TEL",null,{"$f":"IF(R12=\"\",\"\",R12)","v":""}]
[null,null,null,null,null,null,null,null,null,null,null,null,null,null,null,"登録番号",null,{"$f":"IF(R13=\"\",\"\",R13)","v":""}]
[]
[null,"工事名",null,{"$f":"IF(D15=\"\",\"\",D15)","v":""},null,null,null,null,null,null,null,null,null,null,null,null,"工事番号",null,null,null,null,{"$f":"IF(V15=\"\",\"\",V15)","v":""},null,"ー",null,{"$f":"IF(Z15=\"\",\"\",Z15)","v":""}]
[]
[null,"今月分",null,"請求金額Ⓐ",null,null,null,null,null,null,null,null,null,null,null,null,"立替払金額(税込) Ⓓ",null,null,null,null,"△"]
[null,null,null,null,null,null,null,{"$f":"IF(H18=\"\",\"\",H18)","v":0}]
[null,null,null,"消費税Ⓑ",null,null,null,{"$f":"IF(H19=\"\",\"\",H19)","v":""},null,null,null,null,null,null,null,null,"差引支払金額(Ⓒ-Ⓓ)"]
[null,null,null,null,null,null,null,{"$f":"IF(H20=\"\",\"\",H20)","v":0}]
[null,null,null,"合計金額Ⓒ",null,null,null,null,null,null,null,null,null,null,null,null,"支払決定金額",null,null,null,"小"]
[null,null,null,null,null,null,null,{"$f":"IF(H22=\"\",\"\",H22)","v":0},null,null,null,null,null,null,null,null,null,null,null,null,"約"]
[]
[null,"立替払い明細"]
[null,"月","日","支払先名",null,null,null,"品名",null,null,null,null,"数量",null,"単価",null,"金額",null,null,null,"消費税額",null,null,"税込金額Ⓓ"]
[]
[]
[]
[]
[null,"合計"]
[]
[]
[null,null,null,null,"業者コード",null,null,null,null,null,"請求書"]
[null,null,null,null,{"$f":"IF(E6=\"\",\"\",E6)","v":""},null,null,null,null,null,null,null,null,null,null,null,null,null,null,null,null,null,null,{"$f":"IF(X6,X6,\"\")","v":""}]
[null,null,null,null,null,null,null,null,null,null,null,null,null,null,null,null,{"$f":"Q7","v":0},null,null,"西暦",{"$f":"IF(U7=\"\",\"\",U7)","v":""},null,"年",{"$f":"IF(X7=\"\",\"\",X7)","v":""},"月",{"$f":"IF(Z7=\"\",\"\",Z7)","v":""},"日"]
[null,"(経理控)",null,null,null,null,null,null,null,null,null,null,null,null,null,"住所",null,{"$f":"IF(R8=\"\",\"\",R8)","v":""}]
[null,"承認",null,"所属長",null,"担当"]
[null,null,null,null,null,null,null,null,null,null,null,null,null,null,null,"会社名",null,{"$f":"IF(R10=\"\",\"\",R10)","v":""},null,null,null,null,null,null,null,"印"]
[]
[null,null,null,null,null,null,null,null,null,null,null,null,null,null,null,"TEL",null,{"$f":"IF(R12=\"\",\"\",R12)","v":""}]
[null,null,null,null,null,null,null,null,null,null,null,null,null,null,null,"登録番号",null,{"$f":"IF(R13=\"\",\"\",R13)","v":""}]
[]
[null,"工事名",null,{"$f":"IF(D15=\"\",\"\",D15)","v":""},null,null,null,null,null,null,null,null,null,null,null,null,"工事番号",null,null,null,null,{"$f":"IF(V15=\"\",\"\",V15)","v":""},null,"ー",null,{"$f":"IF(Z15=\"\",\"\",Z15)","v":""}]
[]
[null,"今月分",null,"請求金額Ⓐ",null,null,null,null,null,null,null,null,null,null,null,null,"立替払金額(税込) Ⓓ",null,null,null,null,"△"]
[null,null,null,null,null,null,null,{"$f":"IF(H18=\"\",\"\",H18)","v":0}]
[null,null,null,"消費税Ⓑ",null,null,null,{"$f":"IF(H19=\"\",\"\",H19)","v":""},null,null,null,null,null,null,null,null,"差引支払金額(Ⓒ-Ⓓ)"]
[null,null,null,null,null,null,null,{"$f":"IF(H20=\"\",\"\",H20)","v":0}]
[null,null,null,"合計金額Ⓒ",null,null,null,null,null,null,null,null,null,null,null,null,"支払決定金額",null,null,null,"小"]
[null,null,null,null,null,null,null,{"$f":"IF(H22=\"\",\"\",H22)","v":0},null,null,null,null,null,null,null,null,null,null,null,null,"約"]
[]
[null,"立替払い明細"]
[null,"月","日","支払先名",null,null,null,"品名",null,null,null,null,"数量",null,"単価",null,"金額",null,null,null,"消費税額",null,null,"税込金額Ⓓ"]
[]
[]
[]
[]
[null,"合計"]

{"sheet":"内訳明細書1枚目","index":2,"n_rows":84,"n_cols":32,"rows_kept":84,"cut":false,"hidden":false,"merged":[[46,3,46,11],[47,18,47,21],[47,15,47,17],[47,12,47,14],[46,12,46,14],[46,15,46,17],[46,18,46,21],[47,3,47,11],[44,18,44,21],[44,15,44,17],[45,3,45,11],[81,22,83,27],[78,22,78,23],[77,22,77,23],[76,22,76,23],[75,22,75,23],[74,22,74,23],[73,22,73,23],[72,22,72,23],[71,22,71,23],[80,24,80,27],[78,24,78,27],[74,24,74,27],[76,24,76,27],[77,24,77,27],[72,24,72,27],[79,24,79,27],[73,24,73,27],[74,3,74,11],[74,12,74,14],[74,15,74,17],[74,18,74,21],[73,3,73,11],[72,3,72,11],[72,12,72,14],[72,15,72,17],[72,18,72,21],[73,12,73,14],[73,15,73,17],[73,18,73,21],[43,22,43,23],[42,22,42,23],[44,24,44,27],[38,24,38,27],[52,15,52,17],[51,15,51,17],[50,15,50,17],[49,15,49,17],[52,18,52,21],[51,18,51,21],[50,18,50,21],[47,22,47,23],[40,22,40,23],[42,24,42,27],[44,22,44,23],[50,24,50,27],[47,24,47,27],[48,15,48,17],[48,18,48,21],[49,22,49,23],[48,22,48,23],[46,22,46,23],[46,24,46,27],[45,24,45,27],[22,24,22,27],[45,18,45,21],[45,15,45,17],[44,12,44,14],[45,22,45,23],[83,1,83,17],[83,18,83,21],[80,22,80,23],[79,22,79,23],[31,21,31,22],[59,21,59,22],[76,18,76,21],[77,12,77,14],[77,15,77,17],[77,18,77,21],[79,12,79,14],[79,15,79,17],[79,18,79,21],[82,1,82,17],[82,18,82,21],[80,3,80,11],[81,1,81,17],[81,18,81,21],[80,12,80,14],[0,4,0,7],[13,18,13,21],[13,15,13,17],[13,12,13,14],[12,18,12,21],[12,15,12,17],[12,12,12,14],[11,18,11,21],[11,15,11,17],[11,12,11,14],[1,4,1,7],[5,4,6,5],[5,6,6,6],[5,7,6,8],[2,4,2,7],[0,10,2,19],[2,21,2,22],[3,19,5,27],[12,3,12,11],[11,3,11,11],[11,24,11,27],[11,22,11,23],[12,22,12,23],[13,22,13,23],[80,15,80,17],[80,18,80,21],[77,3,77,11],[76,3,76,11],[76,12,76,14],[76,15,76,17],[79,3,79,11],[75,3,75,11],[75,24,75,27],[75,12,75,14],[75,15,75,17],[75,18,75,21],[78,3,78,11],[78,12,78,14],[78,15,78,17],[78,18,78,21],[70,24,70,27],[71,3,71,11],[71,24,71,27],[70,3,70,11],[70,12,70,14],[70,15,70,17],[70,18,70,21],[71,12,71,14],[71,15,71,17],[71,18,71,21],[70,22,70,23],[68,24,68,27],[69,3,69,11],[69,24,69,27],[68,3,68,11],[68,12,68,14],[68,15,68,17],[68,18,68,21],[69,12,69,14],[69,15,69,17],[69,18,69,21],[69,22,69,23],[68,22,68,23],[66,24,66,27],[64,17,64,18],[62,17,63,18],[60,17,61,18],[64,19,64,27],[60,1,60,2],[60,19,61,27],[67,3,67,11],[67,24,67,27],[66,3,66,11],[66,12,66,14],[66,15,66,17],[66,18,66,21],[67,12,67,14],[67,15,67,17],[67,18,67,21],[67,22,67,23],[66,22,66,23],[62,19,63,25],[62,26,63,27],[63,1,64,2],[61,1,62,3],[61,4,62,5],[61,6,62,6],[61,7,62,8],[63,3,64,12],[49,12,49,14],[58,6,59,7],[58,4,59,5],[57,6,57,7],[57,4,57,5],[57,10,59,19],[51,3,51,11],[54,1,54,17],[54,18,54,21],[55,1,55,17],[55,18,55,21],[52,3,52,11],[49,3,49,11],[52,12,52,14],[53,22,55,27],[53,1,53,17],[53,18,53,21],[51,22,51,23],[50,22,50,23],[49,24,49,27],[48,3,48,11],[50,3,50,11],[52,22,52,23],[49,18,49,21],[51,12,51,14],[50,12,50,14],[51,24,51,27],[52,24,52,27],[48,24,48,27],[48,12,48,14],[43,3,43,11],[43,24,43,27],[42,3,42,11],[43,18,43,21],[43,15,43,17],[43,12,43,14],[42,12,42,14],[45,12,45,14],[39,3,39,11],[39,24,39,27],[44,3,44,11],[40,24,40,27],[41,3,41,11],[41,24,41,27],[40,3,40,11],[40,18,40,21],[40,15,40,17],[40,12,40,14],[41,18,41,21],[41,15,41,17],[41,12,41,14],[41,22,41,23],[42,15,42,17],[42,18,42,21],[38,12,38,14],[38,18,38,21],[38,15,38,17],[39,12,39,14],[39,18,39,21],[39,15,39,17],[38,22,38,23],[39,22,39,23],[38,3,38,11],[24,24,24,27],[24,3,24,11],[26,18,26,21],[27,18,27,21],[27,1,27,17],[26,1,26,17],[29,4,29,5],[25,1,25,17],[24,12,24,14],[24,15,24,17],[24,18,24,21],[25,18,25,21],[32,19,33,27],[36,19,36,27],[34,26,35,27],[34,19,35,25],[25,22,27,27],[29,10,31,19],[30,6,31,7],[29,6,29,7],[30,4,31,5],[35,1,36,2],[35,3,36,12],[32,1,32,2],[33,1,34,3],[33,4,34,5],[33,6,34,6],[33,7,34,8],[36,17,36,18],[34,17,35,18],[32,17,33,18],[22,22,22,23],[23,22,23,23],[24,22,24,23],[23,24,23,27],[20,24,20,27],[21,3,21,11],[21,24,21,27],[20,3,20,11],[21,18,21,21],[21,15,21,17],[21,12,21,14],[20,18,20,21],[20,15,20,17],[20,12,20,14],[20,22,20,23],[21,22,21,23],[23,3,23,11],[22,3,22,11],[22,18,22,21],[22,15,22,17],[22,12,22,14],[23,18,23,21],[23,12,23,14],[23,15,23,17],[12,24,12,27],[13,3,13,11],[13,24,13,27],[19,24,19,27],[18,3,18,11],[19,18,19,21],[19,15,19,17],[19,12,19,14],[18,18,18,21],[18,15,18,17],[18,12,18,14],[18,22,18,23],[19,22,19,23],[18,24,18,27],[19,3,19,11],[14,22,14,23],[15,22,15,23],[14,24,14,27],[15,3,15,11],[15,24,15,27],[14,3,14,11],[15,18,15,21],[15,15,15,17],[16,24,16,27],[3,1,3,2],[10,24,10,27],[10,12,10,14],[10,15,10,17],[10,18,10,21],[7,1,8,2],[7,3,8,12],[5,1,6,3],[10,22,10,23],[6,26,7,27],[3,4,3,9],[10,3,10,11],[3,17,5,18],[6,17,7,18],[6,19,7,25],[8,17,8,18],[8,19,8,27],[15,12,15,14],[14,18,14,21],[14,15,14,17],[14,12,14,14],[17,3,17,11],[17,24,17,27],[16,3,16,11],[17,18,17,21],[17,15,17,17],[17,12,17,14],[16,18,16,21],[16,15,16,17],[16,12,16,14],[16,22,16,23],[17,22,17,23]]}
[null,null,null,null,"業者コード",null,null,null,null,null,"請求内訳明細書"]
[]
[null,null,null,null,"登録番号",null,null,null,null,null,null,null,null,null,null,null,null,null,null,null,"西暦",null,null,"年",null,"月",null,"日"]
[null,"(業者控)",null,null,null,null,null,null,null,null,null,null,null,null,null,null,null,"住所"]
[]
[null,"工事番号",null,null,null,null,"ー"]
[null,null,null,null,null,null,null,null,null,null,null,null,null,null,null,null,null,"会社名",null,null,null,null,null,null,null,null,"印"]
[null,"工事名"]
[null,null,null,null,null,null,null,null,null,null,null,null,null,null,null,null,null,"TEL"]
[]
[null,"月","日","品名／規格",null,null,null,null,null,null,null,null,"数量",null,null,"単価",null,null,"金額",null,null,null,"税率",null,"備考"]
[null,null,null,null,null,null,null,null,null,null,null,null,null,null,null,null,null,null,{"$f":"IF(ROUND(M12*P12,0)=0,\"\",ROUND(M12*P12,0))","v":""},null,null,null,null,null,null,null,null,null,{"$f":"IF(W12=\"\",内訳明細書1枚目!S12*0.1,内訳明細書1枚目!S12*内訳明細書1枚目!W12)","v":{"$error":"#VALUE!"}},null,null,"　"]
[null,null,null,null,null,null,null,null,null,null,null,null,null,null,null,null,null,null,{"$f":"IF(ROUND(M13*P13,0)=0,\"\",ROUND(M13*P13,0))","v":""},null,null,null,null,null,null,null,null,null,{"$f":"IF(W13=\"\",内訳明細書1枚目!S13*0.1,内訳明細書1枚目!S13*内訳明細書1枚目!W13)","v":{"$error":"#VALUE!"}}]
[null,null,null,null,null,null,null,null,null,null,null,null,null,null,null,null,null,null,"",null,null,null,null,null,null,null,null,null,{"$f":"IF(W14=\"\",内訳明細書1枚目!S14*0.1,内訳明細書1枚目!S14*内訳明細書1枚目!W14)","v":{"$error":"#VALUE!"}}]
[null,null,null,null,null,null,null,null,null,null,null,null,null,null,null,null,null,null,"",null,null,null,null,null,null,null,null,null,{"$f":"IF(W15=\"\",内訳明細書1枚目!S15*0.1,内訳明細書1枚目!S15*内訳明細書1枚目!W15)","v":{"$error":"#VALUE!"}}]
[null,null,null,null,null,null,null,null,null,null,null,null,null,null,null,null,null,null,"",null,null,null,null,null,null,null,null,null,{"$f":"IF(W16=\"\",内訳明細書1枚目!S16*0.1,内訳明細書1枚目!S16*内訳明細書1枚目!W16)","v":{"$error":"#VALUE!"}}]
[null,null,null,null,null,null,null,null,null,null,null,null,null,null,null,null,null,null,"",null,null,null,null,null,null,null,null,null,{"$f":"IF(W17=\"\",内訳明細書1枚目!S17*0.1,内訳明細書1枚目!S17*内訳明細書1枚目!W17)","v":{"$error":"#VALUE!"}}]
[null,null,null,null,null,null,null,null,null,null,null,null,null,null,null,null,null,null,"",null,null,null,null,null,null,null,null,null,{"$f":"IF(W18=\"\",内訳明細書1枚目!S18*0.1,内訳明細書1枚目!S18*内訳明細書1枚目!W18)","v":{"$error":"#VALUE!"}}]
[null,null,null,null,null,null,null,null,null,null,null,null,null,null,null,null,null,null,"",null,null,null,null,null,null,null,null,null,{"$f":"IF(W19=\"\",内訳明細書1枚目!S19*0.1,内訳明細書1枚目!S19*内訳明細書1枚目!W19)","v":{"$error":"#VALUE!"}}]
[null,null,null,null,null,null,null,null,null,null,null,null,null,null,null,null,null,null,"",null,null,null,null,null,null,null,null,null,{"$f":"IF(W20=\"\",内訳明細書1枚目!S20*0.1,内訳明細書1枚目!S20*内訳明細書1枚目!W20)","v":{"$error":"#VALUE!"}}]
[null,null,null,null,null,null,null,null,null,null,null,null,null,null,null,null,null,null,"",null,null,null,null,null,null,null,null,null,{"$f":"IF(W21=\"\",内訳明細書1枚目!S21*0.1,内訳明細書1枚目!S21*内訳明細書1枚目!W21)","v":{"$error":"#VALUE!"}}]
[null,null,null,null,null,null,null,null,null,null,null,null,null,null,null,null,null,null,"",null,null,null,null,null,null,null,null,null,{"$f":"IF(W22=\"\",内訳明細書1枚目!S22*0.1,内訳明細書1枚目!S22*内訳明細書1枚目!W22)","v":{"$error":"#VALUE!"}}]
[null,null,null,null,null,null,null,null,null,null,null,null,null,null,null,null,null,null,"",null,null,null,null,null,null,null,null,null,{"$f":"IF(W23=\"\",内訳明細書1枚目!S23*0.1,内訳明細書1枚目!S23*内訳明細書1枚目!W23)","v":{"$error":"#VALUE!"}}]
[null,null,null,null,null,null,null,null,null,null,null,null,null,null,null,null,null,null,"",null,null,null,null,null,null,null,null,null,{"$f":"IF(W24=\"\",内訳明細書1枚目!S24*0.1,内訳明細書1枚目!S24*内訳明細書1枚目!W24)","v":{"$error":"#VALUE!"}}]
[null,null,null,null,null,null,null,null,null,null,null,null,null,null,null,null,null,null,{"$f":"IF(ROUND(M25*P25,0)=0,\"\",ROUND(M25*P25,0))","v":""},null,null,null,null,null,null,null,null,null,{"$f":"IF(W25=\"\",内訳明細書1枚目!S25*0.1,内訳明細書1枚目!S25*内訳明細書1枚目!W25)","v":{"$error":"#VALUE!"}}]
[null,"小計Ⓐ(税抜)",null,null,null,null,null,null,null,null,null,null,null,null,null,null,null,null,{"$f":"IF(内訳明細書2枚目!S12=\"\",SUM(S12:V25),\"\")","v":0}]
[null,"消費税",null,null,null,null,null,null,null,null,null,null,null,null,null,null,null,null,{"$f":"IF(内訳明細書2枚目!S12=\"\",ROUND(_xlfn.AGGREGATE(9,6,AC12:AC25),0),\"\")","v":0}]
[null,"合計",null,null,null,null,null,null,null,null,null,null,null,null,null,null,null,null,{"$f":"IF(内訳明細書2枚目!S12=\"\",S26+S27,\"\")","v":0}]
[]
[null,null,null,null,"所属長",null,"担当",null,null,null,"請求内訳明細書"]
[]
[null,null,null,null,null,null,null,null,null,null,null,null,null,null,null,null,null,null,null,null,"西暦",{"$f":"IF(V3=\"\",\"\",V3)","v":""},null,"年",{"$f":"IF(Y3=\"\",\"\",Y3)","v":""},"月",{"$f":"IF(AA3=\"\",\"\",AA3)","v":""},"日"]
[null,"(現場控)",null,null,null,null,null,null,null,null,null,null,null,null,null,null,null,"住所",null,{"$f":"IF(T4=\"\",\"\",T4)","v":""}]
[null,"工事番号",null,null,{"$f":"IF(E6=\"\",\"\",E6)","v":""},null,"ー",{"$f":"IF(H6=\"\",\"\",H6)","v":""}]
[null,null,null,null,null,null,null,null,null,null,null,null,null,null,null,null,null,"会社名",null,{"$f":"IF(T7=\"\",\"\",T7)","v":""},null,null,null,null,null,null,"印"]
[null,"工事名",null,{"$f":"IF(D8=\"\",\"\",D8)","v":""}]
[null,null,null,null,null,null,null,null,null,null,null,null,null,null,null,null,null,"TEL",null,{"$f":"IF(T9=\"\",\"\",T9)","v":""}]
[]
[null,"月","日","品名／規格",null,null,null,null,null,null,null,null,"数量",null,null,"単価　",null,null,"金額",null,null,null,"税率",null,"備考"]
[null,{"$f":"IF(B12=\"\",\"\",B12)","v":""},{"$f":"IF(C12=\"\",\"\",C12)","v":""},{"$f":"IF(D12=\"\",\"\",D12)","v":""},null,null,null,null,null,null,null,null,{"$f":"IF(M12=\"\",\"\",M12)","v":""},null,null,{"$f":"IF(P12=\"\",\"\",P12)","v":""},null,null,{"$f":"IF(S12=\"\",\"\",S12)","v":""},null,null,null,{"$f":"IF(W12=\"\",\"\",W12)","v":""},null,{"$f":"IF(Y12=\"\",\"\",Y12)","v":""}]
[null,{"$f":"IF(B13=\"\",\"\",B13)","v":""},"","",null,null,null,null,null,null,null,null,{"$f":"IF(M13=\"\",\"\",M13)","v":""},null,null,{"$f":"IF(P13=\"\",\"\",P13)","v":""},null,null,{"$f":"IF(S13=\"\",\"\",S13)","v":""},null,null,null,{"$f":"IF(W13=\"\",\"\",W13)","v":""},null,{"$f":"IF(Y13=\"\",\"\",Y13)","v":""}]
[null,"","","",null,null,null,null,null,null,null,null,"",null,null,"",null,null,"",null,null,null,"",null,""]
[null,"","","",null,null,null,null,null,null,null,null,"",null,null,"",null,null,"",null,null,null,"",null,""]
[null,"","","",null,null,null,null,null,null,null,null,"",null,null,"",null,null,"",null,null,null,"",null,""]
[null,"","","",null,null,null,null,null,null,null,null,"",null,null,"",null,null,"",null,null,null,"",null,""]
[null,"","","",null,null,null,null,null,null,null,null,"",null,null,"",null,null,"",null,null,null,"",null,""]
[null,"","","",null,null,null,null,null,null,null,null,"",null,null,"",null,null,"",null,null,null,"",null,""]
[null,"","","",null,null,null,null,null,null,null,null,"",null,null,"",null,null,"",null,null,null,"",null,""]
[null,"","","",null,null,null,null,null,null,null,null,"",null,null,"",null,null,"",null,null,null,"",null,""]
[null,"","","",null,null,null,null,null,null,null,null,"",null,null,"",null,null,"",null,null,null,"",null,""]
[null,"","","",null,null,null,null,null,null,null,null,"",null,null,"",null,null,"",null,null,null,"",null,""]
[null,"","","",null,null,null,null,null,null,null,null,"",null,null,"",null,null,"",null,null,null,"",null,""]
[null,"","","",null,null,null,null,null,null,null,null,"",null,null,"",null,null,"",null,null,null,"",null,""]
[null,"小計Ⓐ(税抜)",null,null,null,null,null,null,null,null,null,null,null,null,null,null,null,null,{"$f":"IF(S26=\"\",\"\",S26)","v":0}]
[null,"消費税",null,null,null,null,null,null,null,null,null,null,null,null,null,null,null,null,{"$f":"IF(S27=\"\",\"\",S27)","v":0}]
[null,"合計",null,null,null,null,null,null,null,null,null,null,null,null,null,null,null,null,{"$f":"IF(S28=\"\",\"\",S28)","v":0}]
[]
[null,null,null,null,"所属長",null,"担当",null,null,null,"請求内訳明細書"]
[]
[null,null,null,null,null,null,null,null,null,null,null,null,null,null,null,null,null,null,null,null,"西暦",{"$f":"IF(V3=\"\",\"\",V3)","v":""},null,"年",{"$f":"IF(Y3=\"\",\"\",Y3)","v":""},"月",{"$f":"IF(AA3=\"\",\"\",AA3)","v":""},"日"]
[null,"(経理控)",null,null,null,null,null,null,null,null,null,null,null,null,null,null,null,"住所",null,{"$f":"IF(T4=\"\",\"\",T4)","v":""}]
[null,"工事番号",null,null,{"$f":"IF(E6=\"\",\"\",E6)","v":""},null,"ー",{"$f":"IF(H6=\"\",\"\",H6)","v":""}]
[null,null,null,null,null,null,null,null,null,null,null,null,null,null,null,null,null,"会社名",null,{"$f":"IF(T7=\"\",\"\",T7)","v":""},null,null,null,null,null,null,"印"]
[null,"工事名",null,{"$f":"IF(D8=\"\",\"\",D8)","v":""}]
[null,null,null,null,null,null,null,null,null,null,null,null,null,null,null,null,null,"TEL",null,{"$f":"IF(T9=\"\",\"\",T9)","v":""}]
[]
[null,"月","日","品名／規格",null,null,null,null,null,null,null,null,"数量",null,null,"単価　",null,null,"金額",null,null,null,"税率",null,"備考"]
[null,{"$f":"IF(B12=\"\",\"\",B12)","v":""},{"$f":"IF(C12=\"\",\"\",C12)","v":""},{"$f":"IF(D12=\"\",\"\",D12)","v":""},null,null,null,null,null,null,null,null,{"$f":"IF(M12=\"\",\"\",M12)","v":""},null,null,{"$f":"IF(P12=\"\",\"\",P12)","v":""},null,null,{"$f":"IF(S12=\"\",\"\",S12)","v":""},null,null,null,{"$f":"IF(W12=\"\",\"\",W12)","v":""},null,{"$f":"IF(Y12=\"\",\"\",Y12)","v":""}]
[null,{"$f":"IF(B13=\"\",\"\",B13)","v":""},"",{"$f":"IF(D13=\"\",\"\",D13)","v":""},null,null,null,null,null,null,null,null,{"$f":"IF(M13=\"\",\"\",M13)","v":""},null,null,{"$f":"IF(P13=\"\",\"\",P13)","v":""},null,null,{"$f":"IF(S13=\"\",\"\",S13)","v":""},null,null,null,{"$f":"IF(W13=\"\",\"\",W13)","v":""},null,{"$f":"IF(Y13=\"\",\"\",Y13)","v":""}]
[null,"","","",null,null,null,null,null,null,null,null,"",null,null,"",null,null,"",null,null,null,"",null,""]
[null,"","","",null,null,null,null,null,null,null,null,"",null,null,"",null,null,"",null,null,null,"",null,""]
[null,"","","",null,null,null,null,null,null,null,null,"",null,null,"",null,null,"",null,null,null,"",null,""]
[null,"","","",null,null,null,null,null,null,null,null,"",null,null,"",null,null,"",null,null,null,"",null,""]
[null,"","","",null,null,null,null,null,null,null,null,"",null,null,"",null,null,"",null,null,null,"",null,""]
[null,"","","",null,null,null,null,null,null,null,null,"",null,null,"",null,null,"",null,null,null,"",null,""]
[null,"","","",null,null,null,null,null,null,null,null,"",null,null,"",null,null,"",null,null,null,"",null,""]
[null,"","","",null,null,null,null,null,null,null,null,"",null,null,"",null,null,"",null,null,null,"",null,""]
[null,"","","",null,null,null,null,null,null,null,null,"",null,null,"",null,null,"",null,null,null,"",null,""]
[null,"","","",null,null,null,null,null,null,null,null,"",null,null,"",null,null,"",null,null,null,"",null,""]
[null,"","","",null,null,null,null,null,null,null,null,"",null,null,"",null,null,"",null,null,null,"",null,""]
[null,"","","",null,null,null,null,null,null,null,null,"",null,null,"",null,null,"",null,null,null,"",null,""]
[null,"小計Ⓐ(税抜)",null,null,null,null,null,null,null,null,null,null,null,null,null,null,null,null,{"$f":"IF(S26=\"\",\"\",S26)","v":0}]
[null,"消費税",null,null,null,null,null,null,null,null,null,null,null,null,null,null,null,null,{"$f":"IF(S27=\"\",\"\",S27)","v":0}]
[null,"合計",null,null,null,null,null,null,null,null,null,null,null,null,null,null,null,null,{"$f":"IF(S28=\"\",\"\",S28)","v":0}]

{"sheet":"内訳明細書2枚目","index":3,"n_rows":84,"n_cols":32,"rows_kept":84,"cut":false,"hidden":true,"merged":[[81,22,83,27],[24,22,24,23],[23,22,23,23],[22,22,22,23],[21,22,21,23],[20,22,20,23],[19,22,19,23],[18,22,18,23],[17,22,17,23],[59,21,59,22],[78,22,78,23],[77,22,77,23],[76,22,76,23],[75,22,75,23],[74,22,74,23],[73,22,73,23],[72,22,72,23],[71,22,71,23],[70,22,70,23],[80,24,80,27],[74,24,74,27],[72,24,72,27],[70,24,70,27],[68,24,68,27],[38,22,38,23],[52,22,52,23],[51,22,51,23],[50,22,50,23],[49,22,49,23],[48,22,48,23],[47,22,47,23],[46,22,46,23],[45,22,45,23],[44,22,44,23],[43,22,43,23],[42,22,42,23],[41,22,41,23],[40,22,40,23],[39,22,39,23],[0,4,0,7],[13,18,13,21],[13,15,13,17],[13,12,13,14],[12,18,12,21],[12,15,12,17],[12,12,12,14],[11,18,11,21],[11,15,11,17],[11,12,11,14],[1,4,1,7],[5,4,6,5],[5,7,6,8],[5,6,6,6],[2,21,2,22],[2,4,2,7],[0,10,2,19],[83,1,83,17],[83,18,83,21],[80,22,80,23],[79,22,79,23],[76,24,76,27],[77,3,77,11],[77,24,77,27],[76,3,76,11],[76,12,76,14],[76,15,76,17],[76,18,76,21],[77,12,77,14],[77,15,77,17],[77,18,77,21],[80,3,80,11],[81,1,81,17],[81,18,81,21],[80,12,80,14],[80,15,80,17],[80,18,80,21],[78,24,78,27],[79,3,79,11],[79,24,79,27],[78,3,78,11],[71,12,71,14],[71,15,71,17],[71,18,71,21],[72,3,72,11],[72,12,72,14],[72,15,72,17],[72,18,72,21],[82,1,82,17],[82,18,82,21],[78,12,78,14],[78,15,78,17],[78,18,78,21],[79,12,79,14],[79,15,79,17],[79,18,79,21],[75,3,75,11],[75,24,75,27],[74,3,74,11],[74,12,74,14],[74,15,74,17],[74,18,74,21],[75,12,75,14],[75,15,75,17],[75,18,75,21],[73,3,73,11],[73,24,73,27],[69,12,69,14],[69,15,69,17],[69,18,69,21],[69,22,69,23],[73,12,73,14],[73,15,73,17],[73,18,73,21],[71,3,71,11],[60,17,61,18],[68,22,68,23],[70,3,70,11],[70,12,70,14],[70,15,70,17],[70,18,70,21],[64,19,64,27],[60,19,61,27],[64,17,64,18],[62,17,63,18],[69,3,69,11],[69,24,69,27],[68,3,68,11],[68,12,68,14],[68,15,68,17],[71,24,71,27],[68,18,68,21],[66,24,66,27],[67,3,67,11],[67,24,67,27],[66,3,66,11],[66,12,66,14],[66,15,66,17],[66,18,66,21],[67,12,67,14],[67,15,67,17],[67,18,67,21],[67,22,67,23],[66,22,66,23],[58,6,59,7],[58,4,59,5],[57,6,57,7],[57,4,57,5],[63,1,64,2],[61,1,62,3],[61,4,62,5],[61,6,62,6],[61,7,62,8],[63,3,64,12],[60,1,60,2],[51,3,51,11],[51,24,51,27],[50,3,50,11],[51,18,51,21],[51,15,51,17],[51,12,51,14],[50,18,50,21],[50,15,50,17],[50,12,50,14],[54,1,54,17],[54,18,54,21],[55,1,55,17],[55,18,55,21],[53,22,55,27],[57,10,59,19],[48,24,48,27],[49,3,49,11],[49,24,49,27],[48,3,48,11],[49,15,49,17],[49,12,49,14],[48,12,48,14],[48,15,48,17],[49,18,49,21],[48,18,48,21],[52,24,52,27],[52,3,52,11],[53,1,53,17],[53,18,53,21],[52,12,52,14],[52,15,52,17],[52,18,52,21],[50,24,50,27],[46,24,46,27],[47,3,47,11],[47,24,47,27],[46,3,46,11],[47,18,47,21],[47,15,47,17],[47,12,47,14],[46,12,46,14],[46,15,46,17],[46,18,46,21],[40,18,40,21],[40,15,40,17],[40,12,40,14],[43,18,43,21],[43,15,43,17],[43,12,43,14],[44,24,44,27],[45,3,45,11],[45,24,45,27],[44,3,44,11],[45,18,45,21],[45,15,45,17],[45,12,45,14],[44,18,44,21],[44,15,44,17],[44,12,44,14],[41,18,41,21],[41,15,41,17],[41,12,41,14],[42,12,42,14],[42,15,42,17],[42,18,42,21],[32,19,33,27],[36,17,36,18],[34,17,35,18],[32,17,33,18],[34,26,35,27],[34,19,35,25],[30,6,31,7],[42,24,42,27],[43,3,43,11],[43,24,43,27],[42,3,42,11],[38,24,38,27],[39,3,39,11],[39,24,39,27],[40,24,40,27],[41,3,41,11],[41,24,41,27],[40,3,40,11],[38,18,38,21],[38,15,38,17],[38,12,38,14],[39,12,39,14],[39,18,39,21],[39,15,39,17],[38,3,38,11],[25,22,27,27],[31,21,31,22],[29,10,31,19],[23,18,23,21],[25,1,25,17],[26,1,26,17],[27,1,27,17],[23,3,23,11],[27,18,27,21],[26,18,26,21],[25,18,25,21],[24,18,24,21],[29,4,29,5],[30,4,31,5],[29,6,29,7],[32,1,32,2],[33,1,34,3],[33,4,34,5],[33,6,34,6],[33,7,34,8],[35,1,36,2],[35,3,36,12],[36,19,36,27],[3,1,3,2],[10,24,10,27],[10,12,10,14],[10,15,10,17],[10,18,10,21],[7,1,8,2],[7,3,8,12],[5,1,6,3],[12,24,12,27],[6,26,7,27],[3,4,3,9],[10,3,10,11],[3,19,5,27],[3,17,5,18],[6,17,7,18],[6,19,7,25],[8,17,8,18],[8,19,8,27],[10,22,10,23],[14,12,14,14],[16,24,16,27],[13,24,13,27],[12,3,12,11],[11,3,11,11],[11,24,11,27],[14,24,14,27],[15,3,15,11],[15,24,15,27],[14,3,14,11],[15,18,15,21],[15,15,15,17],[15,12,15,14],[13,3,13,11],[16,22,16,23],[15,22,15,23],[14,22,14,23],[13,22,13,23],[12,22,12,23],[11,22,11,23],[14,18,14,21],[14,15,14,17],[62,19,63,25],[62,26,63,27],[19,3,19,11],[19,24,19,27],[18,3,18,11],[19,18,19,21],[19,15,19,17],[19,12,19,14],[18,18,18,21],[18,15,18,17],[22,24,22,27],[24,3,24,11],[24,24,24,27],[22,3,22,11],[24,15,24,17],[24,12,24,14],[23,12,23,14],[23,15,23,17],[21,24,21,27],[20,3,20,11],[21,18,21,21],[21,15,21,17],[21,12,21,14],[20,18,20,21],[22,18,22,21],[22,15,22,17],[22,12,22,14],[23,24,23,27],[20,24,20,27],[21,3,21,11],[17,3,17,11],[17,24,17,27],[16,3,16,11],[17,18,17,21],[18,12,18,14],[18,24,18,27],[17,15,17,17],[17,12,17,14],[16,18,16,21],[16,15,16,17],[16,12,16,14],[20,15,20,17],[20,12,20,14]]}
[null,null,null,null,"業者コード",null,null,null,null,null,"請求内訳明細書"]
[null,null,null,null,{"$f":"IF(内訳明細書1枚目!E2=\"\",\"\",内訳明細書1枚目!E2)","v":""}]
[null,null,null,null,"登録番号",null,null,null,null,null,null,null,null,null,null,null,null,null,null,null,"西暦",{"$f":"IF(内訳明細書1枚目!V3=\"\",\"\",内訳明細書1枚目!V3)","v":""},null,"年",{"$f":"IF(内訳明細書1枚目!Y3=\"\",\"\",内訳明細書1枚目!Y3)","v":""},"月",{"$f":"IF(内訳明細書1枚目!AA3=\"\",\"\",内訳明細書1枚目!AA3)","v":""},"日"]
[null,"(業者控)",null,null,{"$f":"IF(内訳明細書1枚目!E4=\"\",\"\",内訳明細書1枚目!E4)","v":""},null,null,null,null,null,null,null,null,null,null,null,null,"住所",null,{"$f":"IF(内訳明細書1枚目!T4=\"\",\"\",内訳明細書1枚目!T4)","v":""}]
[]
[null,"工事番号",null,null,{"$f":"IF(内訳明細書1枚目!E6=\"\",\"\",内訳明細書1枚目!E6)","v":""},null,"ー",{"$f":"IF(内訳明細書1枚目!H6=\"\",\"\",内訳明細書1枚目!H6)","v":""}]
[null,null,null,null,null,null,null,null,null,null,null,null,null,null,null,null,null,"会社名",null,{"$f":"IF(内訳明細書1枚目!T7=\"\",\"\",内訳明細書1枚目!T7)","v":""},null,null,null,null,null,null,"印"]
[null,"工事名",null,{"$f":"IF(内訳明細書1枚目!D8=\"\",\"\",内訳明細書1枚目!D8)","v":""}]
[null,null,null,null,null,null,null,null,null,null,null,null,null,null,null,null,{"$f":"IF(内訳明細書1枚目!Q9=\"\",\"\",内訳明細書1枚目!Q9)","v":""},"TEL",null,{"$f":"IF(内訳明細書1枚目!T9=\"\",\"\",内訳明細書1枚目!T9)","v":""}]
[]
[null,"月","日","品名／規格",null,null,null,null,null,null,null,null,"数量",null,null,"単価",null,null,"金額",null,null,null,"税率",null,"備考"]
[null,null,null,null,null,null,null,null,null,null,null,null,null,null,null,null,null,null,{"$f":"IF(ROUND(M12*P12,0)=0,\"\",ROUND(M12*P12,0))","v":""},null,null,null,null,null,null,null,null,null,{"$f":"IF(W12=\"\",内訳明細書2枚目!S12*0.1,内訳明細書2枚目!S12*内訳明細書2枚目!W12)","v":{"$error":"#VALUE!"}},null,null,"　"]
[null,null,null,null,null,null,null,null,null,null,null,null,null,null,null,null,null,null,{"$f":"IF(ROUND(M13*P13,0)=0,\"\",ROUND(M13*P13,0))","v":""},null,null,null,null,null,null,null,null,null,{"$f":"IF(W13=\"\",内訳明細書2枚目!S13*0.1,内訳明細書2枚目!S13*内訳明細書2枚目!W13)","v":{"$error":"#VALUE!"}}]
[null,null,null,null,null,null,null,null,null,null,null,null,null,null,null,null,null,null,"",null,null,null,null,null,null,null,null,null,{"$f":"IF(W14=\"\",内訳明細書2枚目!S14*0.1,内訳明細書2枚目!S14*内訳明細書2枚目!W14)","v":{"$error":"#VALUE!"}}]
[null,null,null,null,null,null,null,null,null,null,null,null,null,null,null,null,null,null,"",null,null,null,null,null,null,null,null,null,{"$f":"IF(W15=\"\",内訳明細書2枚目!S15*0.1,内訳明細書2枚目!S15*内訳明細書2枚目!W15)","v":{"$error":"#VALUE!"}}]
[null,null,null,null,null,null,null,null,null,null,null,null,null,null,null,null,null,null,"",null,null,null,null,null,null,null,null,null,{"$f":"IF(W16=\"\",内訳明細書2枚目!S16*0.1,内訳明細書2枚目!S16*内訳明細書2枚目!W16)","v":{"$error":"#VALUE!"}}]
[null,null,null,null,null,null,null,null,null,null,null,null,null,null,null,null,null,null,"",null,null,null,null,null,null,null,null,null,{"$f":"IF(W17=\"\",内訳明細書2枚目!S17*0.1,内訳明細書2枚目!S17*内訳明細書2枚目!W17)","v":{"$error":"#VALUE!"}}]
[null,null,null,null,null,null,null,null,null,null,null,null,null,null,null,null,null,null,"",null,null,null,null,null,null,null,null,null,{"$f":"IF(W18=\"\",内訳明細書2枚目!S18*0.1,内訳明細書2枚目!S18*内訳明細書2枚目!W18)","v":{"$error":"#VALUE!"}}]
[null,null,null,null,null,null,null,null,null,null,null,null,null,null,null,null,null,null,"",null,null,null,null,null,null,null,null,null,{"$f":"IF(W19=\"\",内訳明細書2枚目!S19*0.1,内訳明細書2枚目!S19*内訳明細書2枚目!W19)","v":{"$error":"#VALUE!"}}]
[null,null,null,null,null,null,null,null,null,null,null,null,null,null,null,null,null,null,"",null,null,null,null,null,null,null,null,null,{"$f":"IF(W20=\"\",内訳明細書2枚目!S20*0.1,内訳明細書2枚目!S20*内訳明細書2枚目!W20)","v":{"$error":"#VALUE!"}}]
[null,null,null,null,null,null,null,null,null,null,null,null,null,null,null,null,null,null,"",null,null,null,null,null,null,null,null,null,{"$f":"IF(W21=\"\",内訳明細書2枚目!S21*0.1,内訳明細書2枚目!S21*内訳明細書2枚目!W21)","v":{"$error":"#VALUE!"}}]
[null,null,null,null,null,null,null,null,null,null,null,null,null,null,null,null,null,null,"",null,null,null,null,null,null,null,null,null,{"$f":"IF(W22=\"\",内訳明細書2枚目!S22*0.1,内訳明細書2枚目!S22*内訳明細書2枚目!W22)","v":{"$error":"#VALUE!"}}]
[null,null,null,null,null,null,null,null,null,null,null,null,null,null,null,null,null,null,"",null,null,null,null,null,null,null,null,null,{"$f":"IF(W23=\"\",内訳明細書2枚目!S23*0.1,内訳明細書2枚目!S23*内訳明細書2枚目!W23)","v":{"$error":"#VALUE!"}}]
[null,null,null,null,null,null,null,null,null,null,null,null,null,null,null,null,null,null,"",null,null,null,null,null,null,null,null,null,{"$f":"IF(W24=\"\",内訳明細書2枚目!S24*0.1,内訳明細書2枚目!S24*内訳明細書2枚目!W24)","v":{"$error":"#VALUE!"}}]
[null,null,null,null,null,null,null,null,null,null,null,null,null,null,null,null,null,null,"",null,null,null,null,null,null,null,null,null,{"$f":"IF(W25=\"\",内訳明細書2枚目!S25*0.1,内訳明細書2枚目!S25*内訳明細書2枚目!W25)","v":{"$error":"#VALUE!"}}]
[null,"小計Ⓐ(税抜)",null,null,null,null,null,null,null,null,null,null,null,null,null,null,null,null,{"$f":"IF(内訳明細書3枚目!S12=\"\",SUM(内訳明細書1枚目!S12:V25,S12:V25),\"\")","v":0}]
[null,"消費税",null,null,null,null,null,null,null,null,null,null,null,null,null,null,null,null,{"$f":"ROUND(_xlfn.AGGREGATE(9,6,内訳明細書1枚目!AC12:AC25,内訳明細書2枚目!AC12:AC25,内訳明細書3枚目!AC12:AC25,内訳明細書4枚目!AC12:AC25,内訳明細書5枚目!AC12:AC25,内訳明細書6枚目!AC12:AC25,内訳明細書7枚目!AC12:AC25,内訳明細書8枚目!AC12:AC25,内訳明細書9枚目!AC12:AC25,AC12:AC25),0)","v":0}]
[null,"合計(1枚目-2枚目)",null,null,null,null,null,null,null,null,null,null,null,null,null,null,null,null,{"$f":"IF(内訳明細書3枚目!S12=\"\",_xlfn.AGGREGATE(9,6,内訳明細書1枚目!S12:V25,内訳明細書1枚目!AC12:AC25,S12:V25,AC12:AC25),\"\")","v":0}]
[]
[null,null,null,null,"所属長",null,"担当",null,null,null,"請求内訳明細書"]
[]
[null,null,null,null,null,null,null,null,null,null,null,null,null,null,null,null,null,null,null,null,"西暦",{"$f":"IF(V3=\"\",\"\",V3)","v":""},null,"年",{"$f":"IF(Y3=\"\",\"\",Y3)","v":""},"月",{"$f":"IF(AA3=\"\",\"\",AA3)","v":""},"日"]
[null,"(現場控)",null,null,null,null,null,null,null,null,null,null,null,null,null,null,null,"住所",null,{"$f":"IF(T4=\"\",\"\",T4)","v":""}]
[null,"工事番号",null,null,{"$f":"IF(E6=\"\",\"\",E6)","v":""},null,"ー",{"$f":"IF(H6=\"\",\"\",H6)","v":""}]
[null,null,null,null,null,null,null,null,null,null,null,null,null,null,null,null,null,"会社名",null,{"$f":"IF(T7=\"\",\"\",T7)","v":""},null,null,null,null,null,null,"印"]
[null,"工事名",null,{"$f":"IF(D8=\"\",\"\",D8)","v":""}]
[null,null,null,null,null,null,null,null,null,null,null,null,null,null,null,null,null,"TEL",null,{"$f":"IF(T9=\"\",\"\",T9)","v":""}]
[]
[null,"月","日","品名／規格",null,null,null,null,null,null,null,null,"数量",null,null,"単価　",null,null,"金額",null,null,null,"税率",null,"備考"]
[null,{"$f":"IF(B12=\"\",\"\",B12)","v":""},{"$f":"IF(C12=\"\",\"\",C12)","v":""},{"$f":"IF(D12=\"\",\"\",D12)","v":""},null,null,null,null,null,null,null,null,{"$f":"IF(M12=\"\",\"\",M12)","v":""},null,null,{"$f":"IF(P12=\"\",\"\",P12)","v":""},null,null,{"$f":"IF(S12=\"\",\"\",S12)","v":""},null,null,null,{"$f":"IF(W12=\"\",\"\",W12)","v":""},null,{"$f":"IF(Y12=\"\",\"\",Y12)","v":""}]
[null,{"$f":"IF(B13=\"\",\"\",B13)","v":""},"",{"$f":"IF(D13=\"\",\"\",D13)","v":""},null,null,null,null,null,null,null,null,{"$f":"IF(M13=\"\",\"\",M13)","v":""},null,null,{"$f":"IF(P13=\"\",\"\",P13)","v":""},null,null,{"$f":"IF(S13=\"\",\"\",S13)","v":""},null,null,null,{"$f":"IF(W13=\"\",\"\",W13)","v":""},null,{"$f":"IF(Y13=\"\",\"\",Y13)","v":""}]
[null,"","","",null,null,null,null,null,null,null,null,"",null,null,"",null,null,"",null,null,null,"",null,""]
[null,"","","",null,null,null,null,null,null,null,null,"",null,null,"",null,null,"",null,null,null,"",null,""]
[null,"","","",null,null,null,null,null,null,null,null,"",null,null,"",null,null,"",null,null,null,"",null,""]
[null,"","","",null,null,null,null,null,null,null,null,"",null,null,"",null,null,"",null,null,null,"",null,""]
[null,"","","",null,null,null,null,null,null,null,null,"",null,null,"",null,null,"",null,null,null,"",null,""]
[null,"","","",null,null,null,null,null,null,null,null,"",null,null,"",null,null,"",null,null,null,"",null,""]
[null,"","","",null,null,null,null,null,null,null,null,"",null,null,"",null,null,"",null,null,null,"",null,""]
[null,"","","",null,null,null,null,null,null,null,null,"",null,null,"",null,null,"",null,null,null,"",null,""]
[null,"","","",null,null,null,null,null,null,null,null,"",null,null,"",null,null,"",null,null,null,"",null,""]
[null,"","","",null,null,null,null,null,null,null,null,"",null,null,"",null,null,"",null,null,null,"",null,""]
[null,"","","",null,null,null,null,null,null,null,null,"",null,null,"",null,null,"",null,null,null,"",null,""]
[null,"","","",null,null,null,null,null,null,null,null,"",null,null,"",null,null,"",null,null,null,"",null,""]
[null,"小計Ⓐ(税抜)",null,null,null,null,null,null,null,null,null,null,null,null,null,null,null,null,{"$f":"IF(S26=\"\",\"\",S26)","v":0}]
[null,"消費税",null,null,null,null,null,null,null,null,null,null,null,null,null,null,null,null,{"$f":"IF(S27=\"\",\"\",S27)","v":0}]
[null,"合計(1枚目-2枚目)",null,null,null,null,null,null,null,null,null,null,null,null,null,null,null,null,{"$f":"IF(S28=\"\",\"\",S28)","v":0}]
[]
[null,null,null,null,"所属長",null,"担当",null,null,null,"請求内訳明細書"]
[]
[null,null,null,null,null,null,null,null,null,null,null,null,null,null,null,null,null,null,null,null,"西暦",{"$f":"IF(V3=\"\",\"\",V3)","v":""},null,"年",{"$f":"IF(Y3=\"\",\"\",Y3)","v":""},"月",{"$f":"IF(AA3=\"\",\"\",AA3)","v":""},"日"]
[null,"(経理控)",null,null,null,null,null,null,null,null,null,null,null,null,null,null,null,"住所",null,{"$f":"IF(T4=\"\",\"\",T4)","v":""}]
[null,"工事番号",null,null,{"$f":"IF(E6=\"\",\"\",E6)","v":""},null,"ー",{"$f":"IF(H6=\"\",\"\",H6)","v":""}]
[null,null,null,null,null,null,null,null,null,null,null,null,null,null,null,null,null,"会社名",null,{"$f":"IF(T7=\"\",\"\",T7)","v":""},null,null,null,null,null,null,"印"]
[null,"工事名",null,{"$f":"IF(D8=\"\",\"\",D8)","v":""}]
[null,null,null,null,null,null,null,null,null,null,null,null,null,null,null,null,null,"TEL",null,{"$f":"IF(T9=\"\",\"\",T9)","v":""}]
[]
[null,"月","日","品名／規格",null,null,null,null,null,null,null,null,"数量",null,null,"単価　",null,null,"金額",null,null,null,"税率",null,"備考"]
[null,{"$f":"IF(B12=\"\",\"\",B12)","v":""},{"$f":"IF(C12=\"\",\"\",C12)","v":""},{"$f":"IF(D12=\"\",\"\",D12)","v":""},null,null,null,null,null,null,null,null,{"$f":"IF(M12=\"\",\"\",M12)","v":""},null,null,{"$f":"IF(P12=\"\",\"\",P12)","v":""},null,null,{"$f":"IF(S12=\"\",\"\",S12)","v":""},null,null,null,{"$f":"IF(W12=\"\",\"\",W12)","v":""},null,{"$f":"IF(Y12=\"\",\"\",Y12)","v":""}]
[null,{"$f":"IF(B13=\"\",\"\",B13)","v":""},{"$f":"IF(C13=\"\",\"\",C13)","v":""},{"$f":"IF(D13=\"\",\"\",D13)","v":""},null,null,null,null,null,null,null,null,{"$f":"IF(M13=\"\",\"\",M13)","v":""},null,null,{"$f":"IF(P13=\"\",\"\",P13)","v":""},null,null,{"$f":"IF(S13=\"\",\"\",S13)","v":""},null,null,null,{"$f":"IF(W13=\"\",\"\",W13)","v":""},null,{"$f":"IF(Y13=\"\",\"\",Y13)","v":""}]
[null,"","","",null,null,null,null,null,null,null,null,"",null,null,"",null,null,"",null,null,null,"",null,""]
[null,"","","",null,null,null,null,null,null,null,null,"",null,null,"",null,null,"",null,null,null,"",null,""]
[null,"","","",null,null,null,null,null,null,null,null,"",null,null,"",null,null,"",null,null,null,"",null,""]
[null,"","","",null,null,null,null,null,null,null,null,"",null,null,"",null,null,"",null,null,null,"",null,""]
[null,"","","",null,null,null,null,null,null,null,null,"",null,null,"",null,null,"",null,null,null,"",null,""]
[null,"","","",null,null,null,null,null,null,null,null,"",null,null,"",null,null,"",null,null,null,"",null,""]
[null,"","","",null,null,null,null,null,null,null,null,"",null,null,"",null,null,"",null,null,null,"",null,""]
[null,"","","",null,null,null,null,null,null,null,null,"",null,null,"",null,null,"",null,null,null,"",null,""]
[null,"","","",null,null,null,null,null,null,null,null,"",null,null,"",null,null,"",null,null,null,"",null,""]
[null,"","","",null,null,null,null,null,null,null,null,"",null,null,"",null,null,"",null,null,null,"",null,""]
[null,"","","",null,null,null,null,null,null,null,null,"",null,null,"",null,null,"",null,null,null,"",null,""]
[null,"","","",null,null,null,null,null,null,null,null,"",null,null,"",null,null,"",null,null,null,"",null,""]
[null,"小計Ⓐ(税抜)",null,null,null,null,null,null,null,null,null,null,null,null,null,null,null,null,{"$f":"IF(S26=\"\",\"\",S26)","v":0}]
[null,"消費税",null,null,null,null,null,null,null,null,null,null,null,null,null,null,null,null,{"$f":"IF(S27=\"\",\"\",S27)","v":0}]
[null,"合計(1枚目-2枚目)",null,null,null,null,null,null,null,null,null,null,null,null,null,null,null,null,{"$f":"IF(S28=\"\",\"\",S28)","v":0}]

{"sheet":"内訳明細書3枚目","index":4,"n_rows":84,"n_cols":32,"rows_kept":84,"cut":false,"hidden":true,"merged":[[81,22,83,27],[24,22,24,23],[23,22,23,23],[22,22,22,23],[21,22,21,23],[20,22,20,23],[19,22,19,23],[18,22,18,23],[17,22,17,23],[59,21,59,22],[78,22,78,23],[77,22,77,23],[76,22,76,23],[75,22,75,23],[74,22,74,23],[73,22,73,23],[72,22,72,23],[71,22,71,23],[70,22,70,23],[80,24,80,27],[74,24,74,27],[72,24,72,27],[70,24,70,27],[68,24,68,27],[42,15,42,17],[42,18,42,21],[41,18,41,21],[41,15,41,17],[41,12,41,14],[38,22,38,23],[52,22,52,23],[51,22,51,23],[50,22,50,23],[49,22,49,23],[48,22,48,23],[47,22,47,23],[46,22,46,23],[45,22,45,23],[44,22,44,23],[43,22,43,23],[42,22,42,23],[41,22,41,23],[40,22,40,23],[39,22,39,23],[0,4,0,7],[13,18,13,21],[13,15,13,17],[13,12,13,14],[12,18,12,21],[12,15,12,17],[12,12,12,14],[11,18,11,21],[11,15,11,17],[11,12,11,14],[1,4,1,7],[5,4,6,5],[5,7,6,8],[5,6,6,6],[2,21,2,22],[2,4,2,7],[0,10,2,19],[83,1,83,17],[83,18,83,21],[80,22,80,23],[79,22,79,23],[76,24,76,27],[77,3,77,11],[77,24,77,27],[76,3,76,11],[76,12,76,14],[76,15,76,17],[76,18,76,21],[77,12,77,14],[77,15,77,17],[77,18,77,21],[80,3,80,11],[81,1,81,17],[81,18,81,21],[80,12,80,14],[80,15,80,17],[80,18,80,21],[78,24,78,27],[79,3,79,11],[79,24,79,27],[78,3,78,11],[71,12,71,14],[71,15,71,17],[71,18,71,21],[72,3,72,11],[72,12,72,14],[72,15,72,17],[72,18,72,21],[82,1,82,17],[82,18,82,21],[78,12,78,14],[78,15,78,17],[78,18,78,21],[79,12,79,14],[79,15,79,17],[79,18,79,21],[75,3,75,11],[75,24,75,27],[74,3,74,11],[74,12,74,14],[74,15,74,17],[74,18,74,21],[75,12,75,14],[75,15,75,17],[75,18,75,21],[73,3,73,11],[73,24,73,27],[69,12,69,14],[69,15,69,17],[69,18,69,21],[69,22,69,23],[73,12,73,14],[73,15,73,17],[73,18,73,21],[71,3,71,11],[60,17,61,18],[68,22,68,23],[70,3,70,11],[70,12,70,14],[70,15,70,17],[70,18,70,21],[64,19,64,27],[60,19,61,27],[64,17,64,18],[62,17,63,18],[69,3,69,11],[69,24,69,27],[68,3,68,11],[68,12,68,14],[68,15,68,17],[71,24,71,27],[68,18,68,21],[66,24,66,27],[67,3,67,11],[67,24,67,27],[66,3,66,11],[66,12,66,14],[66,15,66,17],[66,18,66,21],[67,12,67,14],[67,15,67,17],[67,18,67,21],[67,22,67,23],[66,22,66,23],[58,6,59,7],[58,4,59,5],[57,6,57,7],[57,4,57,5],[63,1,64,2],[61,1,62,3],[61,4,62,5],[61,6,62,6],[61,7,62,8],[63,3,64,12],[60,1,60,2],[51,3,51,11],[51,24,51,27],[50,3,50,11],[51,18,51,21],[51,15,51,17],[51,12,51,14],[50,18,50,21],[50,15,50,17],[50,12,50,14],[54,1,54,17],[54,18,54,21],[55,1,55,17],[55,18,55,21],[53,22,55,27],[57,10,59,19],[48,24,48,27],[49,3,49,11],[49,24,49,27],[48,3,48,11],[49,15,49,17],[49,12,49,14],[48,12,48,14],[48,15,48,17],[49,18,49,21],[48,18,48,21],[52,24,52,27],[52,3,52,11],[53,1,53,17],[53,18,53,21],[52,12,52,14],[52,15,52,17],[52,18,52,21],[50,24,50,27],[46,24,46,27],[47,3,47,11],[47,24,47,27],[46,3,46,11],[47,18,47,21],[47,15,47,17],[47,12,47,14],[46,12,46,14],[46,15,46,17],[46,18,46,21],[44,24,44,27],[45,3,45,11],[45,24,45,27],[44,3,44,11],[45,18,45,21],[45,15,45,17],[45,12,45,14],[44,18,44,21],[44,15,44,17],[44,12,44,14],[42,24,42,27],[43,3,43,11],[43,24,43,27],[42,3,42,11],[38,24,38,27],[39,3,39,11],[39,24,39,27],[40,24,40,27],[41,3,41,11],[41,24,41,27],[40,3,40,11],[38,18,38,21],[38,15,38,17],[38,12,38,14],[39,12,39,14],[39,18,39,21],[39,15,39,17],[40,18,40,21],[40,15,40,17],[40,12,40,14],[43,18,43,21],[43,15,43,17],[43,12,43,14],[42,12,42,14],[25,1,25,17],[26,1,26,17],[27,1,27,17],[27,18,27,21],[26,18,26,21],[25,18,25,21],[29,4,29,5],[30,4,31,5],[29,6,29,7],[30,6,31,7],[22,15,22,17],[22,12,22,14],[23,3,23,11],[23,18,23,21],[23,24,23,27],[23,12,23,14],[38,3,38,11],[32,1,32,2],[33,1,34,3],[33,4,34,5],[33,6,34,6],[33,7,34,8],[35,1,36,2],[35,3,36,12],[36,19,36,27],[32,19,33,27],[36,17,36,18],[34,17,35,18],[32,17,33,18],[34,26,35,27],[34,19,35,25],[25,22,27,27],[31,21,31,22],[29,10,31,19],[21,3,21,11],[21,24,21,27],[20,3,20,11],[21,18,21,21],[21,15,21,17],[21,12,21,14],[20,18,20,21],[20,15,20,17],[20,12,20,14],[3,1,3,2],[10,24,10,27],[10,12,10,14],[10,15,10,17],[10,18,10,21],[7,1,8,2],[7,3,8,12],[5,1,6,3],[12,24,12,27],[6,26,7,27],[3,4,3,9],[10,3,10,11],[12,3,12,11],[11,3,11,11],[11,24,11,27],[3,19,5,27],[3,17,5,18],[6,17,7,18],[6,19,7,25],[8,17,8,18],[8,19,8,27],[12,22,12,23],[11,22,11,23],[10,22,10,23],[14,24,14,27],[15,3,15,11],[15,24,15,27],[14,3,14,11],[15,18,15,21],[15,15,15,17],[15,12,15,14],[13,3,13,11],[17,15,17,17],[17,12,17,14],[16,18,16,21],[16,15,16,17],[16,12,16,14],[16,22,16,23],[15,22,15,23],[14,22,14,23],[13,22,13,23],[14,18,14,21],[14,15,14,17],[14,12,14,14],[16,24,16,27],[13,24,13,27],[17,3,17,11],[17,24,17,27],[16,3,16,11],[17,18,17,21],[18,12,18,14],[18,24,18,27],[62,19,63,25],[62,26,63,27],[19,3,19,11],[19,24,19,27],[18,3,18,11],[19,18,19,21],[19,15,19,17],[19,12,19,14],[18,18,18,21],[18,15,18,17],[24,18,24,21],[22,24,22,27],[24,3,24,11],[24,24,24,27],[22,3,22,11],[24,15,24,17],[24,12,24,14],[22,18,22,21],[23,15,23,17],[20,24,20,27]]}
[null,null,null,null,"業者コード",null,null,null,null,null,"請求内訳明細書"]
[null,null,null,null,{"$f":"IF(内訳明細書1枚目!E2=\"\",\"\",内訳明細書1枚目!E2)","v":""}]
[null,null,null,null,"登録番号",null,null,null,null,null,null,null,null,null,null,null,null,null,null,null,"西暦",{"$f":"IF(内訳明細書1枚目!V3=\"\",\"\",内訳明細書1枚目!V3)","v":""},null,"年",{"$f":"IF(内訳明細書1枚目!Y3=\"\",\"\",内訳明細書1枚目!Y3)","v":""},"月",{"$f":"IF(内訳明細書1枚目!AA3=\"\",\"\",内訳明細書1枚目!AA3)","v":""},"日"]
[null,"(業者控)",null,null,{"$f":"IF(内訳明細書1枚目!E4=\"\",\"\",内訳明細書1枚目!E4)","v":""},null,null,null,null,null,null,null,null,null,null,null,null,"住所",null,{"$f":"IF(内訳明細書1枚目!T4=\"\",\"\",内訳明細書1枚目!T4)","v":""}]
[]
[null,"工事番号",null,null,{"$f":"IF(内訳明細書1枚目!E6=\"\",\"\",内訳明細書1枚目!E6)","v":""},null,"ー",{"$f":"IF(内訳明細書1枚目!H6=\"\",\"\",内訳明細書1枚目!H6)","v":""}]
[null,null,null,null,null,null,null,null,null,null,null,null,null,null,null,null,null,"会社名",null,{"$f":"IF(内訳明細書1枚目!T7=\"\",\"\",内訳明細書1枚目!T7)","v":""},null,null,null,null,null,null,"印"]
[null,"工事名",null,{"$f":"IF(内訳明細書1枚目!D8=\"\",\"\",内訳明細書1枚目!D8)","v":""}]
[null,null,null,null,null,null,null,null,null,null,null,null,null,null,null,null,{"$f":"IF(内訳明細書1枚目!Q9=\"\",\"\",内訳明細書1枚目!Q9)","v":""},"TEL",null,{"$f":"IF(内訳明細書1枚目!T9=\"\",\"\",内訳明細書1枚目!T9)","v":""}]
[]
[null,"月","日","品名／規格",null,null,null,null,null,null,null,null,"数量",null,null,"単価",null,null,"金額",null,null,null,"税率",null,"備考"]
[null,null,null,null,null,null,null,null,null,null,null,null,null,null,null,null,null,null,{"$f":"IF(ROUND(M12*P12,0)=0,\"\",ROUND(M12*P12,0))","v":""},null,null,null,null,null,null,null,null,null,{"$f":"IF(W12=\"\",内訳明細書3枚目!S12*0.1,内訳明細書3枚目!S12*内訳明細書3枚目!W12)","v":{"$error":"#VALUE!"}},null,null,"　"]
[null,null,null,null,null,null,null,null,null,null,null,null,null,null,null,null,null,null,{"$f":"IF(ROUND(M13*P13,0)=0,\"\",ROUND(M13*P13,0))","v":""},null,null,null,null,null,null,null,null,null,{"$f":"IF(W13=\"\",内訳明細書3枚目!S13*0.1,内訳明細書3枚目!S13*内訳明細書3枚目!W13)","v":{"$error":"#VALUE!"}}]
[null,null,null,null,null,null,null,null,null,null,null,null,null,null,null,null,null,null,"",null,null,null,null,null,null,null,null,null,{"$f":"IF(W14=\"\",内訳明細書3枚目!S14*0.1,内訳明細書3枚目!S14*内訳明細書3枚目!W14)","v":{"$error":"#VALUE!"}}]
[null,null,null,null,null,null,null,null,null,null,null,null,null,null,null,null,null,null,"",null,null,null,null,null,null,null,null,null,{"$f":"IF(W15=\"\",内訳明細書3枚目!S15*0.1,内訳明細書3枚目!S15*内訳明細書3枚目!W15)","v":{"$error":"#VALUE!"}}]
[null,null,null,null,null,null,null,null,null,null,null,null,null,null,null,null,null,null,"",null,null,null,null,null,null,null,null,null,{"$f":"IF(W16=\"\",内訳明細書3枚目!S16*0.1,内訳明細書3枚目!S16*内訳明細書3枚目!W16)","v":{"$error":"#VALUE!"}}]
[null,null,null,null,null,null,null,null,null,null,null,null,null,null,null,null,null,null,"",null,null,null,null,null,null,null,null,null,{"$f":"IF(W17=\"\",内訳明細書3枚目!S17*0.1,内訳明細書3枚目!S17*内訳明細書3枚目!W17)","v":{"$error":"#VALUE!"}}]
[null,null,null,null,null,null,null,null,null,null,null,null,null,null,null,null,null,null,"",null,null,null,null,null,null,null,null,null,{"$f":"IF(W18=\"\",内訳明細書3枚目!S18*0.1,内訳明細書3枚目!S18*内訳明細書3枚目!W18)","v":{"$error":"#VALUE!"}}]
[null,null,null,null,null,null,null,null,null,null,null,null,null,null,null,null,null,null,"",null,null,null,null,null,null,null,null,null,{"$f":"IF(W19=\"\",内訳明細書3枚目!S19*0.1,内訳明細書3枚目!S19*内訳明細書3枚目!W19)","v":{"$error":"#VALUE!"}}]
[null,null,null,null,null,null,null,null,null,null,null,null,null,null,null,null,null,null,"",null,null,null,null,null,null,null,null,null,{"$f":"IF(W20=\"\",内訳明細書3枚目!S20*0.1,内訳明細書3枚目!S20*内訳明細書3枚目!W20)","v":{"$error":"#VALUE!"}}]
[null,null,null,null,null,null,null,null,null,null,null,null,null,null,null,null,null,null,"",null,null,null,null,null,null,null,null,null,{"$f":"IF(W21=\"\",内訳明細書3枚目!S21*0.1,内訳明細書3枚目!S21*内訳明細書3枚目!W21)","v":{"$error":"#VALUE!"}}]
[null,null,null,null,null,null,null,null,null,null,null,null,null,null,null,null,null,null,"",null,null,null,null,null,null,null,null,null,{"$f":"IF(W22=\"\",内訳明細書3枚目!S22*0.1,内訳明細書3枚目!S22*内訳明細書3枚目!W22)","v":{"$error":"#VALUE!"}}]
[null,null,null,null,null,null,null,null,null,null,null,null,null,null,null,null,null,null,"",null,null,null,null,null,null,null,null,null,{"$f":"IF(W23=\"\",内訳明細書3枚目!S23*0.1,内訳明細書3枚目!S23*内訳明細書3枚目!W23)","v":{"$error":"#VALUE!"}}]
[null,null,null,null,null,null,null,null,null,null,null,null,null,null,null,null,null,null,"",null,null,null,null,null,null,null,null,null,{"$f":"IF(W24=\"\",内訳明細書3枚目!S24*0.1,内訳明細書3枚目!S24*内訳明細書3枚目!W24)","v":{"$error":"#VALUE!"}}]
[null,null,null,null,null,null,null,null,null,null,null,null,null,null,null,null,null,null,"",null,null,null,null,null,null,null,null,null,{"$f":"IF(W25=\"\",内訳明細書3枚目!S25*0.1,内訳明細書3枚目!S25*内訳明細書3枚目!W25)","v":{"$error":"#VALUE!"}}]
[null,"小計Ⓐ(税抜)",null,null,null,null,null,null,null,null,null,null,null,null,null,null,null,null,{"$f":"IF(内訳明細書4枚目!S12=\"\",SUM(内訳明細書1枚目!S12:V25,内訳明細書2枚目!S12:V25,S12:V25),\"\")","v":0}]
[null,"消費税",null,null,null,null,null,null,null,null,null,null,null,null,null,null,null,null,{"$f":"ROUND(_xlfn.AGGREGATE(9,6,内訳明細書1枚目!AC12:AC25,内訳明細書2枚目!AC12:AC25,内訳明細書3枚目!AC12:AC25,内訳明細書4枚目!AC12:AC25,内訳明細書5枚目!AC12:AC25,内訳明細書6枚目!AC12:AC25,内訳明細書7枚目!AC12:AC25,内訳明細書8枚目!AC12:AC25,内訳明細書9枚目!AC12:AC25,AC12:AC25),0)","v":0}]
[null,"合計(1枚目-3枚目)",null,null,null,null,null,null,null,null,null,null,null,null,null,null,null,null,{"$f":"IF(内訳明細書4枚目!S12=\"\",_xlfn.AGGREGATE(9,6,内訳明細書1枚目!S12:V25,内訳明細書1枚目!AC12:AC25,内訳明細書2枚目!S12:V25,内訳明細書2枚目!AC12:AC25,S12:V25,AC12:AC25),\"\")","v":0}]
[]
[null,null,null,null,"所属長",null,"担当",null,null,null,"請求内訳明細書"]
[]
[null,null,null,null,null,null,null,null,null,null,null,null,null,null,null,null,null,null,null,null,"西暦",{"$f":"IF(V3=\"\",\"\",V3)","v":""},null,"年",{"$f":"IF(Y3=\"\",\"\",Y3)","v":""},"月",{"$f":"IF(AA3=\"\",\"\",AA3)","v":""},"日"]
[null,"(現場控)",null,null,null,null,null,null,null,null,null,null,null,null,null,null,null,"住所",null,{"$f":"IF(T4=\"\",\"\",T4)","v":""}]
[null,"工事番号",null,null,{"$f":"IF(E6=\"\",\"\",E6)","v":""},null,"ー",{"$f":"IF(H6=\"\",\"\",H6)","v":""}]
[null,null,null,null,null,null,null,null,null,null,null,null,null,null,null,null,null,"会社名",null,{"$f":"IF(T7=\"\",\"\",T7)","v":""},null,null,null,null,null,null,"印"]
[null,"工事名",null,{"$f":"IF(D8=\"\",\"\",D8)","v":""}]
[null,null,null,null,null,null,null,null,null,null,null,null,null,null,null,null,null,"TEL",null,{"$f":"IF(T9=\"\",\"\",T9)","v":""}]
[]
[null,"月","日","品名／規格",null,null,null,null,null,null,null,null,"数量",null,null,"単価　",null,null,"金額",null,null,null,"税率",null,"備考"]
[null,{"$f":"IF(B12=\"\",\"\",B12)","v":""},{"$f":"IF(C12=\"\",\"\",C12)","v":""},{"$f":"IF(D12=\"\",\"\",D12)","v":""},null,null,null,null,null,null,null,null,{"$f":"IF(M12=\"\",\"\",M12)","v":""},null,null,{"$f":"IF(P12=\"\",\"\",P12)","v":""},null,null,{"$f":"IF(S12=\"\",\"\",S12)","v":""},null,null,null,{"$f":"IF(W12=\"\",\"\",W12)","v":""},null,{"$f":"IF(Y12=\"\",\"\",Y12)","v":""}]
[null,{"$f":"IF(B13=\"\",\"\",B13)","v":""},"","",null,null,null,null,null,null,null,null,{"$f":"IF(M13=\"\",\"\",M13)","v":""},null,null,{"$f":"IF(P13=\"\",\"\",P13)","v":""},null,null,{"$f":"IF(S13=\"\",\"\",S13)","v":""},null,null,null,{"$f":"IF(W13=\"\",\"\",W13)","v":""},null,{"$f":"IF(Y13=\"\",\"\",Y13)","v":""}]
[null,"","","",null,null,null,null,null,null,null,null,"",null,null,"",null,null,"",null,null,null,"",null,""]
[null,"","","",null,null,null,null,null,null,null,null,"",null,null,"",null,null,"",null,null,null,"",null,""]
[null,"","","",null,null,null,null,null,null,null,null,"",null,null,"",null,null,"",null,null,null,"",null,""]
[null,"","","",null,null,null,null,null,null,null,null,"",null,null,"",null,null,"",null,null,null,"",null,""]
[null,"","","",null,null,null,null,null,null,null,null,"",null,null,"",null,null,"",null,null,null,"",null,""]
[null,"","","",null,null,null,null,null,null,null,null,"",null,null,"",null,null,"",null,null,null,"",null,""]
[null,"","","",null,null,null,null,null,null,null,null,"",null,null,"",null,null,"",null,null,null,"",null,""]
[null,"","","",null,null,null,null,null,null,null,null,"",null,null,"",null,null,"",null,null,null,"",null,""]
[null,"","","",null,null,null,null,null,null,null,null,"",null,null,"",null,null,"",null,null,null,"",null,""]
[null,"","","",null,null,null,null,null,null,null,null,"",null,null,"",null,null,"",null,null,null,"",null,""]
[null,"","","",null,null,null,null,null,null,null,null,"",null,null,"",null,null,"",null,null,null,"",null,""]
[null,"","","",null,null,null,null,null,null,null,null,"",null,null,"",null,null,"",null,null,null,"",null,""]
[null,"小計Ⓐ(税抜)",null,null,null,null,null,null,null,null,null,null,null,null,null,null,null,null,{"$f":"IF(S26=\"\",\"\",S26)","v":0}]
[null,"消費税",null,null,null,null,null,null,null,null,null,null,null,null,null,null,null,null,{"$f":"IF(S27=\"\",\"\",S27)","v":0}]
[null,"合計(1枚目-3枚目)",null,null,null,null,null,null,null,null,null,null,null,null,null,null,null,null,{"$f":"IF(S28=\"\",\"\",S28)","v":0}]
[]
[null,null,null,null,"所属長",null,"担当",null,null,null,"請求内訳明細書"]
[]
[null,null,null,null,null,null,null,null,null,null,null,null,null,null,null,null,null,null,null,null,"西暦",{"$f":"IF(V3=\"\",\"\",V3)","v":""},null,"年",{"$f":"IF(Y3=\"\",\"\",Y3)","v":""},"月",{"$f":"IF(AA3=\"\",\"\",AA3)","v":""},"日"]
[null,"(経理控)",null,null,null,null,null,null,null,null,null,null,null,null,null,null,null,"住所",null,{"$f":"IF(T4=\"\",\"\",T4)","v":""}]
[null,"工事番号",null,null,{"$f":"IF(E6=\"\",\"\",E6)","v":""},null,"ー",{"$f":"IF(H6=\"\",\"\",H6)","v":""}]
[null,null,null,null,null,null,null,null,null,null,null,null,null,null,null,null,null,"会社名",null,{"$f":"IF(T7=\"\",\"\",T7)","v":""},null,null,null,null,null,null,"印"]
[null,"工事名",null,{"$f":"IF(D8=\"\",\"\",D8)","v":""}]
[null,null,null,null,null,null,null,null,null,null,null,null,null,null,null,null,null,"TEL",null,{"$f":"IF(T9=\"\",\"\",T9)","v":""}]
[]
[null,"月","日","品名／規格",null,null,null,null,null,null,null,null,"数量",null,null,"単価　",null,null,"金額",null,null,null,"税率",null,"備考"]
[null,{"$f":"IF(B12=\"\",\"\",B12)","v":""},{"$f":"IF(C12=\"\",\"\",C12)","v":""},{"$f":"IF(D12=\"\",\"\",D12)","v":""},null,null,null,null,null,null,null,null,{"$f":"IF(M12=\"\",\"\",M12)","v":""},null,null,{"$f":"IF(P12=\"\",\"\",P12)","v":""},null,null,{"$f":"IF(S12=\"\",\"\",S12)","v":""},null,null,null,{"$f":"IF(W12=\"\",\"\",W12)","v":""},null,{"$f":"IF(Y12=\"\",\"\",Y12)","v":""}]
[null,{"$f":"IF(B13=\"\",\"\",B13)","v":""},"",{"$f":"IF(D13=\"\",\"\",D13)","v":""},null,null,null,null,null,null,null,null,{"$f":"IF(M13=\"\",\"\",M13)","v":""},null,null,{"$f":"IF(P13=\"\",\"\",P13)","v":""},null,null,{"$f":"IF(S13=\"\",\"\",S13)","v":""},null,null,null,{"$f":"IF(W13=\"\",\"\",W13)","v":""},null,{"$f":"IF(Y13=\"\",\"\",Y13)","v":""}]
[null,"","","",null,null,null,null,null,null,null,null,"",null,null,"",null,null,"",null,null,null,"",null,""]
[null,"","","",null,null,null,null,null,null,null,null,"",null,null,"",null,null,"",null,null,null,"",null,""]
[null,"","","",null,null,null,null,null,null,null,null,"",null,null,"",null,null,"",null,null,null,"",null,""]
[null,"","","",null,null,null,null,null,null,null,null,"",null,null,"",null,null,"",null,null,null,"",null,""]
[null,"","","",null,null,null,null,null,null,null,null,"",null,null,"",null,null,"",null,null,null,"",null,""]
[null,"","","",null,null,null,null,null,null,null,null,"",null,null,"",null,null,"",null,null,null,"",null,""]
[null,"","","",null,null,null,null,null,null,null,null,"",null,null,"",null,null,"",null,null,null,"",null,""]
[null,"","","",null,null,null,null,null,null,null,null,"",null,null,"",null,null,"",null,null,null,"",null,""]
[null,"","","",null,null,null,null,null,null,null,null,"",null,null,"",null,null,"",null,null,null,"",null,""]
[null,"","","",null,null,null,null,null,null,null,null,"",null,null,"",null,null,"",null,null,null,"",null,""]
[null,"","","",null,null,null,null,null,null,null,null,"",null,null,"",null,null,"",null,null,null,"",null,""]
[null,"","","",null,null,null,null,null,null,null,null,"",null,null,"",null,null,"",null,null,null,"",null,""]
[null,"小計Ⓐ(税抜)",null,null,null,null,null,null,null,null,null,null,null,null,null,null,null,null,{"$f":"IF(S26=\"\",\"\",S26)","v":0}]
[null,"消費税",null,null,null,null,null,null,null,null,null,null,null,null,null,null,null,null,{"$f":"IF(S27=\"\",\"\",S27)","v":0}]
[null,"合計(1枚目-3枚目)",null,null,null,null,null,null,null,null,null,null,null,null,null,null,null,null,{"$f":"IF(S28=\"\",\"\",S28)","v":0}]

{"sheet":"内訳明細書4枚目","index":5,"n_rows":84,"n_cols":32,"rows_kept":84,"cut":false,"hidden":true,"merged":[[81,22,83,27],[24,22,24,23],[23,22,23,23],[22,22,22,23],[21,22,21,23],[20,22,20,23],[19,22,19,23],[18,22,18,23],[17,22,17,23],[59,21,59,22],[78,22,78,23],[77,22,77,23],[76,22,76,23],[75,22,75,23],[74,22,74,23],[73,22,73,23],[72,22,72,23],[71,22,71,23],[70,22,70,23],[80,24,80,27],[74,24,74,27],[72,24,72,27],[70,24,70,27],[68,24,68,27],[42,15,42,17],[42,18,42,21],[41,18,41,21],[41,15,41,17],[41,12,41,14],[38,22,38,23],[52,22,52,23],[51,22,51,23],[50,22,50,23],[49,22,49,23],[48,22,48,23],[47,22,47,23],[46,22,46,23],[45,22,45,23],[44,22,44,23],[43,22,43,23],[42,22,42,23],[41,22,41,23],[40,22,40,23],[39,22,39,23],[0,4,0,7],[13,18,13,21],[13,15,13,17],[13,12,13,14],[12,18,12,21],[12,15,12,17],[12,12,12,14],[11,18,11,21],[11,15,11,17],[11,12,11,14],[1,4,1,7],[5,4,6,5],[5,7,6,8],[5,6,6,6],[2,21,2,22],[2,4,2,7],[0,10,2,19],[83,1,83,17],[83,18,83,21],[80,22,80,23],[79,22,79,23],[76,24,76,27],[77,3,77,11],[77,24,77,27],[76,3,76,11],[76,12,76,14],[76,15,76,17],[76,18,76,21],[77,12,77,14],[77,15,77,17],[77,18,77,21],[80,3,80,11],[81,1,81,17],[81,18,81,21],[80,12,80,14],[80,15,80,17],[80,18,80,21],[78,24,78,27],[79,3,79,11],[79,24,79,27],[78,3,78,11],[71,12,71,14],[71,15,71,17],[71,18,71,21],[72,3,72,11],[72,12,72,14],[72,15,72,17],[72,18,72,21],[82,1,82,17],[82,18,82,21],[78,12,78,14],[78,15,78,17],[78,18,78,21],[79,12,79,14],[79,15,79,17],[79,18,79,21],[75,3,75,11],[75,24,75,27],[74,3,74,11],[74,12,74,14],[74,15,74,17],[74,18,74,21],[75,12,75,14],[75,15,75,17],[75,18,75,21],[73,3,73,11],[73,24,73,27],[69,12,69,14],[69,15,69,17],[69,18,69,21],[69,22,69,23],[73,12,73,14],[73,15,73,17],[73,18,73,21],[71,3,71,11],[60,17,61,18],[68,22,68,23],[70,3,70,11],[70,12,70,14],[70,15,70,17],[70,18,70,21],[64,19,64,27],[60,19,61,27],[64,17,64,18],[62,17,63,18],[69,3,69,11],[69,24,69,27],[68,3,68,11],[68,12,68,14],[68,15,68,17],[71,24,71,27],[68,18,68,21],[66,24,66,27],[67,3,67,11],[67,24,67,27],[66,3,66,11],[66,12,66,14],[66,15,66,17],[66,18,66,21],[67,12,67,14],[67,15,67,17],[67,18,67,21],[67,22,67,23],[66,22,66,23],[58,6,59,7],[58,4,59,5],[57,6,57,7],[57,4,57,5],[63,1,64,2],[61,1,62,3],[61,4,62,5],[61,6,62,6],[61,7,62,8],[63,3,64,12],[60,1,60,2],[51,3,51,11],[51,24,51,27],[50,3,50,11],[51,18,51,21],[51,15,51,17],[51,12,51,14],[50,18,50,21],[50,15,50,17],[50,12,50,14],[54,1,54,17],[54,18,54,21],[55,1,55,17],[55,18,55,21],[53,22,55,27],[57,10,59,19],[48,24,48,27],[49,3,49,11],[49,24,49,27],[48,3,48,11],[49,15,49,17],[49,12,49,14],[48,12,48,14],[48,15,48,17],[49,18,49,21],[48,18,48,21],[52,24,52,27],[52,3,52,11],[53,1,53,17],[53,18,53,21],[52,12,52,14],[52,15,52,17],[52,18,52,21],[50,24,50,27],[46,24,46,27],[47,3,47,11],[47,24,47,27],[46,3,46,11],[47,18,47,21],[47,15,47,17],[47,12,47,14],[46,12,46,14],[46,15,46,17],[46,18,46,21],[44,24,44,27],[45,3,45,11],[45,24,45,27],[44,3,44,11],[45,18,45,21],[45,15,45,17],[45,12,45,14],[44,18,44,21],[44,15,44,17],[44,12,44,14],[42,24,42,27],[43,3,43,11],[43,24,43,27],[42,3,42,11],[38,24,38,27],[39,3,39,11],[39,24,39,27],[40,24,40,27],[41,3,41,11],[41,24,41,27],[40,3,40,11],[38,18,38,21],[38,15,38,17],[38,12,38,14],[39,12,39,14],[39,18,39,21],[39,15,39,17],[40,18,40,21],[40,15,40,17],[40,12,40,14],[43,18,43,21],[43,15,43,17],[43,12,43,14],[42,12,42,14],[25,1,25,17],[26,1,26,17],[27,1,27,17],[27,18,27,21],[26,18,26,21],[25,18,25,21],[29,4,29,5],[30,4,31,5],[29,6,29,7],[30,6,31,7],[22,15,22,17],[22,12,22,14],[23,3,23,11],[23,18,23,21],[23,24,23,27],[23,12,23,14],[38,3,38,11],[32,1,32,2],[33,1,34,3],[33,4,34,5],[33,6,34,6],[33,7,34,8],[35,1,36,2],[35,3,36,12],[36,19,36,27],[32,19,33,27],[36,17,36,18],[34,17,35,18],[32,17,33,18],[34,26,35,27],[34,19,35,25],[25,22,27,27],[31,21,31,22],[29,10,31,19],[21,3,21,11],[21,24,21,27],[20,3,20,11],[21,18,21,21],[21,15,21,17],[21,12,21,14],[20,18,20,21],[20,15,20,17],[20,12,20,14],[3,1,3,2],[10,24,10,27],[10,12,10,14],[10,15,10,17],[10,18,10,21],[7,1,8,2],[7,3,8,12],[5,1,6,3],[12,24,12,27],[6,26,7,27],[3,4,3,9],[10,3,10,11],[12,3,12,11],[11,3,11,11],[11,24,11,27],[3,19,5,27],[3,17,5,18],[6,17,7,18],[6,19,7,25],[8,17,8,18],[8,19,8,27],[12,22,12,23],[11,22,11,23],[10,22,10,23],[14,24,14,27],[15,3,15,11],[15,24,15,27],[14,3,14,11],[15,18,15,21],[15,15,15,17],[15,12,15,14],[13,3,13,11],[17,15,17,17],[17,12,17,14],[16,18,16,21],[16,15,16,17],[16,12,16,14],[16,22,16,23],[15,22,15,23],[14,22,14,23],[13,22,13,23],[14,18,14,21],[14,15,14,17],[14,12,14,14],[16,24,16,27],[13,24,13,27],[17,3,17,11],[17,24,17,27],[16,3,16,11],[17,18,17,21],[18,12,18,14],[18,24,18,27],[62,19,63,25],[62,26,63,27],[19,3,19,11],[19,24,19,27],[18,3,18,11],[19,18,19,21],[19,15,19,17],[19,12,19,14],[18,18,18,21],[18,15,18,17],[24,18,24,21],[22,24,22,27],[24,3,24,11],[24,24,24,27],[22,3,22,11],[24,15,24,17],[24,12,24,14],[22,18,22,21],[23,15,23,17],[20,24,20,27]]}
[null,null,null,null,"業者コード",null,null,null,null,null,"請求内訳明細書"]
[null,null,null,null,{"$f":"IF(内訳明細書1枚目!E2=\"\",\"\",内訳明細書1枚目!E2)","v":""}]
[null,null,null,null,"登録番号",null,null,null,null,null,null,null,null,null,null,null,null,null,null,null,"西暦",{"$f":"IF(内訳明細書1枚目!V3=\"\",\"\",内訳明細書1枚目!V3)","v":""},null,"年",{"$f":"IF(内訳明細書1枚目!Y3=\"\",\"\",内訳明細書1枚目!Y3)","v":""},"月",{"$f":"IF(内訳明細書1枚目!AA3=\"\",\"\",内訳明細書1枚目!AA3)","v":""},"日"]
[null,"(業者控)",null,null,{"$f":"IF(内訳明細書1枚目!E4=\"\",\"\",内訳明細書1枚目!E4)","v":""},null,null,null,null,null,null,null,null,null,null,null,null,"住所",null,{"$f":"IF(内訳明細書1枚目!T4=\"\",\"\",内訳明細書1枚目!T4)","v":""}]
[]
[null,"工事番号",null,null,{"$f":"IF(内訳明細書1枚目!E6=\"\",\"\",内訳明細書1枚目!E6)","v":""},null,"ー",{"$f":"IF(内訳明細書1枚目!H6=\"\",\"\",内訳明細書1枚目!H6)","v":""}]
[null,null,null,null,null,null,null,null,null,null,null,null,null,null,null,null,null,"会社名",null,{"$f":"IF(内訳明細書1枚目!T7=\"\",\"\",内訳明細書1枚目!T7)","v":""},null,null,null,null,null,null,"印"]
[null,"工事名",null,{"$f":"IF(内訳明細書1枚目!D8=\"\",\"\",内訳明細書1枚目!D8)","v":""}]
[null,null,null,null,null,null,null,null,null,null,null,null,null,null,null,null,{"$f":"IF(内訳明細書1枚目!Q9=\"\",\"\",内訳明細書1枚目!Q9)","v":""},"TEL",null,{"$f":"IF(内訳明細書1枚目!T9=\"\",\"\",内訳明細書1枚目!T9)","v":""}]
[]
[null,"月","日","品名／規格",null,null,null,null,null,null,null,null,"数量",null,null,"単価",null,null,"金額",null,null,null,"税率",null,"備考"]
[null,null,null,null,null,null,null,null,null,null,null,null,null,null,null,null,null,null,{"$f":"IF(ROUND(M12*P12,0)=0,\"\",ROUND(M12*P12,0))","v":""},null,null,null,null,null,null,null,null,null,{"$f":"IF(W12=\"\",内訳明細書4枚目!S12*0.1,内訳明細書4枚目!S12*内訳明細書4枚目!W12)","v":{"$error":"#VALUE!"}},null,null,"　"]
[null,null,null,null,null,null,null,null,null,null,null,null,null,null,null,null,null,null,{"$f":"IF(ROUND(M13*P13,0)=0,\"\",ROUND(M13*P13,0))","v":""},null,null,null,null,null,null,null,null,null,{"$f":"IF(W13=\"\",内訳明細書4枚目!S13*0.1,内訳明細書4枚目!S13*内訳明細書4枚目!W13)","v":{"$error":"#VALUE!"}}]
[null,null,null,null,null,null,null,null,null,null,null,null,null,null,null,null,null,null,"",null,null,null,null,null,null,null,null,null,{"$f":"IF(W14=\"\",内訳明細書4枚目!S14*0.1,内訳明細書4枚目!S14*内訳明細書4枚目!W14)","v":{"$error":"#VALUE!"}}]
[null,null,null,null,null,null,null,null,null,null,null,null,null,null,null,null,null,null,"",null,null,null,null,null,null,null,null,null,{"$f":"IF(W15=\"\",内訳明細書4枚目!S15*0.1,内訳明細書4枚目!S15*内訳明細書4枚目!W15)","v":{"$error":"#VALUE!"}}]
[null,null,null,null,null,null,null,null,null,null,null,null,null,null,null,null,null,null,"",null,null,null,null,null,null,null,null,null,{"$f":"IF(W16=\"\",内訳明細書4枚目!S16*0.1,内訳明細書4枚目!S16*内訳明細書4枚目!W16)","v":{"$error":"#VALUE!"}}]
[null,null,null,null,null,null,null,null,null,null,null,null,null,null,null,null,null,null,"",null,null,null,null,null,null,null,null,null,{"$f":"IF(W17=\"\",内訳明細書4枚目!S17*0.1,内訳明細書4枚目!S17*内訳明細書4枚目!W17)","v":{"$error":"#VALUE!"}}]
[null,null,null,null,null,null,null,null,null,null,null,null,null,null,null,null,null,null,"",null,null,null,null,null,null,null,null,null,{"$f":"IF(W18=\"\",内訳明細書4枚目!S18*0.1,内訳明細書4枚目!S18*内訳明細書4枚目!W18)","v":{"$error":"#VALUE!"}}]
[null,null,null,null,null,null,null,null,null,null,null,null,null,null,null,null,null,null,"",null,null,null,null,null,null,null,null,null,{"$f":"IF(W19=\"\",内訳明細書4枚目!S19*0.1,内訳明細書4枚目!S19*内訳明細書4枚目!W19)","v":{"$error":"#VALUE!"}}]
[null,null,null,null,null,null,null,null,null,null,null,null,null,null,null,null,null,null,"",null,null,null,null,null,null,null,null,null,{"$f":"IF(W20=\"\",内訳明細書4枚目!S20*0.1,内訳明細書4枚目!S20*内訳明細書4枚目!W20)","v":{"$error":"#VALUE!"}}]
[null,null,null,null,null,null,null,null,null,null,null,null,null,null,null,null,null,null,"",null,null,null,null,null,null,null,null,null,{"$f":"IF(W21=\"\",内訳明細書4枚目!S21*0.1,内訳明細書4枚目!S21*内訳明細書4枚目!W21)","v":{"$error":"#VALUE!"}}]
[null,null,null,null,null,null,null,null,null,null,null,null,null,null,null,null,null,null,"",null,null,null,null,null,null,null,null,null,{"$f":"IF(W22=\"\",内訳明細書4枚目!S22*0.1,内訳明細書4枚目!S22*内訳明細書4枚目!W22)","v":{"$error":"#VALUE!"}}]
[null,null,null,null,null,null,null,null,null,null,null,null,null,null,null,null,null,null,"",null,null,null,null,null,null,null,null,null,{"$f":"IF(W23=\"\",内訳明細書4枚目!S23*0.1,内訳明細書4枚目!S23*内訳明細書4枚目!W23)","v":{"$error":"#VALUE!"}}]
[null,null,null,null,null,null,null,null,null,null,null,null,null,null,null,null,null,null,"",null,null,null,null,null,null,null,null,null,{"$f":"IF(W24=\"\",内訳明細書4枚目!S24*0.1,内訳明細書4枚目!S24*内訳明細書4枚目!W24)","v":{"$error":"#VALUE!"}}]
[null,null,null,null,null,null,null,null,null,null,null,null,null,null,null,null,null,null,"",null,null,null,null,null,null,null,null,null,{"$f":"IF(W25=\"\",内訳明細書4枚目!S25*0.1,内訳明細書4枚目!S25*内訳明細書4枚目!W25)","v":{"$error":"#VALUE!"}}]
[null,"小計Ⓐ(税抜)",null,null,null,null,null,null,null,null,null,null,null,null,null,null,null,null,{"$f":"IF(内訳明細書5枚目!S12=\"\",SUM(内訳明細書1枚目!S12:V25,内訳明細書2枚目!S12:V25,内訳明細書3枚目!S12:V25,S12:V25),\"\")","v":0}]
[null,"消費税",null,null,null,null,null,null,null,null,null,null,null,null,null,null,null,null,{"$f":"ROUND(_xlfn.AGGREGATE(9,6,内訳明細書1枚目!AC12:AC25,内訳明細書2枚目!AC12:AC25,内訳明細書3枚目!AC12:AC25,内訳明細書4枚目!AC12:AC25,内訳明細書5枚目!AC12:AC25,内訳明細書6枚目!AC12:AC25,内訳明細書7枚目!AC12:AC25,内訳明細書8枚目!AC12:AC25,内訳明細書9枚目!AC12:AC25,AC12:AC25),0)","v":0}]
[null,"合計(1枚目-4枚目)",null,null,null,null,null,null,null,null,null,null,null,null,null,null,null,null,{"$f":"IF(内訳明細書5枚目!S12=\"\",_xlfn.AGGREGATE(9,6,内訳明細書1枚目!S12:V25,内訳明細書1枚目!AC12:AC25,内訳明細書2枚目!S12:V25,内訳明細書2枚目!AC12:AC25,内訳明細書3枚目!S12:V25,内訳明細書3枚目!AC12:AC25,S12:V25,AC12:AC25),\"\")","v":0}]
[]
[null,null,null,null,"所属長",null,"担当",null,null,null,"請求内訳明細書"]
[]
[null,null,null,null,null,null,null,null,null,null,null,null,null,null,null,null,null,null,null,null,"西暦",{"$f":"IF(V3=\"\",\"\",V3)","v":""},null,"年",{"$f":"IF(Y3=\"\",\"\",Y3)","v":""},"月",{"$f":"IF(AA3=\"\",\"\",AA3)","v":""},"日"]
[null,"(現場控)",null,null,null,null,null,null,null,null,null,null,null,null,null,null,null,"住所",null,{"$f":"IF(T4=\"\",\"\",T4)","v":""}]
[null,"工事番号",null,null,{"$f":"IF(E6=\"\",\"\",E6)","v":""},null,"ー",{"$f":"IF(H6=\"\",\"\",H6)","v":""}]
[null,null,null,null,null,null,null,null,null,null,null,null,null,null,null,null,null,"会社名",null,{"$f":"IF(T7=\"\",\"\",T7)","v":""},null,null,null,null,null,null,"印"]
[null,"工事名",null,{"$f":"IF(D8=\"\",\"\",D8)","v":""}]
[null,null,null,null,null,null,null,null,null,null,null,null,null,null,null,null,null,"TEL",null,{"$f":"IF(T9=\"\",\"\",T9)","v":""}]
[]
[null,"月","日","品名／規格",null,null,null,null,null,null,null,null,"数量",null,null,"単価　",null,null,"金額",null,null,null,"税率",null,"備考"]
[null,{"$f":"IF(B12=\"\",\"\",B12)","v":""},{"$f":"IF(C12=\"\",\"\",C12)","v":""},{"$f":"IF(D12=\"\",\"\",D12)","v":""},null,null,null,null,null,null,null,null,{"$f":"IF(M12=\"\",\"\",M12)","v":""},null,null,{"$f":"IF(P12=\"\",\"\",P12)","v":""},null,null,{"$f":"IF(S12=\"\",\"\",S12)","v":""},null,null,null,{"$f":"IF(W12=\"\",\"\",W12)","v":""},null,{"$f":"IF(Y12=\"\",\"\",Y12)","v":""}]
[null,{"$f":"IF(B13=\"\",\"\",B13)","v":""},"","",null,null,null,null,null,null,null,null,{"$f":"IF(M13=\"\",\"\",M13)","v":""},null,null,{"$f":"IF(P13=\"\",\"\",P13)","v":""},null,null,{"$f":"IF(S13=\"\",\"\",S13)","v":""},null,null,null,{"$f":"IF(W13=\"\",\"\",W13)","v":""},null,{"$f":"IF(Y13=\"\",\"\",Y13)","v":""}]
[null,"","","",null,null,null,null,null,null,null,null,"",null,null,"",null,null,"",null,null,null,"",null,""]
[null,"","","",null,null,null,null,null,null,null,null,"",null,null,"",null,null,"",null,null,null,"",null,""]
[null,"","","",null,null,null,null,null,null,null,null,"",null,null,"",null,null,"",null,null,null,"",null,""]
[null,"","","",null,null,null,null,null,null,null,null,"",null,null,"",null,null,"",null,null,null,"",null,""]
[null,"","","",null,null,null,null,null,null,null,null,"",null,null,"",null,null,"",null,null,null,"",null,""]
[null,"","","",null,null,null,null,null,null,null,null,"",null,null,"",null,null,"",null,null,null,"",null,""]
[null,"","","",null,null,null,null,null,null,null,null,"",null,null,"",null,null,"",null,null,null,"",null,""]
[null,"","","",null,null,null,null,null,null,null,null,"",null,null,"",null,null,"",null,null,null,"",null,""]
[null,"","","",null,null,null,null,null,null,null,null,"",null,null,"",null,null,"",null,null,null,"",null,""]
[null,"","","",null,null,null,null,null,null,null,null,"",null,null,"",null,null,"",null,null,null,"",null,""]
[null,"","","",null,null,null,null,null,null,null,null,"",null,null,"",null,null,"",null,null,null,"",null,""]
[null,"","","",null,null,null,null,null,null,null,null,"",null,null,"",null,null,"",null,null,null,"",null,""]
[null,"小計Ⓐ(税抜)",null,null,null,null,null,null,null,null,null,null,null,null,null,null,null,null,{"$f":"IF(S26=\"\",\"\",S26)","v":0}]
[null,"消費税",null,null,null,null,null,null,null,null,null,null,null,null,null,null,null,null,{"$f":"IF(S27=\"\",\"\",S27)","v":0}]
[null,"合計(1枚目-4枚目)",null,null,null,null,null,null,null,null,null,null,null,null,null,null,null,null,{"$f":"IF(S28=\"\",\"\",S28)","v":0}]
[]
[null,null,null,null,"所属長",null,"担当",null,null,null,"請求内訳明細書"]
[]
[null,null,null,null,null,null,null,null,null,null,null,null,null,null,null,null,null,null,null,null,"西暦",{"$f":"IF(V3=\"\",\"\",V3)","v":""},null,"年",{"$f":"IF(Y3=\"\",\"\",Y3)","v":""},"月",{"$f":"IF(AA3=\"\",\"\",AA3)","v":""},"日"]
[null,"(経理控)",null,null,null,null,null,null,null,null,null,null,null,null,null,null,null,"住所",null,{"$f":"IF(T4=\"\",\"\",T4)","v":""}]
[null,"工事番号",null,null,{"$f":"IF(E6=\"\",\"\",E6)","v":""},null,"ー",{"$f":"IF(H6=\"\",\"\",H6)","v":""}]
[null,null,null,null,null,null,null,null,null,null,null,null,null,null,null,null,null,"会社名",null,{"$f":"IF(T7=\"\",\"\",T7)","v":""},null,null,null,null,null,null,"印"]
[null,"工事名",null,{"$f":"IF(D8=\"\",\"\",D8)","v":""}]
[null,null,null,null,null,null,null,null,null,null,null,null,null,null,null,null,null,"TEL",null,{"$f":"IF(T9=\"\",\"\",T9)","v":""}]
[]
[null,"月","日","品名／規格",null,null,null,null,null,null,null,null,"数量",null,null,"単価　",null,null,"金額",null,null,null,"税率",null,"備考"]
[null,{"$f":"IF(B12=\"\",\"\",B12)","v":""},{"$f":"IF(C12=\"\",\"\",C12)","v":""},{"$f":"IF(D12=\"\",\"\",D12)","v":""},null,null,null,null,null,null,null,null,{"$f":"IF(M12=\"\",\"\",M12)","v":""},null,null,{"$f":"IF(P12=\"\",\"\",P12)","v":""},null,null,{"$f":"IF(S12=\"\",\"\",S12)","v":""},null,null,null,{"$f":"IF(W12=\"\",\"\",W12)","v":""},null,{"$f":"IF(Y12=\"\",\"\",Y12)","v":""}]
[null,{"$f":"IF(B13=\"\",\"\",B13)","v":""},"",{"$f":"IF(D13=\"\",\"\",D13)","v":""},null,null,null,null,null,null,null,null,{"$f":"IF(M13=\"\",\"\",M13)","v":""},null,null,{"$f":"IF(P13=\"\",\"\",P13)","v":""},null,null,{"$f":"IF(S13=\"\",\"\",S13)","v":""},null,null,null,{"$f":"IF(W13=\"\",\"\",W13)","v":""},null,{"$f":"IF(Y13=\"\",\"\",Y13)","v":""}]
[null,"","","",null,null,null,null,null,null,null,null,"",null,null,"",null,null,"",null,null,null,"",null,""]
[null,"","","",null,null,null,null,null,null,null,null,"",null,null,"",null,null,"",null,null,null,"",null,""]
[null,"","","",null,null,null,null,null,null,null,null,"",null,null,"",null,null,"",null,null,null,"",null,""]
[null,"","","",null,null,null,null,null,null,null,null,"",null,null,"",null,null,"",null,null,null,"",null,""]
[null,"","","",null,null,null,null,null,null,null,null,"",null,null,"",null,null,"",null,null,null,"",null,""]
[null,"","","",null,null,null,null,null,null,null,null,"",null,null,"",null,null,"",null,null,null,"",null,""]
[null,"","","",null,null,null,null,null,null,null,null,"",null,null,"",null,null,"",null,null,null,"",null,""]
[null,"","","",null,null,null,null,null,null,null,null,"",null,null,"",null,null,"",null,null,null,"",null,""]
[null,"","","",null,null,null,null,null,null,null,null,"",null,null,"",null,null,"",null,null,null,"",null,""]
[null,"","","",null,null,null,null,null,null,null,null,"",null,null,"",null,null,"",null,null,null,"",null,""]
[null,"","","",null,null,null,null,null,null,null,null,"",null,null,"",null,null,"",null,null,null,"",null,""]
[null,"","","",null,null,null,null,null,null,null,null,"",null,null,"",null,null,"",null,null,null,"",null,""]
[null,"小計Ⓐ(税抜)",null,null,null,null,null,null,null,null,null,null,null,null,null,null,null,null,{"$f":"IF(S26=\"\",\"\",S26)","v":0}]
[null,"消費税",null,null,null,null,null,null,null,null,null,null,null,null,null,null,null,null,{"$f":"IF(S27=\"\",\"\",S27)","v":0}]
[null,"合計(1枚目-4枚目)",null,null,null,null,null,null,null,null,null,null,null,null,null,null,null,null,{"$f":"IF(S28=\"\",\"\",S28)","v":0}]

{"sheet":"内訳明細書5枚目","index":6,"n_rows":84,"n_cols":32,"rows_kept":84,"cut":false,"hidden":true,"merged":[[81,22,83,27],[24,22,24,23],[23,22,23,23],[22,22,22,23],[21,22,21,23],[20,22,20,23],[19,22,19,23],[18,22,18,23],[17,22,17,23],[59,21,59,22],[78,22,78,23],[77,22,77,23],[76,22,76,23],[75,22,75,23],[74,22,74,23],[73,22,73,23],[72,22,72,23],[71,22,71,23],[70,22,70,23],[80,24,80,27],[74,24,74,27],[72,24,72,27],[70,24,70,27],[68,24,68,27],[42,15,42,17],[42,18,42,21],[41,18,41,21],[41,15,41,17],[41,12,41,14],[38,22,38,23],[52,22,52,23],[51,22,51,23],[50,22,50,23],[49,22,49,23],[48,22,48,23],[47,22,47,23],[46,22,46,23],[45,22,45,23],[44,22,44,23],[43,22,43,23],[42,22,42,23],[41,22,41,23],[40,22,40,23],[39,22,39,23],[0,4,0,7],[13,18,13,21],[13,15,13,17],[13,12,13,14],[12,18,12,21],[12,15,12,17],[12,12,12,14],[11,18,11,21],[11,15,11,17],[11,12,11,14],[1,4,1,7],[5,4,6,5],[5,7,6,8],[5,6,6,6],[2,21,2,22],[2,4,2,7],[0,10,2,19],[83,1,83,17],[83,18,83,21],[80,22,80,23],[79,22,79,23],[76,24,76,27],[77,3,77,11],[77,24,77,27],[76,3,76,11],[76,12,76,14],[76,15,76,17],[76,18,76,21],[77,12,77,14],[77,15,77,17],[77,18,77,21],[80,3,80,11],[81,1,81,17],[81,18,81,21],[80,12,80,14],[80,15,80,17],[80,18,80,21],[78,24,78,27],[79,3,79,11],[79,24,79,27],[78,3,78,11],[71,12,71,14],[71,15,71,17],[71,18,71,21],[72,3,72,11],[72,12,72,14],[72,15,72,17],[72,18,72,21],[82,1,82,17],[82,18,82,21],[78,12,78,14],[78,15,78,17],[78,18,78,21],[79,12,79,14],[79,15,79,17],[79,18,79,21],[75,3,75,11],[75,24,75,27],[74,3,74,11],[74,12,74,14],[74,15,74,17],[74,18,74,21],[75,12,75,14],[75,15,75,17],[75,18,75,21],[73,3,73,11],[73,24,73,27],[69,12,69,14],[69,15,69,17],[69,18,69,21],[69,22,69,23],[73,12,73,14],[73,15,73,17],[73,18,73,21],[71,3,71,11],[60,17,61,18],[68,22,68,23],[70,3,70,11],[70,12,70,14],[70,15,70,17],[70,18,70,21],[64,19,64,27],[60,19,61,27],[64,17,64,18],[62,17,63,18],[69,3,69,11],[69,24,69,27],[68,3,68,11],[68,12,68,14],[68,15,68,17],[71,24,71,27],[68,18,68,21],[66,24,66,27],[67,3,67,11],[67,24,67,27],[66,3,66,11],[66,12,66,14],[66,15,66,17],[66,18,66,21],[67,12,67,14],[67,15,67,17],[67,18,67,21],[67,22,67,23],[66,22,66,23],[58,6,59,7],[58,4,59,5],[57,6,57,7],[57,4,57,5],[63,1,64,2],[61,1,62,3],[61,4,62,5],[61,6,62,6],[61,7,62,8],[63,3,64,12],[60,1,60,2],[51,3,51,11],[51,24,51,27],[50,3,50,11],[51,18,51,21],[51,15,51,17],[51,12,51,14],[50,18,50,21],[50,15,50,17],[50,12,50,14],[54,1,54,17],[54,18,54,21],[55,1,55,17],[55,18,55,21],[53,22,55,27],[57,10,59,19],[48,24,48,27],[49,3,49,11],[49,24,49,27],[48,3,48,11],[49,15,49,17],[49,12,49,14],[48,12,48,14],[48,15,48,17],[49,18,49,21],[48,18,48,21],[52,24,52,27],[52,3,52,11],[53,1,53,17],[53,18,53,21],[52,12,52,14],[52,15,52,17],[52,18,52,21],[50,24,50,27],[46,24,46,27],[47,3,47,11],[47,24,47,27],[46,3,46,11],[47,18,47,21],[47,15,47,17],[47,12,47,14],[46,12,46,14],[46,15,46,17],[46,18,46,21],[44,24,44,27],[45,3,45,11],[45,24,45,27],[44,3,44,11],[45,18,45,21],[45,15,45,17],[45,12,45,14],[44,18,44,21],[44,15,44,17],[44,12,44,14],[42,24,42,27],[43,3,43,11],[43,24,43,27],[42,3,42,11],[38,24,38,27],[39,3,39,11],[39,24,39,27],[40,24,40,27],[41,3,41,11],[41,24,41,27],[40,3,40,11],[38,18,38,21],[38,15,38,17],[38,12,38,14],[39,12,39,14],[39,18,39,21],[39,15,39,17],[40,18,40,21],[40,15,40,17],[40,12,40,14],[43,18,43,21],[43,15,43,17],[43,12,43,14],[42,12,42,14],[25,1,25,17],[26,1,26,17],[27,1,27,17],[27,18,27,21],[26,18,26,21],[25,18,25,21],[29,4,29,5],[30,4,31,5],[29,6,29,7],[30,6,31,7],[22,15,22,17],[22,12,22,14],[23,3,23,11],[23,18,23,21],[23,24,23,27],[23,12,23,14],[38,3,38,11],[32,1,32,2],[33,1,34,3],[33,4,34,5],[33,6,34,6],[33,7,34,8],[35,1,36,2],[35,3,36,12],[36,19,36,27],[32,19,33,27],[36,17,36,18],[34,17,35,18],[32,17,33,18],[34,26,35,27],[34,19,35,25],[25,22,27,27],[31,21,31,22],[29,10,31,19],[21,3,21,11],[21,24,21,27],[20,3,20,11],[21,18,21,21],[21,15,21,17],[21,12,21,14],[20,18,20,21],[20,15,20,17],[20,12,20,14],[3,1,3,2],[10,24,10,27],[10,12,10,14],[10,15,10,17],[10,18,10,21],[7,1,8,2],[7,3,8,12],[5,1,6,3],[12,24,12,27],[6,26,7,27],[3,4,3,9],[10,3,10,11],[12,3,12,11],[11,3,11,11],[11,24,11,27],[3,19,5,27],[3,17,5,18],[6,17,7,18],[6,19,7,25],[8,17,8,18],[8,19,8,27],[12,22,12,23],[11,22,11,23],[10,22,10,23],[14,24,14,27],[15,3,15,11],[15,24,15,27],[14,3,14,11],[15,18,15,21],[15,15,15,17],[15,12,15,14],[13,3,13,11],[17,15,17,17],[17,12,17,14],[16,18,16,21],[16,15,16,17],[16,12,16,14],[16,22,16,23],[15,22,15,23],[14,22,14,23],[13,22,13,23],[14,18,14,21],[14,15,14,17],[14,12,14,14],[16,24,16,27],[13,24,13,27],[17,3,17,11],[17,24,17,27],[16,3,16,11],[17,18,17,21],[18,12,18,14],[18,24,18,27],[62,19,63,25],[62,26,63,27],[19,3,19,11],[19,24,19,27],[18,3,18,11],[19,18,19,21],[19,15,19,17],[19,12,19,14],[18,18,18,21],[18,15,18,17],[24,18,24,21],[22,24,22,27],[24,3,24,11],[24,24,24,27],[22,3,22,11],[24,15,24,17],[24,12,24,14],[22,18,22,21],[23,15,23,17],[20,24,20,27]]}
[null,null,null,null,"業者コード",null,null,null,null,null,"請求内訳明細書"]
[null,null,null,null,{"$f":"IF(内訳明細書1枚目!E2=\"\",\"\",内訳明細書1枚目!E2)","v":""}]
[null,null,null,null,"登録番号",null,null,null,null,null,null,null,null,null,null,null,null,null,null,null,"西暦",{"$f":"IF(内訳明細書1枚目!V3=\"\",\"\",内訳明細書1枚目!V3)","v":""},null,"年",{"$f":"IF(内訳明細書1枚目!Y3=\"\",\"\",内訳明細書1枚目!Y3)","v":""},"月",{"$f":"IF(内訳明細書1枚目!AA3=\"\",\"\",内訳明細書1枚目!AA3)","v":""},"日"]
[null,"(業者控)",null,null,{"$f":"IF(内訳明細書1枚目!E4=\"\",\"\",内訳明細書1枚目!E4)","v":""},null,null,null,null,null,null,null,null,null,null,null,null,"住所",null,{"$f":"IF(内訳明細書1枚目!T4=\"\",\"\",内訳明細書1枚目!T4)","v":""}]
[]
[null,"工事番号",null,null,{"$f":"IF(内訳明細書1枚目!E6=\"\",\"\",内訳明細書1枚目!E6)","v":""},null,"ー",{"$f":"IF(内訳明細書1枚目!H6=\"\",\"\",内訳明細書1枚目!H6)","v":""}]
[null,null,null,null,null,null,null,null,null,null,null,null,null,null,null,null,null,"会社名",null,{"$f":"IF(内訳明細書1枚目!T7=\"\",\"\",内訳明細書1枚目!T7)","v":""},null,null,null,null,null,null,"印"]
[null,"工事名",null,{"$f":"IF(内訳明細書1枚目!D8=\"\",\"\",内訳明細書1枚目!D8)","v":""}]
[null,null,null,null,null,null,null,null,null,null,null,null,null,null,null,null,{"$f":"IF(内訳明細書1枚目!Q9=\"\",\"\",内訳明細書1枚目!Q9)","v":""},"TEL",null,{"$f":"IF(内訳明細書1枚目!T9=\"\",\"\",内訳明細書1枚目!T9)","v":""}]
[]
[null,"月","日","品名／規格",null,null,null,null,null,null,null,null,"数量",null,null,"単価",null,null,"金額",null,null,null,"税率",null,"備考"]
[null,null,null,null,null,null,null,null,null,null,null,null,null,null,null,null,null,null,{"$f":"IF(ROUND(M12*P12,0)=0,\"\",ROUND(M12*P12,0))","v":""},null,null,null,null,null,null,null,null,null,{"$f":"IF(W12=\"\",内訳明細書5枚目!S12*0.1,内訳明細書5枚目!S12*内訳明細書5枚目!W12)","v":{"$error":"#VALUE!"}},null,null,"　"]
[null,null,null,null,null,null,null,null,null,null,null,null,null,null,null,null,null,null,{"$f":"IF(ROUND(M13*P13,0)=0,\"\",ROUND(M13*P13,0))","v":""},null,null,null,null,null,null,null,null,null,{"$f":"IF(W13=\"\",内訳明細書5枚目!S13*0.1,内訳明細書5枚目!S13*内訳明細書5枚目!W13)","v":{"$error":"#VALUE!"}}]
[null,null,null,null,null,null,null,null,null,null,null,null,null,null,null,null,null,null,"",null,null,null,null,null,null,null,null,null,{"$f":"IF(W14=\"\",内訳明細書5枚目!S14*0.1,内訳明細書5枚目!S14*内訳明細書5枚目!W14)","v":{"$error":"#VALUE!"}}]
[null,null,null,null,null,null,null,null,null,null,null,null,null,null,null,null,null,null,"",null,null,null,null,null,null,null,null,null,{"$f":"IF(W15=\"\",内訳明細書5枚目!S15*0.1,内訳明細書5枚目!S15*内訳明細書5枚目!W15)","v":{"$error":"#VALUE!"}}]
[null,null,null,null,null,null,null,null,null,null,null,null,null,null,null,null,null,null,"",null,null,null,null,null,null,null,null,null,{"$f":"IF(W16=\"\",内訳明細書5枚目!S16*0.1,内訳明細書5枚目!S16*内訳明細書5枚目!W16)","v":{"$error":"#VALUE!"}}]
[null,null,null,null,null,null,null,null,null,null,null,null,null,null,null,null,null,null,"",null,null,null,null,null,null,null,null,null,{"$f":"IF(W17=\"\",内訳明細書5枚目!S17*0.1,内訳明細書5枚目!S17*内訳明細書5枚目!W17)","v":{"$error":"#VALUE!"}}]
[null,null,null,null,null,null,null,null,null,null,null,null,null,null,null,null,null,null,"",null,null,null,null,null,null,null,null,null,{"$f":"IF(W18=\"\",内訳明細書5枚目!S18*0.1,内訳明細書5枚目!S18*内訳明細書5枚目!W18)","v":{"$error":"#VALUE!"}}]
[null,null,null,null,null,null,null,null,null,null,null,null,null,null,null,null,null,null,"",null,null,null,null,null,null,null,null,null,{"$f":"IF(W19=\"\",内訳明細書5枚目!S19*0.1,内訳明細書5枚目!S19*内訳明細書5枚目!W19)","v":{"$error":"#VALUE!"}}]
[null,null,null,null,null,null,null,null,null,null,null,null,null,null,null,null,null,null,"",null,null,null,null,null,null,null,null,null,{"$f":"IF(W20=\"\",内訳明細書5枚目!S20*0.1,内訳明細書5枚目!S20*内訳明細書5枚目!W20)","v":{"$error":"#VALUE!"}}]
[null,null,null,null,null,null,null,null,null,null,null,null,null,null,null,null,null,null,"",null,null,null,null,null,null,null,null,null,{"$f":"IF(W21=\"\",内訳明細書5枚目!S21*0.1,内訳明細書5枚目!S21*内訳明細書5枚目!W21)","v":{"$error":"#VALUE!"}}]
[null,null,null,null,null,null,null,null,null,null,null,null,null,null,null,null,null,null,"",null,null,null,null,null,null,null,null,null,{"$f":"IF(W22=\"\",内訳明細書5枚目!S22*0.1,内訳明細書5枚目!S22*内訳明細書5枚目!W22)","v":{"$error":"#VALUE!"}}]
[null,null,null,null,null,null,null,null,null,null,null,null,null,null,null,null,null,null,"",null,null,null,null,null,null,null,null,null,{"$f":"IF(W23=\"\",内訳明細書5枚目!S23*0.1,内訳明細書5枚目!S23*内訳明細書5枚目!W23)","v":{"$error":"#VALUE!"}}]
[null,null,null,null,null,null,null,null,null,null,null,null,null,null,null,null,null,null,"",null,null,null,null,null,null,null,null,null,{"$f":"IF(W24=\"\",内訳明細書5枚目!S24*0.1,内訳明細書5枚目!S24*内訳明細書5枚目!W24)","v":{"$error":"#VALUE!"}}]
[null,null,null,null,null,null,null,null,null,null,null,null,null,null,null,null,null,null,"",null,null,null,null,null,null,null,null,null,{"$f":"IF(W25=\"\",内訳明細書5枚目!S25*0.1,内訳明細書5枚目!S25*内訳明細書5枚目!W25)","v":{"$error":"#VALUE!"}}]
[null,"小計Ⓐ(税抜)",null,null,null,null,null,null,null,null,null,null,null,null,null,null,null,null,{"$f":"IF(内訳明細書6枚目!S12=\"\",SUM(内訳明細書1枚目!S12:V25,内訳明細書2枚目!S12:V25,内訳明細書3枚目!S12:V25,内訳明細書4枚目!S12:V25,S12:V25),\"\")","v":0}]
[null,"消費税",null,null,null,null,null,null,null,null,null,null,null,null,null,null,null,null,{"$f":"ROUND(_xlfn.AGGREGATE(9,6,内訳明細書1枚目!AC12:AC25,内訳明細書2枚目!AC12:AC25,内訳明細書3枚目!AC12:AC25,内訳明細書4枚目!AC12:AC25,内訳明細書5枚目!AC12:AC25,内訳明細書6枚目!AC12:AC25,内訳明細書7枚目!AC12:AC25,内訳明細書8枚目!AC12:AC25,内訳明細書9枚目!AC12:AC25,AC12:AC25),0)","v":0}]
[null,"合計(1枚目-5枚目)",null,null,null,null,null,null,null,null,null,null,null,null,null,null,null,null,{"$f":"IF(内訳明細書6枚目!S12=\"\",_xlfn.AGGREGATE(9,6,内訳明細書1枚目!S12:V25,内訳明細書1枚目!AC12:AC25,内訳明細書2枚目!S12:V25,内訳明細書2枚目!AC12:AC25,内訳明細書3枚目!S12:V25,内訳明細書3枚目!AC12:AC25,内訳明細書4枚目!S12:V25,内訳明細書4枚目!AC12:AC25,S12:V25,AC12:AC25),\"\")","v":0}]
[]
[null,null,null,null,"所属長",null,"担当",null,null,null,"請求内訳明細書"]
[]
[null,null,null,null,null,null,null,null,null,null,null,null,null,null,null,null,null,null,null,null,"西暦",{"$f":"IF(V3=\"\",\"\",V3)","v":""},null,"年",{"$f":"IF(Y3=\"\",\"\",Y3)","v":""},"月",{"$f":"IF(AA3=\"\",\"\",AA3)","v":""},"日"]
[null,"(現場控)",null,null,null,null,null,null,null,null,null,null,null,null,null,null,null,"住所",null,{"$f":"IF(T4=\"\",\"\",T4)","v":""}]
[null,"工事番号",null,null,{"$f":"IF(E6=\"\",\"\",E6)","v":""},null,"ー",{"$f":"IF(H6=\"\",\"\",H6)","v":""}]
[null,null,null,null,null,null,null,null,null,null,null,null,null,null,null,null,null,"会社名",null,{"$f":"IF(T7=\"\",\"\",T7)","v":""},null,null,null,null,null,null,"印"]
[null,"工事名",null,{"$f":"IF(D8=\"\",\"\",D8)","v":""}]
[null,null,null,null,null,null,null,null,null,null,null,null,null,null,null,null,null,"TEL",null,{"$f":"IF(T9=\"\",\"\",T9)","v":""}]
[]
[null,"月","日","品名／規格",null,null,null,null,null,null,null,null,"数量",null,null,"単価　",null,null,"金額",null,null,null,"税率",null,"備考"]
[null,{"$f":"IF(B12=\"\",\"\",B12)","v":""},{"$f":"IF(C12=\"\",\"\",C12)","v":""},{"$f":"IF(D12=\"\",\"\",D12)","v":""},null,null,null,null,null,null,null,null,{"$f":"IF(M12=\"\",\"\",M12)","v":""},null,null,{"$f":"IF(P12=\"\",\"\",P12)","v":""},null,null,{"$f":"IF(S12=\"\",\"\",S12)","v":""},null,null,null,{"$f":"IF(W12=\"\",\"\",W12)","v":""},null,{"$f":"IF(Y12=\"\",\"\",Y12)","v":""}]
[null,{"$f":"IF(B13=\"\",\"\",B13)","v":""},"","",null,null,null,null,null,null,null,null,{"$f":"IF(M13=\"\",\"\",M13)","v":""},null,null,{"$f":"IF(P13=\"\",\"\",P13)","v":""},null,null,{"$f":"IF(S13=\"\",\"\",S13)","v":""},null,null,null,{"$f":"IF(W13=\"\",\"\",W13)","v":""},null,{"$f":"IF(Y13=\"\",\"\",Y13)","v":""}]
[null,"","","",null,null,null,null,null,null,null,null,"",null,null,"",null,null,"",null,null,null,"",null,""]
[null,"","","",null,null,null,null,null,null,null,null,"",null,null,"",null,null,"",null,null,null,"",null,""]
[null,"","","",null,null,null,null,null,null,null,null,"",null,null,"",null,null,"",null,null,null,"",null,""]
[null,"","","",null,null,null,null,null,null,null,null,"",null,null,"",null,null,"",null,null,null,"",null,""]
[null,"","","",null,null,null,null,null,null,null,null,"",null,null,"",null,null,"",null,null,null,"",null,""]
[null,"","","",null,null,null,null,null,null,null,null,"",null,null,"",null,null,"",null,null,null,"",null,""]
[null,"","","",null,null,null,null,null,null,null,null,"",null,null,"",null,null,"",null,null,null,"",null,""]
[null,"","","",null,null,null,null,null,null,null,null,"",null,null,"",null,null,"",null,null,null,"",null,""]
[null,"","","",null,null,null,null,null,null,null,null,"",null,null,"",null,null,"",null,null,null,"",null,""]
[null,"","","",null,null,null,null,null,null,null,null,"",null,null,"",null,null,"",null,null,null,"",null,""]
[null,"","","",null,null,null,null,null,null,null,null,"",null,null,"",null,null,"",null,null,null,"",null,""]
[null,"","","",null,null,null,null,null,null,null,null,"",null,null,"",null,null,"",null,null,null,"",null,""]
[null,"小計Ⓐ(税抜)",null,null,null,null,null,null,null,null,null,null,null,null,null,null,null,null,{"$f":"IF(S26=\"\",\"\",S26)","v":0}]
[null,"消費税",null,null,null,null,null,null,null,null,null,null,null,null,null,null,null,null,{"$f":"IF(S27=\"\",\"\",S27)","v":0}]
[null,"合計(1枚目-5枚目)",null,null,null,null,null,null,null,null,null,null,null,null,null,null,null,null,{"$f":"IF(S28=\"\",\"\",S28)","v":0}]
[]
[null,null,null,null,"所属長",null,"担当",null,null,null,"請求内訳明細書"]
[]
[null,null,null,null,null,null,null,null,null,null,null,null,null,null,null,null,null,null,null,null,"西暦",{"$f":"IF(V3=\"\",\"\",V3)","v":""},null,"年",{"$f":"IF(Y3=\"\",\"\",Y3)","v":""},"月",{"$f":"IF(AA3=\"\",\"\",AA3)","v":""},"日"]
[null,"(経理控)",null,null,null,null,null,null,null,null,null,null,null,null,null,null,null,"住所",null,{"$f":"IF(T4=\"\",\"\",T4)","v":""}]
[null,"工事番号",null,null,{"$f":"IF(E6=\"\",\"\",E6)","v":""},null,"ー",{"$f":"IF(H6=\"\",\"\",H6)","v":""}]
[null,null,null,null,null,null,null,null,null,null,null,null,null,null,null,null,null,"会社名",null,{"$f":"IF(T7=\"\",\"\",T7)","v":""},null,null,null,null,null,null,"印"]
[null,"工事名",null,{"$f":"IF(D8=\"\",\"\",D8)","v":""}]
[null,null,null,null,null,null,null,null,null,null,null,null,null,null,null,null,null,"TEL",null,{"$f":"IF(T9=\"\",\"\",T9)","v":""}]
[]
[null,"月","日","品名／規格",null,null,null,null,null,null,null,null,"数量",null,null,"単価　",null,null,"金額",null,null,null,"税率",null,"備考"]
[null,{"$f":"IF(B12=\"\",\"\",B12)","v":""},{"$f":"IF(C12=\"\",\"\",C12)","v":""},{"$f":"IF(D12=\"\",\"\",D12)","v":""},null,null,null,null,null,null,null,null,{"$f":"IF(M12=\"\",\"\",M12)","v":""},null,null,{"$f":"IF(P12=\"\",\"\",P12)","v":""},null,null,{"$f":"IF(S12=\"\",\"\",S12)","v":""},null,null,null,{"$f":"IF(W12=\"\",\"\",W12)","v":""},null,{"$f":"IF(Y12=\"\",\"\",Y12)","v":""}]
[null,{"$f":"IF(B13=\"\",\"\",B13)","v":""},"",{"$f":"IF(D13=\"\",\"\",D13)","v":""},null,null,null,null,null,null,null,null,{"$f":"IF(M13=\"\",\"\",M13)","v":""},null,null,{"$f":"IF(P13=\"\",\"\",P13)","v":""},null,null,{"$f":"IF(S13=\"\",\"\",S13)","v":""},null,null,null,{"$f":"IF(W13=\"\",\"\",W13)","v":""},null,{"$f":"IF(Y13=\"\",\"\",Y13)","v":""}]
[null,"","","",null,null,null,null,null,null,null,null,"",null,null,"",null,null,"",null,null,null,"",null,""]
[null,"","","",null,null,null,null,null,null,null,null,"",null,null,"",null,null,"",null,null,null,"",null,""]
[null,"","","",null,null,null,null,null,null,null,null,"",null,null,"",null,null,"",null,null,null,"",null,""]
[null,"","","",null,null,null,null,null,null,null,null,"",null,null,"",null,null,"",null,null,null,"",null,""]
[null,"","","",null,null,null,null,null,null,null,null,"",null,null,"",null,null,"",null,null,null,"",null,""]
[null,"","","",null,null,null,null,null,null,null,null,"",null,null,"",null,null,"",null,null,null,"",null,""]
[null,"","","",null,null,null,null,null,null,null,null,"",null,null,"",null,null,"",null,null,null,"",null,""]
[null,"","","",null,null,null,null,null,null,null,null,"",null,null,"",null,null,"",null,null,null,"",null,""]
[null,"","","",null,null,null,null,null,null,null,null,"",null,null,"",null,null,"",null,null,null,"",null,""]
[null,"","","",null,null,null,null,null,null,null,null,"",null,null,"",null,null,"",null,null,null,"",null,""]
[null,"","","",null,null,null,null,null,null,null,null,"",null,null,"",null,null,"",null,null,null,"",null,""]
[null,"","","",null,null,null,null,null,null,null,null,"",null,null,"",null,null,"",null,null,null,"",null,""]
[null,"小計Ⓐ(税抜)",null,null,null,null,null,null,null,null,null,null,null,null,null,null,null,null,{"$f":"IF(S26=\"\",\"\",S26)","v":0}]
[null,"消費税",null,null,null,null,null,null,null,null,null,null,null,null,null,null,null,null,{"$f":"IF(S27=\"\",\"\",S27)","v":0}]
[null,"合計(1枚目-5枚目)",null,null,null,null,null,null,null,null,null,null,null,null,null,null,null,null,{"$f":"IF(S28=\"\",\"\",S28)","v":0}]

{"sheet":"内訳明細書6枚目","index":7,"n_rows":84,"n_cols":32,"rows_kept":84,"cut":false,"hidden":true,"merged":[[81,22,83,27],[24,22,24,23],[23,22,23,23],[22,22,22,23],[21,22,21,23],[20,22,20,23],[19,22,19,23],[18,22,18,23],[17,22,17,23],[59,21,59,22],[78,22,78,23],[77,22,77,23],[76,22,76,23],[75,22,75,23],[74,22,74,23],[73,22,73,23],[72,22,72,23],[71,22,71,23],[70,22,70,23],[80,24,80,27],[74,24,74,27],[72,24,72,27],[70,24,70,27],[68,24,68,27],[42,15,42,17],[42,18,42,21],[41,18,41,21],[41,15,41,17],[41,12,41,14],[38,22,38,23],[52,22,52,23],[51,22,51,23],[50,22,50,23],[49,22,49,23],[48,22,48,23],[47,22,47,23],[46,22,46,23],[45,22,45,23],[44,22,44,23],[43,22,43,23],[42,22,42,23],[41,22,41,23],[40,22,40,23],[39,22,39,23],[0,4,0,7],[13,18,13,21],[13,15,13,17],[13,12,13,14],[12,18,12,21],[12,15,12,17],[12,12,12,14],[11,18,11,21],[11,15,11,17],[11,12,11,14],[1,4,1,7],[5,4,6,5],[5,7,6,8],[5,6,6,6],[2,21,2,22],[2,4,2,7],[0,10,2,19],[83,1,83,17],[83,18,83,21],[80,22,80,23],[79,22,79,23],[76,24,76,27],[77,3,77,11],[77,24,77,27],[76,3,76,11],[76,12,76,14],[76,15,76,17],[76,18,76,21],[77,12,77,14],[77,15,77,17],[77,18,77,21],[80,3,80,11],[81,1,81,17],[81,18,81,21],[80,12,80,14],[80,15,80,17],[80,18,80,21],[78,24,78,27],[79,3,79,11],[79,24,79,27],[78,3,78,11],[71,12,71,14],[71,15,71,17],[71,18,71,21],[72,3,72,11],[72,12,72,14],[72,15,72,17],[72,18,72,21],[82,1,82,17],[82,18,82,21],[78,12,78,14],[78,15,78,17],[78,18,78,21],[79,12,79,14],[79,15,79,17],[79,18,79,21],[75,3,75,11],[75,24,75,27],[74,3,74,11],[74,12,74,14],[74,15,74,17],[74,18,74,21],[75,12,75,14],[75,15,75,17],[75,18,75,21],[73,3,73,11],[73,24,73,27],[69,12,69,14],[69,15,69,17],[69,18,69,21],[69,22,69,23],[73,12,73,14],[73,15,73,17],[73,18,73,21],[71,3,71,11],[60,17,61,18],[68,22,68,23],[70,3,70,11],[70,12,70,14],[70,15,70,17],[70,18,70,21],[64,19,64,27],[60,19,61,27],[64,17,64,18],[62,17,63,18],[69,3,69,11],[69,24,69,27],[68,3,68,11],[68,12,68,14],[68,15,68,17],[71,24,71,27],[68,18,68,21],[66,24,66,27],[67,3,67,11],[67,24,67,27],[66,3,66,11],[66,12,66,14],[66,15,66,17],[66,18,66,21],[67,12,67,14],[67,15,67,17],[67,18,67,21],[67,22,67,23],[66,22,66,23],[58,6,59,7],[58,4,59,5],[57,6,57,7],[57,4,57,5],[63,1,64,2],[61,1,62,3],[61,4,62,5],[61,6,62,6],[61,7,62,8],[63,3,64,12],[60,1,60,2],[51,3,51,11],[51,24,51,27],[50,3,50,11],[51,18,51,21],[51,15,51,17],[51,12,51,14],[50,18,50,21],[50,15,50,17],[50,12,50,14],[54,1,54,17],[54,18,54,21],[55,1,55,17],[55,18,55,21],[53,22,55,27],[57,10,59,19],[48,24,48,27],[49,3,49,11],[49,24,49,27],[48,3,48,11],[49,15,49,17],[49,12,49,14],[48,12,48,14],[48,15,48,17],[49,18,49,21],[48,18,48,21],[52,24,52,27],[52,3,52,11],[53,1,53,17],[53,18,53,21],[52,12,52,14],[52,15,52,17],[52,18,52,21],[50,24,50,27],[46,24,46,27],[47,3,47,11],[47,24,47,27],[46,3,46,11],[47,18,47,21],[47,15,47,17],[47,12,47,14],[46,12,46,14],[46,15,46,17],[46,18,46,21],[44,24,44,27],[45,3,45,11],[45,24,45,27],[44,3,44,11],[45,18,45,21],[45,15,45,17],[45,12,45,14],[44,18,44,21],[44,15,44,17],[44,12,44,14],[42,24,42,27],[43,3,43,11],[43,24,43,27],[42,3,42,11],[38,24,38,27],[39,3,39,11],[39,24,39,27],[40,24,40,27],[41,3,41,11],[41,24,41,27],[40,3,40,11],[38,18,38,21],[38,15,38,17],[38,12,38,14],[39,12,39,14],[39,18,39,21],[39,15,39,17],[40,18,40,21],[40,15,40,17],[40,12,40,14],[43,18,43,21],[43,15,43,17],[43,12,43,14],[42,12,42,14],[25,1,25,17],[26,1,26,17],[27,1,27,17],[27,18,27,21],[26,18,26,21],[25,18,25,21],[29,4,29,5],[30,4,31,5],[29,6,29,7],[30,6,31,7],[22,15,22,17],[22,12,22,14],[23,3,23,11],[23,18,23,21],[23,24,23,27],[23,12,23,14],[38,3,38,11],[32,1,32,2],[33,1,34,3],[33,4,34,5],[33,6,34,6],[33,7,34,8],[35,1,36,2],[35,3,36,12],[36,19,36,27],[32,19,33,27],[36,17,36,18],[34,17,35,18],[32,17,33,18],[34,26,35,27],[34,19,35,25],[25,22,27,27],[31,21,31,22],[29,10,31,19],[21,3,21,11],[21,24,21,27],[20,3,20,11],[21,18,21,21],[21,15,21,17],[21,12,21,14],[20,18,20,21],[20,15,20,17],[20,12,20,14],[3,1,3,2],[10,24,10,27],[10,12,10,14],[10,15,10,17],[10,18,10,21],[7,1,8,2],[7,3,8,12],[5,1,6,3],[12,24,12,27],[6,26,7,27],[3,4,3,9],[10,3,10,11],[12,3,12,11],[11,3,11,11],[11,24,11,27],[3,19,5,27],[3,17,5,18],[6,17,7,18],[6,19,7,25],[8,17,8,18],[8,19,8,27],[12,22,12,23],[11,22,11,23],[10,22,10,23],[14,24,14,27],[15,3,15,11],[15,24,15,27],[14,3,14,11],[15,18,15,21],[15,15,15,17],[15,12,15,14],[13,3,13,11],[17,15,17,17],[17,12,17,14],[16,18,16,21],[16,15,16,17],[16,12,16,14],[16,22,16,23],[15,22,15,23],[14,22,14,23],[13,22,13,23],[14,18,14,21],[14,15,14,17],[14,12,14,14],[16,24,16,27],[13,24,13,27],[17,3,17,11],[17,24,17,27],[16,3,16,11],[17,18,17,21],[18,12,18,14],[18,24,18,27],[62,19,63,25],[62,26,63,27],[19,3,19,11],[19,24,19,27],[18,3,18,11],[19,18,19,21],[19,15,19,17],[19,12,19,14],[18,18,18,21],[18,15,18,17],[24,18,24,21],[22,24,22,27],[24,3,24,11],[24,24,24,27],[22,3,22,11],[24,15,24,17],[24,12,24,14],[22,18,22,21],[23,15,23,17],[20,24,20,27]]}
[null,null,null,null,"業者コード",null,null,null,null,null,"請求内訳明細書"]
[null,null,null,null,{"$f":"IF(内訳明細書1枚目!E2=\"\",\"\",内訳明細書1枚目!E2)","v":""}]
[null,null,null,null,"登録番号",null,null,null,null,null,null,null,null,null,null,null,null,null,null,null,"西暦",{"$f":"IF(内訳明細書1枚目!V3=\"\",\"\",内訳明細書1枚目!V3)","v":""},null,"年",{"$f":"IF(内訳明細書1枚目!Y3=\"\",\"\",内訳明細書1枚目!Y3)","v":""},"月",{"$f":"IF(内訳明細書1枚目!AA3=\"\",\"\",内訳明細書1枚目!AA3)","v":""},"日"]
[null,"(業者控)",null,null,{"$f":"IF(内訳明細書1枚目!E4=\"\",\"\",内訳明細書1枚目!E4)","v":""},null,null,null,null,null,null,null,null,null,null,null,null,"住所",null,{"$f":"IF(内訳明細書1枚目!T4=\"\",\"\",内訳明細書1枚目!T4)","v":""}]
[]
[null,"工事番号",null,null,{"$f":"IF(内訳明細書1枚目!E6=\"\",\"\",内訳明細書1枚目!E6)","v":""},null,"ー",{"$f":"IF(内訳明細書1枚目!H6=\"\",\"\",内訳明細書1枚目!H6)","v":""}]
[null,null,null,null,null,null,null,null,null,null,null,null,null,null,null,null,null,"会社名",null,{"$f":"IF(内訳明細書1枚目!T7=\"\",\"\",内訳明細書1枚目!T7)","v":""},null,null,null,null,null,null,"印"]
[null,"工事名",null,{"$f":"IF(内訳明細書1枚目!D8=\"\",\"\",内訳明細書1枚目!D8)","v":""}]
[null,null,null,null,null,null,null,null,null,null,null,null,null,null,null,null,{"$f":"IF(内訳明細書1枚目!Q9=\"\",\"\",内訳明細書1枚目!Q9)","v":""},"TEL",null,{"$f":"IF(内訳明細書1枚目!T9=\"\",\"\",内訳明細書1枚目!T9)","v":""}]
[]
[null,"月","日","品名／規格",null,null,null,null,null,null,null,null,"数量",null,null,"単価",null,null,"金額",null,null,null,"税率",null,"備考"]
[null,null,null,null,null,null,null,null,null,null,null,null,null,null,null,null,null,null,{"$f":"IF(ROUND(M12*P12,0)=0,\"\",ROUND(M12*P12,0))","v":""},null,null,null,null,null,null,null,null,null,{"$f":"IF(W12=\"\",内訳明細書6枚目!S12*0.1,内訳明細書6枚目!S12*内訳明細書6枚目!W12)","v":{"$error":"#VALUE!"}},null,null,"　"]
[null,null,null,null,null,null,null,null,null,null,null,null,null,null,null,null,null,null,{"$f":"IF(ROUND(M13*P13,0)=0,\"\",ROUND(M13*P13,0))","v":""},null,null,null,null,null,null,null,null,null,{"$f":"IF(W13=\"\",内訳明細書6枚目!S13*0.1,内訳明細書6枚目!S13*内訳明細書6枚目!W13)","v":{"$error":"#VALUE!"}}]
[null,null,null,null,null,null,null,null,null,null,null,null,null,null,null,null,null,null,"",null,null,null,null,null,null,null,null,null,{"$f":"IF(W14=\"\",内訳明細書6枚目!S14*0.1,内訳明細書6枚目!S14*内訳明細書6枚目!W14)","v":{"$error":"#VALUE!"}}]
[null,null,null,null,null,null,null,null,null,null,null,null,null,null,null,null,null,null,"",null,null,null,null,null,null,null,null,null,{"$f":"IF(W15=\"\",内訳明細書6枚目!S15*0.1,内訳明細書6枚目!S15*内訳明細書6枚目!W15)","v":{"$error":"#VALUE!"}}]
[null,null,null,null,null,null,null,null,null,null,null,null,null,null,null,null,null,null,"",null,null,null,null,null,null,null,null,null,{"$f":"IF(W16=\"\",内訳明細書6枚目!S16*0.1,内訳明細書6枚目!S16*内訳明細書6枚目!W16)","v":{"$error":"#VALUE!"}}]
[null,null,null,null,null,null,null,null,null,null,null,null,null,null,null,null,null,null,"",null,null,null,null,null,null,null,null,null,{"$f":"IF(W17=\"\",内訳明細書6枚目!S17*0.1,内訳明細書6枚目!S17*内訳明細書6枚目!W17)","v":{"$error":"#VALUE!"}}]
[null,null,null,null,null,null,null,null,null,null,null,null,null,null,null,null,null,null,"",null,null,null,null,null,null,null,null,null,{"$f":"IF(W18=\"\",内訳明細書6枚目!S18*0.1,内訳明細書6枚目!S18*内訳明細書6枚目!W18)","v":{"$error":"#VALUE!"}}]
[null,null,null,null,null,null,null,null,null,null,null,null,null,null,null,null,null,null,"",null,null,null,null,null,null,null,null,null,{"$f":"IF(W19=\"\",内訳明細書6枚目!S19*0.1,内訳明細書6枚目!S19*内訳明細書6枚目!W19)","v":{"$error":"#VALUE!"}}]
[null,null,null,null,null,null,null,null,null,null,null,null,null,null,null,null,null,null,"",null,null,null,null,null,null,null,null,null,{"$f":"IF(W20=\"\",内訳明細書6枚目!S20*0.1,内訳明細書6枚目!S20*内訳明細書6枚目!W20)","v":{"$error":"#VALUE!"}}]
[null,null,null,null,null,null,null,null,null,null,null,null,null,null,null,null,null,null,"",null,null,null,null,null,null,null,null,null,{"$f":"IF(W21=\"\",内訳明細書6枚目!S21*0.1,内訳明細書6枚目!S21*内訳明細書6枚目!W21)","v":{"$error":"#VALUE!"}}]
[null,null,null,null,null,null,null,null,null,null,null,null,null,null,null,null,null,null,"",null,null,null,null,null,null,null,null,null,{"$f":"IF(W22=\"\",内訳明細書6枚目!S22*0.1,内訳明細書6枚目!S22*内訳明細書6枚目!W22)","v":{"$error":"#VALUE!"}}]
[null,null,null,null,null,null,null,null,null,null,null,null,null,null,null,null,null,null,"",null,null,null,null,null,null,null,null,null,{"$f":"IF(W23=\"\",内訳明細書6枚目!S23*0.1,内訳明細書6枚目!S23*内訳明細書6枚目!W23)","v":{"$error":"#VALUE!"}}]
[null,null,null,null,null,null,null,null,null,null,null,null,null,null,null,null,null,null,"",null,null,null,null,null,null,null,null,null,{"$f":"IF(W24=\"\",内訳明細書6枚目!S24*0.1,内訳明細書6枚目!S24*内訳明細書6枚目!W24)","v":{"$error":"#VALUE!"}}]
[null,null,null,null,null,null,null,null,null,null,null,null,null,null,null,null,null,null,"",null,null,null,null,null,null,null,null,null,{"$f":"IF(W25=\"\",内訳明細書6枚目!S25*0.1,内訳明細書6枚目!S25*内訳明細書6枚目!W25)","v":{"$error":"#VALUE!"}}]
[null,"小計Ⓐ(税抜)",null,null,null,null,null,null,null,null,null,null,null,null,null,null,null,null,{"$f":"IF(内訳明細書7枚目!S12=\"\",SUM(内訳明細書1枚目!S12:V25,内訳明細書2枚目!S12:V25,内訳明細書3枚目!S12:V25,内訳明細書4枚目!S12:V25,内訳明細書5枚目!S12:V25,S12:V25),\"\")","v":0}]
[null,"消費税",null,null,null,null,null,null,null,null,null,null,null,null,null,null,null,null,{"$f":"ROUND(_xlfn.AGGREGATE(9,6,内訳明細書1枚目!AC12:AC25,内訳明細書2枚目!AC12:AC25,内訳明細書3枚目!AC12:AC25,内訳明細書4枚目!AC12:AC25,内訳明細書5枚目!AC12:AC25,内訳明細書6枚目!AC12:AC25,内訳明細書7枚目!AC12:AC25,内訳明細書8枚目!AC12:AC25,内訳明細書9枚目!AC12:AC25,AC12:AC25),0)","v":0}]
[null,"合計(1枚目-6枚目)",null,null,null,null,null,null,null,null,null,null,null,null,null,null,null,null,{"$f":"IF(内訳明細書7枚目!S12=\"\",_xlfn.AGGREGATE(9,6,内訳明細書1枚目!S12:V25,内訳明細書1枚目!AC12:AC25,内訳明細書2枚目!S12:V25,内訳明細書2枚目!AC12:AC25,内訳明細書3枚目!S12:V25,内訳明細書3枚目!AC12:AC25,内訳明細書4枚目!S12:V25,内訳明細書4枚目!AC12:AC25,内訳明細書5枚目!S12:V25,内訳明細書5枚目!AC12:AC25,S12:V25,AC12:AC25),\"\")","v":0}]
[]
[null,null,null,null,"所属長",null,"担当",null,null,null,"請求内訳明細書"]
[]
[null,null,null,null,null,null,null,null,null,null,null,null,null,null,null,null,null,null,null,null,"西暦",{"$f":"IF(V3=\"\",\"\",V3)","v":""},null,"年",{"$f":"IF(Y3=\"\",\"\",Y3)","v":""},"月",{"$f":"IF(AA3=\"\",\"\",AA3)","v":""},"日"]
[null,"(現場控)",null,null,null,null,null,null,null,null,null,null,null,null,null,null,null,"住所",null,{"$f":"IF(T4=\"\",\"\",T4)","v":""}]
[null,"工事番号",null,null,{"$f":"IF(E6=\"\",\"\",E6)","v":""},null,"ー",{"$f":"IF(H6=\"\",\"\",H6)","v":""}]
[null,null,null,null,null,null,null,null,null,null,null,null,null,null,null,null,null,"会社名",null,{"$f":"IF(T7=\"\",\"\",T7)","v":""},null,null,null,null,null,null,"印"]
[null,"工事名",null,{"$f":"IF(D8=\"\",\"\",D8)","v":""}]
[null,null,null,null,null,null,null,null,null,null,null,null,null,null,null,null,null,"TEL",null,{"$f":"IF(T9=\"\",\"\",T9)","v":""}]
[]
[null,"月","日","品名／規格",null,null,null,null,null,null,null,null,"数量",null,null,"単価　",null,null,"金額",null,null,null,"税率",null,"備考"]
[null,{"$f":"IF(B12=\"\",\"\",B12)","v":""},{"$f":"IF(C12=\"\",\"\",C12)","v":""},{"$f":"IF(D12=\"\",\"\",D12)","v":""},null,null,null,null,null,null,null,null,{"$f":"IF(M12=\"\",\"\",M12)","v":""},null,null,{"$f":"IF(P12=\"\",\"\",P12)","v":""},null,null,{"$f":"IF(S12=\"\",\"\",S12)","v":""},null,null,null,{"$f":"IF(W12=\"\",\"\",W12)","v":""},null,{"$f":"IF(Y12=\"\",\"\",Y12)","v":""}]
[null,{"$f":"IF(B13=\"\",\"\",B13)","v":""},"","",null,null,null,null,null,null,null,null,{"$f":"IF(M13=\"\",\"\",M13)","v":""},null,null,{"$f":"IF(P13=\"\",\"\",P13)","v":""},null,null,{"$f":"IF(S13=\"\",\"\",S13)","v":""},null,null,null,{"$f":"IF(W13=\"\",\"\",W13)","v":""},null,{"$f":"IF(Y13=\"\",\"\",Y13)","v":""}]
[null,"","","",null,null,null,null,null,null,null,null,"",null,null,"",null,null,"",null,null,null,"",null,""]
[null,"","","",null,null,null,null,null,null,null,null,"",null,null,"",null,null,"",null,null,null,"",null,""]
[null,"","","",null,null,null,null,null,null,null,null,"",null,null,"",null,null,"",null,null,null,"",null,""]
[null,"","","",null,null,null,null,null,null,null,null,"",null,null,"",null,null,"",null,null,null,"",null,""]
[null,"","","",null,null,null,null,null,null,null,null,"",null,null,"",null,null,"",null,null,null,"",null,""]
[null,"","","",null,null,null,null,null,null,null,null,"",null,null,"",null,null,"",null,null,null,"",null,""]
[null,"","","",null,null,null,null,null,null,null,null,"",null,null,"",null,null,"",null,null,null,"",null,""]
[null,"","","",null,null,null,null,null,null,null,null,"",null,null,"",null,null,"",null,null,null,"",null,""]
[null,"","","",null,null,null,null,null,null,null,null,"",null,null,"",null,null,"",null,null,null,"",null,""]
[null,"","","",null,null,null,null,null,null,null,null,"",null,null,"",null,null,"",null,null,null,"",null,""]
[null,"","","",null,null,null,null,null,null,null,null,"",null,null,"",null,null,"",null,null,null,"",null,""]
[null,"","","",null,null,null,null,null,null,null,null,"",null,null,"",null,null,"",null,null,null,"",null,""]
[null,"小計Ⓐ(税抜)",null,null,null,null,null,null,null,null,null,null,null,null,null,null,null,null,{"$f":"IF(S26=\"\",\"\",S26)","v":0}]
[null,"消費税",null,null,null,null,null,null,null,null,null,null,null,null,null,null,null,null,{"$f":"IF(S27=\"\",\"\",S27)","v":0}]
[null,"合計(1枚目-6枚目)",null,null,null,null,null,null,null,null,null,null,null,null,null,null,null,null,{"$f":"IF(S28=\"\",\"\",S28)","v":0}]
[]
[null,null,null,null,"所属長",null,"担当",null,null,null,"請求内訳明細書"]
[]
[null,null,null,null,null,null,null,null,null,null,null,null,null,null,null,null,null,null,null,null,"西暦",{"$f":"IF(V3=\"\",\"\",V3)","v":""},null,"年",{"$f":"IF(Y3=\"\",\"\",Y3)","v":""},"月",{"$f":"IF(AA3=\"\",\"\",AA3)","v":""},"日"]
[null,"(経理控)",null,null,null,null,null,null,null,null,null,null,null,null,null,null,null,"住所",null,{"$f":"IF(T4=\"\",\"\",T4)","v":""}]
[null,"工事番号",null,null,{"$f":"IF(E6=\"\",\"\",E6)","v":""},null,"ー",{"$f":"IF(H6=\"\",\"\",H6)","v":""}]
[null,null,null,null,null,null,null,null,null,null,null,null,null,null,null,null,null,"会社名",null,{"$f":"IF(T7=\"\",\"\",T7)","v":""},null,null,null,null,null,null,"印"]
[null,"工事名",null,{"$f":"IF(D8=\"\",\"\",D8)","v":""}]
[null,null,null,null,null,null,null,null,null,null,null,null,null,null,null,null,null,"TEL",null,{"$f":"IF(T9=\"\",\"\",T9)","v":""}]
[]
[null,"月","日","品名／規格",null,null,null,null,null,null,null,null,"数量",null,null,"単価　",null,null,"金額",null,null,null,"税率",null,"備考"]
[null,{"$f":"IF(B12=\"\",\"\",B12)","v":""},{"$f":"IF(C12=\"\",\"\",C12)","v":""},{"$f":"IF(D12=\"\",\"\",D12)","v":""},null,null,null,null,null,null,null,null,{"$f":"IF(M12=\"\",\"\",M12)","v":""},null,null,{"$f":"IF(P12=\"\",\"\",P12)","v":""},null,null,{"$f":"IF(S12=\"\",\"\",S12)","v":""},null,null,null,{"$f":"IF(W12=\"\",\"\",W12)","v":""},null,{"$f":"IF(Y12=\"\",\"\",Y12)","v":""}]
[null,{"$f":"IF(B13=\"\",\"\",B13)","v":""},"",{"$f":"IF(D13=\"\",\"\",D13)","v":""},null,null,null,null,null,null,null,null,{"$f":"IF(M13=\"\",\"\",M13)","v":""},null,null,{"$f":"IF(P13=\"\",\"\",P13)","v":""},null,null,{"$f":"IF(S13=\"\",\"\",S13)","v":""},null,null,null,{"$f":"IF(W13=\"\",\"\",W13)","v":""},null,{"$f":"IF(Y13=\"\",\"\",Y13)","v":""}]
[null,"","","",null,null,null,null,null,null,null,null,"",null,null,"",null,null,"",null,null,null,"",null,""]
[null,"","","",null,null,null,null,null,null,null,null,"",null,null,"",null,null,"",null,null,null,"",null,""]
[null,"","","",null,null,null,null,null,null,null,null,"",null,null,"",null,null,"",null,null,null,"",null,""]
[null,"","","",null,null,null,null,null,null,null,null,"",null,null,"",null,null,"",null,null,null,"",null,""]
[null,"","","",null,null,null,null,null,null,null,null,"",null,null,"",null,null,"",null,null,null,"",null,""]
[null,"","","",null,null,null,null,null,null,null,null,"",null,null,"",null,null,"",null,null,null,"",null,""]
[null,"","","",null,null,null,null,null,null,null,null,"",null,null,"",null,null,"",null,null,null,"",null,""]
[null,"","","",null,null,null,null,null,null,null,null,"",null,null,"",null,null,"",null,null,null,"",null,""]
[null,"","","",null,null,null,null,null,null,null,null,"",null,null,"",null,null,"",null,null,null,"",null,""]
[null,"","","",null,null,null,null,null,null,null,null,"",null,null,"",null,null,"",null,null,null,"",null,""]
[null,"","","",null,null,null,null,null,null,null,null,"",null,null,"",null,null,"",null,null,null,"",null,""]
[null,"","","",null,null,null,null,null,null,null,null,"",null,null,"",null,null,"",null,null,null,"",null,""]
[null,"小計Ⓐ(税抜)",null,null,null,null,null,null,null,null,null,null,null,null,null,null,null,null,{"$f":"IF(S26=\"\",\"\",S26)","v":0}]
[null,"消費税",null,null,null,null,null,null,null,null,null,null,null,null,null,null,null,null,{"$f":"IF(S27=\"\",\"\",S27)","v":0}]
[null,"合計(1枚目-6枚目)",null,null,null,null,null,null,null,null,null,null,null,null,null,null,null,null,{"$f":"IF(S28=\"\",\"\",S28)","v":0}]

{"sheet":"内訳明細書7枚目","index":8,"n_rows":84,"n_cols":32,"rows_kept":84,"cut":false,"hidden":true,"merged":[[19,22,19,23],[18,22,18,23],[17,22,17,23],[59,21,59,22],[78,22,78,23],[77,22,77,23],[76,22,76,23],[75,22,75,23],[74,22,74,23],[73,22,73,23],[72,22,72,23],[71,22,71,23],[70,22,70,23],[52,22,52,23],[51,22,51,23],[50,22,50,23],[49,22,49,23],[48,22,48,23],[32,19,33,27],[77,24,77,27],[72,24,72,27],[70,24,70,27],[68,24,68,27],[34,26,35,27],[34,17,35,18],[32,17,33,18],[25,22,27,27],[31,21,31,22],[81,22,83,27],[24,22,24,23],[23,22,23,23],[52,24,52,27],[50,24,50,27],[51,24,51,27],[48,24,48,27],[49,24,49,27],[48,15,48,17],[49,18,49,21],[48,18,48,21],[46,24,46,27],[82,1,82,17],[82,18,82,21],[83,1,83,17],[83,18,83,21],[80,22,80,23],[76,24,76,27],[77,3,77,11],[52,12,52,14],[52,15,52,17],[52,18,52,21],[51,18,51,21],[51,15,51,17],[51,12,51,14],[50,18,50,21],[50,15,50,17],[50,12,50,14],[1,4,1,7],[5,4,6,5],[5,7,6,8],[5,6,6,6],[2,21,2,22],[3,19,5,27],[3,17,5,18],[6,17,7,18],[6,19,7,25],[2,4,2,7],[3,4,3,9],[0,10,2,19],[0,4,0,7],[6,26,7,27],[52,3,52,11],[39,12,39,14],[80,3,80,11],[79,3,79,11],[79,24,79,27],[78,3,78,11],[78,12,78,14],[78,15,78,17],[78,18,78,21],[79,12,79,14],[79,15,79,17],[79,18,79,21],[79,22,79,23],[81,1,81,17],[81,18,81,21],[80,12,80,14],[80,15,80,17],[80,18,80,21],[78,24,78,27],[74,24,74,27],[75,3,75,11],[75,24,75,27],[74,3,74,11],[74,12,74,14],[74,15,74,17],[74,18,74,21],[75,12,75,14],[75,15,75,17],[75,18,75,21],[76,3,76,11],[76,12,76,14],[76,15,76,17],[76,18,76,21],[77,12,77,14],[77,15,77,17],[77,18,77,21],[80,24,80,27],[73,3,73,11],[73,24,73,27],[72,3,72,11],[72,12,72,14],[72,15,72,17],[72,18,72,21],[73,12,73,14],[73,15,73,17],[73,18,73,21],[71,3,71,11],[71,24,71,27],[70,3,70,11],[70,12,70,14],[70,15,70,17],[70,18,70,21],[71,12,71,14],[71,15,71,17],[71,18,71,21],[69,3,69,11],[69,24,69,27],[68,3,68,11],[68,12,68,14],[68,15,68,17],[68,18,68,21],[69,12,69,14],[69,15,69,17],[69,18,69,21],[69,22,69,23],[68,22,68,23],[63,1,64,2],[61,1,62,3],[61,4,62,5],[61,6,62,6],[61,7,62,8],[63,3,64,12],[66,24,66,27],[67,3,67,11],[67,24,67,27],[66,3,66,11],[66,12,66,14],[66,15,66,17],[66,18,66,21],[67,12,67,14],[67,15,67,17],[67,18,67,21],[67,22,67,23],[66,22,66,23],[64,19,64,27],[60,19,61,27],[64,17,64,18],[62,17,63,18],[60,1,60,2],[60,17,61,18],[54,1,54,17],[54,18,54,21],[55,1,55,17],[55,18,55,21],[53,22,55,27],[57,10,59,19],[58,6,59,7],[58,4,59,5],[57,6,57,7],[57,4,57,5],[53,1,53,17],[53,18,53,21],[40,18,40,21],[40,15,40,17],[40,12,40,14],[43,18,43,21],[43,15,43,17],[43,12,43,14],[42,12,42,14],[42,15,42,17],[42,18,42,21],[41,18,41,21],[41,15,41,17],[51,3,51,11],[50,3,50,11],[49,3,49,11],[48,3,48,11],[49,15,49,17],[49,12,49,14],[48,12,48,14],[47,3,47,11],[47,24,47,27],[46,3,46,11],[47,18,47,21],[47,15,47,17],[47,12,47,14],[46,12,46,14],[46,15,46,17],[46,18,46,21],[47,22,47,23],[46,22,46,23],[45,3,45,11],[45,24,45,27],[44,3,44,11],[45,18,45,21],[45,15,45,17],[45,12,45,14],[44,18,44,21],[44,15,44,17],[44,12,44,14],[45,22,45,23],[44,22,44,23],[44,24,44,27],[43,3,43,11],[43,24,43,27],[42,3,42,11],[38,24,38,27],[39,3,39,11],[39,24,39,27],[40,24,40,27],[41,3,41,11],[41,24,41,27],[40,3,40,11],[38,18,38,21],[38,15,38,17],[38,12,38,14],[41,12,41,14],[38,22,38,23],[43,22,43,23],[42,22,42,23],[41,22,41,23],[40,22,40,23],[39,22,39,23],[38,3,38,11],[42,24,42,27],[39,18,39,21],[39,15,39,17],[32,1,32,2],[33,1,34,3],[33,4,34,5],[33,6,34,6],[33,7,34,8],[35,1,36,2],[35,3,36,12],[21,3,21,11],[21,24,21,27],[29,10,31,19],[25,1,25,17],[26,1,26,17],[27,1,27,17],[27,18,27,21],[26,18,26,21],[25,18,25,21],[29,4,29,5],[30,4,31,5],[29,6,29,7],[30,6,31,7],[24,18,24,21],[22,24,22,27],[36,19,36,27],[36,17,36,18],[22,15,22,17],[22,12,22,14],[23,3,23,11],[23,18,23,21],[23,24,23,27],[23,12,23,14],[23,15,23,17],[20,24,20,27],[22,22,22,23],[21,22,21,23],[20,22,20,23],[3,1,3,2],[10,24,10,27],[10,12,10,14],[10,15,10,17],[10,18,10,21],[7,1,8,2],[7,3,8,12],[5,1,6,3],[12,24,12,27],[10,3,10,11],[10,22,10,23],[8,17,8,18],[8,19,8,27],[12,22,12,23],[11,12,11,14],[13,3,13,11],[13,24,13,27],[12,3,12,11],[11,3,11,11],[11,24,11,27],[14,24,14,27],[15,3,15,11],[15,24,15,27],[14,3,14,11],[15,18,15,21],[15,15,15,17],[15,12,15,14],[14,22,14,23],[11,22,11,23],[14,18,14,21],[13,18,13,21],[13,15,13,17],[13,12,13,14],[12,18,12,21],[12,15,12,17],[12,12,12,14],[11,18,11,21],[11,15,11,17],[13,22,13,23],[14,15,14,17],[14,12,14,14],[16,24,16,27],[17,3,17,11],[17,24,17,27],[16,3,16,11],[17,18,17,21],[18,12,18,14],[18,24,18,27],[17,15,17,17],[17,12,17,14],[16,18,16,21],[16,15,16,17],[16,12,16,14],[16,22,16,23],[15,22,15,23],[34,19,35,25],[62,19,63,25],[62,26,63,27],[19,3,19,11],[19,24,19,27],[18,3,18,11],[19,18,19,21],[19,15,19,17],[19,12,19,14],[18,18,18,21],[18,15,18,17],[20,3,20,11],[21,18,21,21],[21,15,21,17],[21,12,21,14],[20,18,20,21],[20,15,20,17],[20,12,20,14],[24,3,24,11],[24,24,24,27],[22,3,22,11],[24,15,24,17],[24,12,24,14],[22,18,22,21]]}
[null,null,null,null,"業者コード",null,null,null,null,null,"請求内訳明細書"]
[null,null,null,null,{"$f":"IF(内訳明細書1枚目!E2=\"\",\"\",内訳明細書1枚目!E2)","v":""}]
[null,null,null,null,"登録番号",null,null,null,null,null,null,null,null,null,null,null,null,null,null,null,"西暦",{"$f":"IF(内訳明細書1枚目!V3=\"\",\"\",内訳明細書1枚目!V3)","v":""},null,"年",{"$f":"IF(内訳明細書1枚目!Y3=\"\",\"\",内訳明細書1枚目!Y3)","v":""},"月",{"$f":"IF(内訳明細書1枚目!AA3=\"\",\"\",内訳明細書1枚目!AA3)","v":""},"日"]
[null,"(業者控)",null,null,{"$f":"IF(内訳明細書1枚目!E4=\"\",\"\",内訳明細書1枚目!E4)","v":""},null,null,null,null,null,null,null,null,null,null,null,null,"住所",null,{"$f":"IF(内訳明細書1枚目!T4=\"\",\"\",内訳明細書1枚目!T4)","v":""}]
[]
[null,"工事番号",null,null,{"$f":"IF(内訳明細書1枚目!E6=\"\",\"\",内訳明細書1枚目!E6)","v":""},null,"ー",{"$f":"IF(内訳明細書1枚目!H6=\"\",\"\",内訳明細書1枚目!H6)","v":""}]
[null,null,null,null,null,null,null,null,null,null,null,null,null,null,null,null,null,"会社名",null,{"$f":"IF(内訳明細書1枚目!T7=\"\",\"\",内訳明細書1枚目!T7)","v":""},null,null,null,null,null,null,"印"]
[null,"工事名",null,{"$f":"IF(内訳明細書1枚目!D8=\"\",\"\",内訳明細書1枚目!D8)","v":""}]
[null,null,null,null,null,null,null,null,null,null,null,null,null,null,null,null,{"$f":"IF(内訳明細書1枚目!Q9=\"\",\"\",内訳明細書1枚目!Q9)","v":""},"TEL",null,{"$f":"IF(内訳明細書1枚目!T9=\"\",\"\",内訳明細書1枚目!T9)","v":""}]
[]
[null,"月","日","品名／規格",null,null,null,null,null,null,null,null,"数量",null,null,"単価",null,null,"金額",null,null,null,"税率",null,"備考"]
[null,null,null,null,null,null,null,null,null,null,null,null,null,null,null,null,null,null,{"$f":"IF(ROUND(M12*P12,0)=0,\"\",ROUND(M12*P12,0))","v":""},null,null,null,null,null,null,null,null,null,{"$f":"IF(W12=\"\",内訳明細書7枚目!S12*0.1,内訳明細書7枚目!S12*内訳明細書7枚目!W12)","v":{"$error":"#VALUE!"}},null,null,"　"]
[null,null,null,null,null,null,null,null,null,null,null,null,null,null,null,null,null,null,{"$f":"IF(ROUND(M13*P13,0)=0,\"\",ROUND(M13*P13,0))","v":""},null,null,null,null,null,null,null,null,null,{"$f":"IF(W13=\"\",内訳明細書7枚目!S13*0.1,内訳明細書7枚目!S13*内訳明細書7枚目!W13)","v":{"$error":"#VALUE!"}}]
[null,null,null,null,null,null,null,null,null,null,null,null,null,null,null,null,null,null,"",null,null,null,null,null,null,null,null,null,{"$f":"IF(W14=\"\",内訳明細書7枚目!S14*0.1,内訳明細書7枚目!S14*内訳明細書7枚目!W14)","v":{"$error":"#VALUE!"}}]
[null,null,null,null,null,null,null,null,null,null,null,null,null,null,null,null,null,null,"",null,null,null,null,null,null,null,null,null,{"$f":"IF(W15=\"\",内訳明細書7枚目!S15*0.1,内訳明細書7枚目!S15*内訳明細書7枚目!W15)","v":{"$error":"#VALUE!"}}]
[null,null,null,null,null,null,null,null,null,null,null,null,null,null,null,null,null,null,"",null,null,null,null,null,null,null,null,null,{"$f":"IF(W16=\"\",内訳明細書7枚目!S16*0.1,内訳明細書7枚目!S16*内訳明細書7枚目!W16)","v":{"$error":"#VALUE!"}}]
[null,null,null,null,null,null,null,null,null,null,null,null,null,null,null,null,null,null,"",null,null,null,null,null,null,null,null,null,{"$f":"IF(W17=\"\",内訳明細書7枚目!S17*0.1,内訳明細書7枚目!S17*内訳明細書7枚目!W17)","v":{"$error":"#VALUE!"}}]
[null,null,null,null,null,null,null,null,null,null,null,null,null,null,null,null,null,null,"",null,null,null,null,null,null,null,null,null,{"$f":"IF(W18=\"\",内訳明細書7枚目!S18*0.1,内訳明細書7枚目!S18*内訳明細書7枚目!W18)","v":{"$error":"#VALUE!"}}]
[null,null,null,null,null,null,null,null,null,null,null,null,null,null,null,null,null,null,"",null,null,null,null,null,null,null,null,null,{"$f":"IF(W19=\"\",内訳明細書7枚目!S19*0.1,内訳明細書7枚目!S19*内訳明細書7枚目!W19)","v":{"$error":"#VALUE!"}}]
[null,null,null,null,null,null,null,null,null,null,null,null,null,null,null,null,null,null,"",null,null,null,null,null,null,null,null,null,{"$f":"IF(W20=\"\",内訳明細書7枚目!S20*0.1,内訳明細書7枚目!S20*内訳明細書7枚目!W20)","v":{"$error":"#VALUE!"}}]
[null,null,null,null,null,null,null,null,null,null,null,null,null,null,null,null,null,null,"",null,null,null,null,null,null,null,null,null,{"$f":"IF(W21=\"\",内訳明細書7枚目!S21*0.1,内訳明細書7枚目!S21*内訳明細書7枚目!W21)","v":{"$error":"#VALUE!"}}]
[null,null,null,null,null,null,null,null,null,null,null,null,null,null,null,null,null,null,"",null,null,null,null,null,null,null,null,null,{"$f":"IF(W22=\"\",内訳明細書7枚目!S22*0.1,内訳明細書7枚目!S22*内訳明細書7枚目!W22)","v":{"$error":"#VALUE!"}}]
[null,null,null,null,null,null,null,null,null,null,null,null,null,null,null,null,null,null,"",null,null,null,null,null,null,null,null,null,{"$f":"IF(W23=\"\",内訳明細書7枚目!S23*0.1,内訳明細書7枚目!S23*内訳明細書7枚目!W23)","v":{"$error":"#VALUE!"}}]
[null,null,null,null,null,null,null,null,null,null,null,null,null,null,null,null,null,null,"",null,null,null,null,null,null,null,null,null,{"$f":"IF(W24=\"\",内訳明細書7枚目!S24*0.1,内訳明細書7枚目!S24*内訳明細書7枚目!W24)","v":{"$error":"#VALUE!"}}]
[null,null,null,null,null,null,null,null,null,null,null,null,null,null,null,null,null,null,"",null,null,null,null,null,null,null,null,null,{"$f":"IF(W25=\"\",内訳明細書7枚目!S25*0.1,内訳明細書7枚目!S25*内訳明細書7枚目!W25)","v":{"$error":"#VALUE!"}}]
[null,"小計Ⓐ(税抜)",null,null,null,null,null,null,null,null,null,null,null,null,null,null,null,null,{"$f":"IF(内訳明細書8枚目!S12=\"\",SUM(内訳明細書1枚目!S12:V25,内訳明細書2枚目!S12:V25,内訳明細書3枚目!S12:V25,内訳明細書4枚目!S12:V25,内訳明細書5枚目!S12:V25,内訳明細書6枚目!S12:V25,S12:V25),\"\")","v":0}]
[null,"消費税",null,null,null,null,null,null,null,null,null,null,null,null,null,null,null,null,{"$f":"ROUND(_xlfn.AGGREGATE(9,6,内訳明細書1枚目!AC12:AC25,内訳明細書2枚目!AC12:AC25,内訳明細書3枚目!AC12:AC25,内訳明細書4枚目!AC12:AC25,内訳明細書5枚目!AC12:AC25,内訳明細書6枚目!AC12:AC25,内訳明細書7枚目!AC12:AC25,内訳明細書8枚目!AC12:AC25,内訳明細書9枚目!AC12:AC25,AC12:AC25),0)","v":0}]
[null,"合計(1枚目-7枚目)",null,null,null,null,null,null,null,null,null,null,null,null,null,null,null,null,{"$f":"IF(内訳明細書8枚目!S12=\"\",_xlfn.AGGREGATE(9,6,内訳明細書1枚目!S12:V25,内訳明細書1枚目!AC12:AC25,内訳明細書2枚目!S12:V25,内訳明細書2枚目!AC12:AC25,内訳明細書3枚目!S12:V25,内訳明細書3枚目!AC12:AC25,内訳明細書4枚目!S12:V25,内訳明細書4枚目!AC12:AC25,内訳明細書5枚目!S12:V25,内訳明細書5枚目!AC12:AC25,内訳明細書6枚目!S12:V25,内訳明細書6枚目!AC12:AC25,S12:V25,AC12:AC25),\"\")","v":0}]
[]
[null,null,null,null,"所属長",null,"担当",null,null,null,"請求内訳明細書"]
[]
[null,null,null,null,null,null,null,null,null,null,null,null,null,null,null,null,null,null,null,null,"西暦",{"$f":"IF(V3=\"\",\"\",V3)","v":""},null,"年",{"$f":"IF(Y3=\"\",\"\",Y3)","v":""},"月",{"$f":"IF(AA3=\"\",\"\",AA3)","v":""},"日"]
[null,"(現場控)",null,null,null,null,null,null,null,null,null,null,null,null,null,null,null,"住所",null,{"$f":"IF(T4=\"\",\"\",T4)","v":""}]
[null,"工事番号",null,null,{"$f":"IF(E6=\"\",\"\",E6)","v":""},null,"ー",{"$f":"IF(H6=\"\",\"\",H6)","v":""}]
[null,null,null,null,null,null,null,null,null,null,null,null,null,null,null,null,null,"会社名",null,{"$f":"IF(T7=\"\",\"\",T7)","v":""},null,null,null,null,null,null,"印"]
[null,"工事名",null,{"$f":"IF(D8=\"\",\"\",D8)","v":""}]
[null,null,null,null,null,null,null,null,null,null,null,null,null,null,null,null,null,"TEL",null,{"$f":"IF(T9=\"\",\"\",T9)","v":""}]
[]
[null,"月","日","品名／規格",null,null,null,null,null,null,null,null,"数量",null,null,"単価　",null,null,"金額",null,null,null,"税率",null,"備考"]
[null,{"$f":"IF(B12=\"\",\"\",B12)","v":""},{"$f":"IF(C12=\"\",\"\",C12)","v":""},{"$f":"IF(D12=\"\",\"\",D12)","v":""},null,null,null,null,null,null,null,null,{"$f":"IF(M12=\"\",\"\",M12)","v":""},null,null,{"$f":"IF(P12=\"\",\"\",P12)","v":""},null,null,{"$f":"IF(S12=\"\",\"\",S12)","v":""},null,null,null,{"$f":"IF(W12=\"\",\"\",W12)","v":""},null,{"$f":"IF(Y12=\"\",\"\",Y12)","v":""}]
[null,{"$f":"IF(B13=\"\",\"\",B13)","v":""},"","",null,null,null,null,null,null,null,null,{"$f":"IF(M13=\"\",\"\",M13)","v":""},null,null,{"$f":"IF(P13=\"\",\"\",P13)","v":""},null,null,{"$f":"IF(S13=\"\",\"\",S13)","v":""},null,null,null,{"$f":"IF(W13=\"\",\"\",W13)","v":""},null,{"$f":"IF(Y13=\"\",\"\",Y13)","v":""}]
[null,"","","",null,null,null,null,null,null,null,null,"",null,null,"",null,null,{"$f":"IF(S14=\"\",\"\",S14)","v":""},null,null,null,"",null,""]
[null,"","","",null,null,null,null,null,null,null,null,"",null,null,"",null,null,"",null,null,null,"",null,""]
[null,"","","",null,null,null,null,null,null,null,null,"",null,null,"",null,null,"",null,null,null,"",null,""]
[null,"","","",null,null,null,null,null,null,null,null,"",null,null,"",null,null,"",null,null,null,"",null,""]
[null,"","","",null,null,null,null,null,null,null,null,"",null,null,"",null,null,"",null,null,null,"",null,""]
[null,"","","",null,null,null,null,null,null,null,null,"",null,null,"",null,null,"",null,null,null,"",null,""]
[null,"","","",null,null,null,null,null,null,null,null,"",null,null,"",null,null,"",null,null,null,"",null,""]
[null,"","","",null,null,null,null,null,null,null,null,"",null,null,"",null,null,"",null,null,null,"",null,""]
[null,"","","",null,null,null,null,null,null,null,null,"",null,null,"",null,null,"",null,null,null,"",null,""]
[null,"","","",null,null,null,null,null,null,null,null,"",null,null,"",null,null,"",null,null,null,"",null,""]
[null,"","","",null,null,null,null,null,null,null,null,"",null,null,"",null,null,"",null,null,null,"",null,""]
[null,"","","",null,null,null,null,null,null,null,null,"",null,null,"",null,null,"",null,null,null,"",null,""]
[null,"小計Ⓐ(税抜)",null,null,null,null,null,null,null,null,null,null,null,null,null,null,null,null,{"$f":"IF(S26=\"\",\"\",S26)","v":0}]
[null,"消費税",null,null,null,null,null,null,null,null,null,null,null,null,null,null,null,null,{"$f":"IF(S27=\"\",\"\",S27)","v":0}]
[null,"合計(1枚目-7枚目)",null,null,null,null,null,null,null,null,null,null,null,null,null,null,null,null,{"$f":"IF(S28=\"\",\"\",S28)","v":0}]
[]
[null,null,null,null,"所属長",null,"担当",null,null,null,"請求内訳明細書"]
[]
[null,null,null,null,null,null,null,null,null,null,null,null,null,null,null,null,null,null,null,null,"西暦",{"$f":"IF(V3=\"\",\"\",V3)","v":""},null,"年",{"$f":"IF(Y3=\"\",\"\",Y3)","v":""},"月",{"$f":"IF(AA3=\"\",\"\",AA3)","v":""},"日"]
[null,"(経理控)",null,null,null,null,null,null,null,null,null,null,null,null,null,null,null,"住所",null,{"$f":"IF(T4=\"\",\"\",T4)","v":""}]
[null,"工事番号",null,null,{"$f":"IF(E6=\"\",\"\",E6)","v":""},null,"ー",{"$f":"IF(H6=\"\",\"\",H6)","v":""}]
[null,null,null,null,null,null,null,null,null,null,null,null,null,null,null,null,null,"会社名",null,{"$f":"IF(T7=\"\",\"\",T7)","v":""},null,null,null,null,null,null,"印"]
[null,"工事名",null,{"$f":"IF(D8=\"\",\"\",D8)","v":""}]
[null,null,null,null,null,null,null,null,null,null,null,null,null,null,null,null,null,"TEL",null,{"$f":"IF(T9=\"\",\"\",T9)","v":""}]
[]
[null,"月","日","品名／規格",null,null,null,null,null,null,null,null,"数量",null,null,"単価　",null,null,"金額",null,null,null,"税率",null,"備考"]
[null,{"$f":"IF(B12=\"\",\"\",B12)","v":""},{"$f":"IF(C12=\"\",\"\",C12)","v":""},{"$f":"IF(D12=\"\",\"\",D12)","v":""},null,null,null,null,null,null,null,null,{"$f":"IF(M12=\"\",\"\",M12)","v":""},null,null,{"$f":"IF(P12=\"\",\"\",P12)","v":""},null,null,{"$f":"IF(S12=\"\",\"\",S12)","v":""},null,null,null,{"$f":"IF(W12=\"\",\"\",W12)","v":""},null,{"$f":"IF(Y12=\"\",\"\",Y12)","v":""}]
[null,{"$f":"IF(B13=\"\",\"\",B13)","v":""},"",{"$f":"IF(D13=\"\",\"\",D13)","v":""},null,null,null,null,null,null,null,null,{"$f":"IF(M13=\"\",\"\",M13)","v":""},null,null,{"$f":"IF(P13=\"\",\"\",P13)","v":""},null,null,{"$f":"IF(S13=\"\",\"\",S13)","v":""},null,null,null,{"$f":"IF(W13=\"\",\"\",W13)","v":""},null,{"$f":"IF(Y13=\"\",\"\",Y13)","v":""}]
[null,"","","",null,null,null,null,null,null,null,null,"",null,null,"",null,null,{"$f":"IF(S14=\"\",\"\",S14)","v":""},null,null,null,"",null,""]
[null,"","","",null,null,null,null,null,null,null,null,"",null,null,"",null,null,"",null,null,null,"",null,""]
[null,"","","",null,null,null,null,null,null,null,null,"",null,null,"",null,null,"",null,null,null,"",null,""]
[null,"","","",null,null,null,null,null,null,null,null,"",null,null,"",null,null,"",null,null,null,"",null,""]
[null,"","","",null,null,null,null,null,null,null,null,"",null,null,"",null,null,"",null,null,null,"",null,""]
[null,"","","",null,null,null,null,null,null,null,null,"",null,null,"",null,null,"",null,null,null,"",null,""]
[null,"","","",null,null,null,null,null,null,null,null,"",null,null,"",null,null,"",null,null,null,"",null,""]
[null,"","","",null,null,null,null,null,null,null,null,"",null,null,"",null,null,"",null,null,null,"",null,""]
[null,"","","",null,null,null,null,null,null,null,null,"",null,null,"",null,null,"",null,null,null,"",null,""]
[null,"","","",null,null,null,null,null,null,null,null,"",null,null,"",null,null,"",null,null,null,"",null,""]
[null,"","","",null,null,null,null,null,null,null,null,"",null,null,"",null,null,"",null,null,null,"",null,""]
[null,"","","",null,null,null,null,null,null,null,null,"",null,null,"",null,null,"",null,null,null,"",null,""]
[null,"小計Ⓐ(税抜)",null,null,null,null,null,null,null,null,null,null,null,null,null,null,null,null,{"$f":"IF(S26=\"\",\"\",S26)","v":0}]
[null,"消費税",null,null,null,null,null,null,null,null,null,null,null,null,null,null,null,null,{"$f":"IF(S27=\"\",\"\",S27)","v":0}]
[null,"合計(1枚目-7枚目)",null,null,null,null,null,null,null,null,null,null,null,null,null,null,null,null,{"$f":"IF(S28=\"\",\"\",S28)","v":0}]

{"sheet":"内訳明細書8枚目","index":9,"n_rows":84,"n_cols":32,"rows_kept":84,"cut":false,"hidden":true,"merged":[[19,22,19,23],[18,22,18,23],[17,22,17,23],[59,21,59,22],[78,22,78,23],[77,22,77,23],[76,22,76,23],[75,22,75,23],[74,22,74,23],[73,22,73,23],[72,22,72,23],[71,22,71,23],[70,22,70,23],[52,22,52,23],[51,22,51,23],[50,22,50,23],[49,22,49,23],[48,22,48,23],[32,19,33,27],[77,24,77,27],[72,24,72,27],[70,24,70,27],[68,24,68,27],[34,26,35,27],[34,17,35,18],[32,17,33,18],[25,22,27,27],[31,21,31,22],[81,22,83,27],[24,22,24,23],[23,22,23,23],[52,24,52,27],[50,24,50,27],[51,24,51,27],[48,24,48,27],[49,24,49,27],[48,15,48,17],[49,18,49,21],[48,18,48,21],[46,24,46,27],[82,1,82,17],[82,18,82,21],[83,1,83,17],[83,18,83,21],[80,22,80,23],[76,24,76,27],[77,3,77,11],[52,12,52,14],[52,15,52,17],[52,18,52,21],[51,18,51,21],[51,15,51,17],[51,12,51,14],[50,18,50,21],[50,15,50,17],[50,12,50,14],[1,4,1,7],[5,4,6,5],[5,7,6,8],[5,6,6,6],[2,21,2,22],[3,19,5,27],[3,17,5,18],[6,17,7,18],[6,19,7,25],[2,4,2,7],[3,4,3,9],[0,10,2,19],[0,4,0,7],[6,26,7,27],[52,3,52,11],[39,12,39,14],[80,3,80,11],[79,3,79,11],[79,24,79,27],[78,3,78,11],[78,12,78,14],[78,15,78,17],[78,18,78,21],[79,12,79,14],[79,15,79,17],[79,18,79,21],[79,22,79,23],[81,1,81,17],[81,18,81,21],[80,12,80,14],[80,15,80,17],[80,18,80,21],[78,24,78,27],[74,24,74,27],[75,3,75,11],[75,24,75,27],[74,3,74,11],[74,12,74,14],[74,15,74,17],[74,18,74,21],[75,12,75,14],[75,15,75,17],[75,18,75,21],[76,3,76,11],[76,12,76,14],[76,15,76,17],[76,18,76,21],[77,12,77,14],[77,15,77,17],[77,18,77,21],[80,24,80,27],[73,3,73,11],[73,24,73,27],[72,3,72,11],[72,12,72,14],[72,15,72,17],[72,18,72,21],[73,12,73,14],[73,15,73,17],[73,18,73,21],[71,3,71,11],[71,24,71,27],[70,3,70,11],[70,12,70,14],[70,15,70,17],[70,18,70,21],[71,12,71,14],[71,15,71,17],[71,18,71,21],[69,3,69,11],[69,24,69,27],[68,3,68,11],[68,12,68,14],[68,15,68,17],[68,18,68,21],[69,12,69,14],[69,15,69,17],[69,18,69,21],[69,22,69,23],[68,22,68,23],[63,1,64,2],[61,1,62,3],[61,4,62,5],[61,6,62,6],[61,7,62,8],[63,3,64,12],[66,24,66,27],[67,3,67,11],[67,24,67,27],[66,3,66,11],[66,12,66,14],[66,15,66,17],[66,18,66,21],[67,12,67,14],[67,15,67,17],[67,18,67,21],[67,22,67,23],[66,22,66,23],[64,19,64,27],[60,19,61,27],[64,17,64,18],[62,17,63,18],[60,1,60,2],[60,17,61,18],[54,1,54,17],[54,18,54,21],[55,1,55,17],[55,18,55,21],[53,22,55,27],[57,10,59,19],[58,6,59,7],[58,4,59,5],[57,6,57,7],[57,4,57,5],[53,1,53,17],[53,18,53,21],[40,18,40,21],[40,15,40,17],[40,12,40,14],[43,18,43,21],[43,15,43,17],[43,12,43,14],[42,12,42,14],[42,15,42,17],[42,18,42,21],[41,18,41,21],[41,15,41,17],[51,3,51,11],[50,3,50,11],[49,3,49,11],[48,3,48,11],[49,15,49,17],[49,12,49,14],[48,12,48,14],[47,3,47,11],[47,24,47,27],[46,3,46,11],[47,18,47,21],[47,15,47,17],[47,12,47,14],[46,12,46,14],[46,15,46,17],[46,18,46,21],[47,22,47,23],[46,22,46,23],[45,3,45,11],[45,24,45,27],[44,3,44,11],[45,18,45,21],[45,15,45,17],[45,12,45,14],[44,18,44,21],[44,15,44,17],[44,12,44,14],[45,22,45,23],[44,22,44,23],[44,24,44,27],[43,3,43,11],[43,24,43,27],[42,3,42,11],[38,24,38,27],[39,3,39,11],[39,24,39,27],[40,24,40,27],[41,3,41,11],[41,24,41,27],[40,3,40,11],[38,18,38,21],[38,15,38,17],[38,12,38,14],[41,12,41,14],[38,22,38,23],[43,22,43,23],[42,22,42,23],[41,22,41,23],[40,22,40,23],[39,22,39,23],[38,3,38,11],[42,24,42,27],[39,18,39,21],[39,15,39,17],[32,1,32,2],[33,1,34,3],[33,4,34,5],[33,6,34,6],[33,7,34,8],[35,1,36,2],[35,3,36,12],[21,3,21,11],[21,24,21,27],[29,10,31,19],[25,1,25,17],[26,1,26,17],[27,1,27,17],[27,18,27,21],[26,18,26,21],[25,18,25,21],[29,4,29,5],[30,4,31,5],[29,6,29,7],[30,6,31,7],[24,18,24,21],[22,24,22,27],[36,19,36,27],[36,17,36,18],[22,15,22,17],[22,12,22,14],[23,3,23,11],[23,18,23,21],[23,24,23,27],[23,12,23,14],[23,15,23,17],[20,24,20,27],[22,22,22,23],[21,22,21,23],[20,22,20,23],[3,1,3,2],[10,24,10,27],[10,12,10,14],[10,15,10,17],[10,18,10,21],[7,1,8,2],[7,3,8,12],[5,1,6,3],[12,24,12,27],[10,3,10,11],[10,22,10,23],[8,17,8,18],[8,19,8,27],[12,22,12,23],[11,12,11,14],[13,3,13,11],[13,24,13,27],[12,3,12,11],[11,3,11,11],[11,24,11,27],[14,24,14,27],[15,3,15,11],[15,24,15,27],[14,3,14,11],[15,18,15,21],[15,15,15,17],[15,12,15,14],[14,22,14,23],[11,22,11,23],[14,18,14,21],[13,18,13,21],[13,15,13,17],[13,12,13,14],[12,18,12,21],[12,15,12,17],[12,12,12,14],[11,18,11,21],[11,15,11,17],[13,22,13,23],[14,15,14,17],[14,12,14,14],[16,24,16,27],[17,3,17,11],[17,24,17,27],[16,3,16,11],[17,18,17,21],[18,12,18,14],[18,24,18,27],[17,15,17,17],[17,12,17,14],[16,18,16,21],[16,15,16,17],[16,12,16,14],[16,22,16,23],[15,22,15,23],[34,19,35,25],[62,19,63,25],[62,26,63,27],[19,3,19,11],[19,24,19,27],[18,3,18,11],[19,18,19,21],[19,15,19,17],[19,12,19,14],[18,18,18,21],[18,15,18,17],[20,3,20,11],[21,18,21,21],[21,15,21,17],[21,12,21,14],[20,18,20,21],[20,15,20,17],[20,12,20,14],[24,3,24,11],[24,24,24,27],[22,3,22,11],[24,15,24,17],[24,12,24,14],[22,18,22,21]]}
[null,null,null,null,"業者コード",null,null,null,null,null,"請求内訳明細書"]
[null,null,null,null,{"$f":"IF(内訳明細書1枚目!E2=\"\",\"\",内訳明細書1枚目!E2)","v":""}]
[null,null,null,null,"登録番号",null,null,null,null,null,null,null,null,null,null,null,null,null,null,null,"西暦",{"$f":"IF(内訳明細書1枚目!V3=\"\",\"\",内訳明細書1枚目!V3)","v":""},null,"年",{"$f":"IF(内訳明細書1枚目!Y3=\"\",\"\",内訳明細書1枚目!Y3)","v":""},"月",{"$f":"IF(内訳明細書1枚目!AA3=\"\",\"\",内訳明細書1枚目!AA3)","v":""},"日"]
[null,"(業者控)",null,null,{"$f":"IF(内訳明細書1枚目!E4=\"\",\"\",内訳明細書1枚目!E4)","v":""},null,null,null,null,null,null,null,null,null,null,null,null,"住所",null,{"$f":"IF(内訳明細書1枚目!T4=\"\",\"\",内訳明細書1枚目!T4)","v":""}]
[]
[null,"工事番号",null,null,{"$f":"IF(内訳明細書1枚目!E6=\"\",\"\",内訳明細書1枚目!E6)","v":""},null,"ー",{"$f":"IF(内訳明細書1枚目!H6=\"\",\"\",内訳明細書1枚目!H6)","v":""}]
[null,null,null,null,null,null,null,null,null,null,null,null,null,null,null,null,null,"会社名",null,{"$f":"IF(内訳明細書1枚目!T7=\"\",\"\",内訳明細書1枚目!T7)","v":""},null,null,null,null,null,null,"印"]
[null,"工事名",null,{"$f":"IF(内訳明細書1枚目!D8=\"\",\"\",内訳明細書1枚目!D8)","v":""}]
[null,null,null,null,null,null,null,null,null,null,null,null,null,null,null,null,{"$f":"IF(内訳明細書1枚目!Q9=\"\",\"\",内訳明細書1枚目!Q9)","v":""},"TEL",null,{"$f":"IF(内訳明細書1枚目!T9=\"\",\"\",内訳明細書1枚目!T9)","v":""}]
[]
[null,"月","日","品名／規格",null,null,null,null,null,null,null,null,"数量",null,null,"単価",null,null,"金額",null,null,null,"税率",null,"備考"]
[null,null,null,null,null,null,null,null,null,null,null,null,null,null,null,null,null,null,{"$f":"IF(ROUND(M12*P12,0)=0,\"\",ROUND(M12*P12,0))","v":""},null,null,null,null,null,null,null,null,null,{"$f":"IF(W12=\"\",内訳明細書8枚目!S12*0.1,内訳明細書8枚目!S12*内訳明細書8枚目!W12)","v":{"$error":"#VALUE!"}},null,null,"　"]
[null,null,null,null,null,null,null,null,null,null,null,null,null,null,null,null,null,null,{"$f":"IF(ROUND(M13*P13,0)=0,\"\",ROUND(M13*P13,0))","v":""},null,null,null,null,null,null,null,null,null,{"$f":"IF(W13=\"\",内訳明細書8枚目!S13*0.1,内訳明細書8枚目!S13*内訳明細書8枚目!W13)","v":{"$error":"#VALUE!"}}]
[null,null,null,null,null,null,null,null,null,null,null,null,null,null,null,null,null,null,"",null,null,null,null,null,null,null,null,null,{"$f":"IF(W14=\"\",内訳明細書8枚目!S14*0.1,内訳明細書8枚目!S14*内訳明細書8枚目!W14)","v":{"$error":"#VALUE!"}}]
[null,null,null,null,null,null,null,null,null,null,null,null,null,null,null,null,null,null,"",null,null,null,null,null,null,null,null,null,{"$f":"IF(W15=\"\",内訳明細書8枚目!S15*0.1,内訳明細書8枚目!S15*内訳明細書8枚目!W15)","v":{"$error":"#VALUE!"}}]
[null,null,null,null,null,null,null,null,null,null,null,null,null,null,null,null,null,null,"",null,null,null,null,null,null,null,null,null,{"$f":"IF(W16=\"\",内訳明細書8枚目!S16*0.1,内訳明細書8枚目!S16*内訳明細書8枚目!W16)","v":{"$error":"#VALUE!"}}]
[null,null,null,null,null,null,null,null,null,null,null,null,null,null,null,null,null,null,"",null,null,null,null,null,null,null,null,null,{"$f":"IF(W17=\"\",内訳明細書8枚目!S17*0.1,内訳明細書8枚目!S17*内訳明細書8枚目!W17)","v":{"$error":"#VALUE!"}}]
[null,null,null,null,null,null,null,null,null,null,null,null,null,null,null,null,null,null,"",null,null,null,null,null,null,null,null,null,{"$f":"IF(W18=\"\",内訳明細書8枚目!S18*0.1,内訳明細書8枚目!S18*内訳明細書8枚目!W18)","v":{"$error":"#VALUE!"}}]
[null,null,null,null,null,null,null,null,null,null,null,null,null,null,null,null,null,null,"",null,null,null,null,null,null,null,null,null,{"$f":"IF(W19=\"\",内訳明細書8枚目!S19*0.1,内訳明細書8枚目!S19*内訳明細書8枚目!W19)","v":{"$error":"#VALUE!"}}]
[null,null,null,null,null,null,null,null,null,null,null,null,null,null,null,null,null,null,"",null,null,null,null,null,null,null,null,null,{"$f":"IF(W20=\"\",内訳明細書8枚目!S20*0.1,内訳明細書8枚目!S20*内訳明細書8枚目!W20)","v":{"$error":"#VALUE!"}}]
[null,null,null,null,null,null,null,null,null,null,null,null,null,null,null,null,null,null,"",null,null,null,null,null,null,null,null,null,{"$f":"IF(W21=\"\",内訳明細書8枚目!S21*0.1,内訳明細書8枚目!S21*内訳明細書8枚目!W21)","v":{"$error":"#VALUE!"}}]
[null,null,null,null,null,null,null,null,null,null,null,null,null,null,null,null,null,null,"",null,null,null,null,null,null,null,null,null,{"$f":"IF(W22=\"\",内訳明細書8枚目!S22*0.1,内訳明細書8枚目!S22*内訳明細書8枚目!W22)","v":{"$error":"#VALUE!"}}]
[null,null,null,null,null,null,null,null,null,null,null,null,null,null,null,null,null,null,"",null,null,null,null,null,null,null,null,null,{"$f":"IF(W23=\"\",内訳明細書8枚目!S23*0.1,内訳明細書8枚目!S23*内訳明細書8枚目!W23)","v":{"$error":"#VALUE!"}}]
[null,null,null,null,null,null,null,null,null,null,null,null,null,null,null,null,null,null,"",null,null,null,null,null,null,null,null,null,{"$f":"IF(W24=\"\",内訳明細書8枚目!S24*0.1,内訳明細書8枚目!S24*内訳明細書8枚目!W24)","v":{"$error":"#VALUE!"}}]
[null,null,null,null,null,null,null,null,null,null,null,null,null,null,null,null,null,null,"",null,null,null,null,null,null,null,null,null,{"$f":"IF(W25=\"\",内訳明細書8枚目!S25*0.1,内訳明細書8枚目!S25*内訳明細書8枚目!W25)","v":{"$error":"#VALUE!"}}]
[null,"小計Ⓐ(税抜)",null,null,null,null,null,null,null,null,null,null,null,null,null,null,null,null,{"$f":"IF(内訳明細書9枚目!S12=\"\",SUM(内訳明細書1枚目!S12:V25,内訳明細書2枚目!S12:V25,内訳明細書3枚目!S12:V25,内訳明細書4枚目!S12:V25,内訳明細書5枚目!S12:V25,内訳明細書6枚目!S12:V25,内訳明細書7枚目!S12:V25,S12:V25),\"\")","v":0}]
[null,"消費税",null,null,null,null,null,null,null,null,null,null,null,null,null,null,null,null,{"$f":"ROUND(_xlfn.AGGREGATE(9,6,内訳明細書1枚目!AC12:AC25,内訳明細書2枚目!AC12:AC25,内訳明細書3枚目!AC12:AC25,内訳明細書4枚目!AC12:AC25,内訳明細書5枚目!AC12:AC25,内訳明細書6枚目!AC12:AC25,内訳明細書7枚目!AC12:AC25,内訳明細書8枚目!AC12:AC25,内訳明細書9枚目!AC12:AC25,AC12:AC25),0)","v":0}]
[null,"合計(1枚目-8枚目)",null,null,null,null,null,null,null,null,null,null,null,null,null,null,null,null,{"$f":"IF(内訳明細書9枚目!S12=\"\",_xlfn.AGGREGATE(9,6,内訳明細書1枚目!S12:V25,内訳明細書1枚目!AC12:AC25,内訳明細書2枚目!S12:V25,内訳明細書2枚目!AC12:AC25,内訳明細書3枚目!S12:V25,内訳明細書3枚目!AC12:AC25,内訳明細書4枚目!S12:V25,内訳明細書4枚目!AC12:AC25,内訳明細書5枚目!S12:V25,内訳明細書5枚目!AC12:AC25,内訳明細書6枚目!S12:V25,内訳明細書6枚目!AC12:AC25,内訳明細書7枚目!S12:V25,内訳明細書7枚目!AC12:AC25,S12:V25,AC12:AC25),\"\")","v":0}]
[]
[null,null,null,null,"所属長",null,"担当",null,null,null,"請求内訳明細書"]
[]
[null,null,null,null,null,null,null,null,null,null,null,null,null,null,null,null,null,null,null,null,"西暦",{"$f":"IF(V3=\"\",\"\",V3)","v":""},null,"年",{"$f":"IF(Y3=\"\",\"\",Y3)","v":""},"月",{"$f":"IF(AA3=\"\",\"\",AA3)","v":""},"日"]
[null,"(現場控)",null,null,null,null,null,null,null,null,null,null,null,null,null,null,null,"住所",null,{"$f":"IF(T4=\"\",\"\",T4)","v":""}]
[null,"工事番号",null,null,{"$f":"IF(E6=\"\",\"\",E6)","v":""},null,"ー",{"$f":"IF(H6=\"\",\"\",H6)","v":""}]
[null,null,null,null,null,null,null,null,null,null,null,null,null,null,null,null,null,"会社名",null,{"$f":"IF(T7=\"\",\"\",T7)","v":""},null,null,null,null,null,null,"印"]
[null,"工事名",null,{"$f":"IF(D8=\"\",\"\",D8)","v":""}]
[null,null,null,null,null,null,null,null,null,null,null,null,null,null,null,null,null,"TEL",null,{"$f":"IF(T9=\"\",\"\",T9)","v":""}]
[]
[null,"月","日","品名／規格",null,null,null,null,null,null,null,null,"数量",null,null,"単価　",null,null,"金額",null,null,null,"税率",null,"備考"]
[null,{"$f":"IF(B12=\"\",\"\",B12)","v":""},{"$f":"IF(C12=\"\",\"\",C12)","v":""},{"$f":"IF(D12=\"\",\"\",D12)","v":""},null,null,null,null,null,null,null,null,{"$f":"IF(M12=\"\",\"\",M12)","v":""},null,null,{"$f":"IF(P12=\"\",\"\",P12)","v":""},null,null,{"$f":"IF(S12=\"\",\"\",S12)","v":""},null,null,null,{"$f":"IF(W12=\"\",\"\",W12)","v":""},null,{"$f":"IF(Y12=\"\",\"\",Y12)","v":""}]
[null,{"$f":"IF(B13=\"\",\"\",B13)","v":""},"","",null,null,null,null,null,null,null,null,{"$f":"IF(M13=\"\",\"\",M13)","v":""},null,null,{"$f":"IF(P13=\"\",\"\",P13)","v":""},null,null,{"$f":"IF(S13=\"\",\"\",S13)","v":""},null,null,null,{"$f":"IF(W13=\"\",\"\",W13)","v":""},null,{"$f":"IF(Y13=\"\",\"\",Y13)","v":""}]
[null,"","","",null,null,null,null,null,null,null,null,"",null,null,"",null,null,"",null,null,null,"",null,""]
[null,"","","",null,null,null,null,null,null,null,null,"",null,null,"",null,null,"",null,null,null,"",null,""]
[null,"","","",null,null,null,null,null,null,null,null,"",null,null,"",null,null,"",null,null,null,"",null,""]
[null,"","","",null,null,null,null,null,null,null,null,"",null,null,"",null,null,"",null,null,null,"",null,""]
[null,"","","",null,null,null,null,null,null,null,null,"",null,null,"",null,null,"",null,null,null,"",null,""]
[null,"","","",null,null,null,null,null,null,null,null,"",null,null,"",null,null,"",null,null,null,"",null,""]
[null,"","","",null,null,null,null,null,null,null,null,"",null,null,"",null,null,"",null,null,null,"",null,""]
[null,"","","",null,null,null,null,null,null,null,null,"",null,null,"",null,null,"",null,null,null,"",null,""]
[null,"","","",null,null,null,null,null,null,null,null,"",null,null,"",null,null,"",null,null,null,"",null,""]
[null,"","","",null,null,null,null,null,null,null,null,"",null,null,"",null,null,"",null,null,null,"",null,""]
[null,"","","",null,null,null,null,null,null,null,null,"",null,null,"",null,null,"",null,null,null,"",null,""]
[null,"","","",null,null,null,null,null,null,null,null,"",null,null,"",null,null,"",null,null,null,"",null,""]
[null,"小計Ⓐ(税抜)",null,null,null,null,null,null,null,null,null,null,null,null,null,null,null,null,{"$f":"IF(S26=\"\",\"\",S26)","v":0}]
[null,"消費税",null,null,null,null,null,null,null,null,null,null,null,null,null,null,null,null,{"$f":"IF(S27=\"\",\"\",S27)","v":0}]
[null,"合計(1枚目-8枚目)",null,null,null,null,null,null,null,null,null,null,null,null,null,null,null,null,{"$f":"IF(S28=\"\",\"\",S28)","v":0}]
[]
[null,null,null,null,"所属長",null,"担当",null,null,null,"請求内訳明細書"]
[]
[null,null,null,null,null,null,null,null,null,null,null,null,null,null,null,null,null,null,null,null,"西暦",{"$f":"IF(V3=\"\",\"\",V3)","v":""},null,"年",{"$f":"IF(Y3=\"\",\"\",Y3)","v":""},"月",{"$f":"IF(AA3=\"\",\"\",AA3)","v":""},"日"]
[null,"(経理控)",null,null,null,null,null,null,null,null,null,null,null,null,null,null,null,"住所",null,{"$f":"IF(T4=\"\",\"\",T4)","v":""}]
[null,"工事番号",null,null,{"$f":"IF(E6=\"\",\"\",E6)","v":""},null,"ー",{"$f":"IF(H6=\"\",\"\",H6)","v":""}]
[null,null,null,null,null,null,null,null,null,null,null,null,null,null,null,null,null,"会社名",null,{"$f":"IF(T7=\"\",\"\",T7)","v":""},null,null,null,null,null,null,"印"]
[null,"工事名",null,{"$f":"IF(D8=\"\",\"\",D8)","v":""}]
[null,null,null,null,null,null,null,null,null,null,null,null,null,null,null,null,null,"TEL",null,{"$f":"IF(T9=\"\",\"\",T9)","v":""}]
[]
[null,"月","日","品名／規格",null,null,null,null,null,null,null,null,"数量",null,null,"単価　",null,null,"金額",null,null,null,"税率",null,"備考"]
[null,{"$f":"IF(B12=\"\",\"\",B12)","v":""},{"$f":"IF(C12=\"\",\"\",C12)","v":""},{"$f":"IF(D12=\"\",\"\",D12)","v":""},null,null,null,null,null,null,null,null,{"$f":"IF(M12=\"\",\"\",M12)","v":""},null,null,{"$f":"IF(P12=\"\",\"\",P12)","v":""},null,null,{"$f":"IF(S12=\"\",\"\",S12)","v":""},null,null,null,{"$f":"IF(W12=\"\",\"\",W12)","v":""},null,{"$f":"IF(Y12=\"\",\"\",Y12)","v":""}]
[null,{"$f":"IF(B13=\"\",\"\",B13)","v":""},"",{"$f":"IF(D13=\"\",\"\",D13)","v":""},null,null,null,null,null,null,null,null,{"$f":"IF(M13=\"\",\"\",M13)","v":""},null,null,{"$f":"IF(P13=\"\",\"\",P13)","v":""},null,null,{"$f":"IF(S13=\"\",\"\",S13)","v":""},null,null,null,{"$f":"IF(W13=\"\",\"\",W13)","v":""},null,{"$f":"IF(Y13=\"\",\"\",Y13)","v":""}]
[null,"","","",null,null,null,null,null,null,null,null,"",null,null,"",null,null,"",null,null,null,"",null,""]
[null,"","","",null,null,null,null,null,null,null,null,"",null,null,"",null,null,"",null,null,null,"",null,""]
[null,"","","",null,null,null,null,null,null,null,null,"",null,null,"",null,null,"",null,null,null,"",null,""]
[null,"","","",null,null,null,null,null,null,null,null,"",null,null,"",null,null,"",null,null,null,"",null,""]
[null,"","","",null,null,null,null,null,null,null,null,"",null,null,"",null,null,"",null,null,null,"",null,""]
[null,"","","",null,null,null,null,null,null,null,null,"",null,null,"",null,null,"",null,null,null,"",null,""]
[null,"","","",null,null,null,null,null,null,null,null,"",null,null,"",null,null,"",null,null,null,"",null,""]
[null,"","","",null,null,null,null,null,null,null,null,"",null,null,"",null,null,"",null,null,null,"",null,""]
[null,"","","",null,null,null,null,null,null,null,null,"",null,null,"",null,null,"",null,null,null,"",null,""]
[null,"","","",null,null,null,null,null,null,null,null,"",null,null,"",null,null,"",null,null,null,"",null,""]
[null,"","","",null,null,null,null,null,null,null,null,"",null,null,"",null,null,"",null,null,null,"",null,""]
[null,"","","",null,null,null,null,null,null,null,null,"",null,null,"",null,null,"",null,null,null,"",null,""]
[null,"小計Ⓐ(税抜)",null,null,null,null,null,null,null,null,null,null,null,null,null,null,null,null,{"$f":"IF(S26=\"\",\"\",S26)","v":0}]
[null,"消費税",null,null,null,null,null,null,null,null,null,null,null,null,null,null,null,null,{"$f":"IF(S27=\"\",\"\",S27)","v":0}]
[null,"合計(1枚目-8枚目)",null,null,null,null,null,null,null,null,null,null,null,null,null,null,null,null,{"$f":"IF(S28=\"\",\"\",S28)","v":0}]

{"sheet":"内訳明細書9枚目","index":10,"n_rows":84,"n_cols":32,"rows_kept":84,"cut":false,"hidden":true,"merged":[[3,1,3,2],[3,4,3,9],[3,17,5,18],[3,19,5,27],[5,1,6,3],[5,4,6,5],[5,6,6,6],[5,7,6,8],[6,17,7,18],[6,19,7,25],[6,26,7,27],[0,4,0,7],[0,10,2,19],[1,4,1,7],[2,4,2,7],[2,21,2,22],[11,3,11,11],[11,12,11,14],[11,15,11,17],[11,18,11,21],[11,22,11,23],[11,24,11,27],[7,1,8,2],[7,3,8,12],[8,17,8,18],[8,19,8,27],[10,3,10,11],[10,12,10,14],[10,15,10,17],[10,18,10,21],[10,22,10,23],[10,24,10,27],[13,3,13,11],[13,12,13,14],[13,15,13,17],[13,18,13,21],[13,22,13,23],[13,24,13,27],[12,3,12,11],[12,12,12,14],[12,15,12,17],[12,18,12,21],[12,22,12,23],[12,24,12,27],[15,3,15,11],[15,12,15,14],[15,15,15,17],[15,18,15,21],[15,22,15,23],[15,24,15,27],[14,3,14,11],[14,12,14,14],[14,15,14,17],[14,18,14,21],[14,22,14,23],[14,24,14,27],[17,3,17,11],[17,12,17,14],[17,15,17,17],[17,18,17,21],[17,22,17,23],[17,24,17,27],[16,3,16,11],[16,12,16,14],[16,15,16,17],[16,18,16,21],[16,22,16,23],[16,24,16,27],[19,3,19,11],[19,12,19,14],[19,15,19,17],[19,18,19,21],[19,22,19,23],[19,24,19,27],[18,3,18,11],[18,12,18,14],[18,15,18,17],[18,18,18,21],[18,22,18,23],[18,24,18,27],[22,24,22,27],[21,3,21,11],[21,12,21,14],[21,15,21,17],[21,18,21,21],[21,22,21,23],[21,24,21,27],[20,3,20,11],[20,12,20,14],[20,15,20,17],[20,18,20,21],[20,22,20,23],[20,24,20,27],[23,3,23,11],[23,18,23,21],[23,22,23,23],[24,3,24,11],[24,12,24,14],[24,15,24,17],[24,18,24,21],[24,22,24,23],[22,3,22,11],[22,12,22,14],[22,15,22,17],[22,18,22,21],[22,22,22,23],[29,10,31,19],[24,24,24,27],[25,1,25,17],[25,18,25,21],[25,22,27,27],[26,1,26,17],[26,18,26,21],[27,1,27,17],[27,18,27,21],[31,21,31,22],[29,4,29,5],[30,4,31,5],[29,6,29,7],[30,6,31,7],[38,3,38,11],[38,12,38,14],[38,15,38,17],[38,18,38,21],[38,22,38,23],[38,24,38,27],[32,1,32,2],[33,1,34,3],[33,4,34,5],[33,6,34,6],[33,7,34,8],[35,1,36,2],[35,3,36,12],[36,19,36,27],[32,19,33,27],[36,17,36,18],[34,17,35,18],[32,17,33,18],[34,26,35,27],[34,19,35,25],[40,3,40,11],[40,12,40,14],[40,15,40,17],[40,18,40,21],[40,22,40,23],[40,24,40,27],[39,3,39,11],[39,12,39,14],[39,15,39,17],[39,18,39,21],[39,22,39,23],[39,24,39,27],[42,3,42,11],[42,12,42,14],[42,15,42,17],[42,18,42,21],[42,22,42,23],[42,24,42,27],[41,3,41,11],[41,12,41,14],[41,15,41,17],[41,18,41,21],[41,22,41,23],[41,24,41,27],[44,3,44,11],[44,12,44,14],[44,15,44,17],[44,18,44,21],[44,22,44,23],[44,24,44,27],[43,3,43,11],[43,12,43,14],[43,15,43,17],[43,18,43,21],[43,22,43,23],[43,24,43,27],[46,3,46,11],[46,12,46,14],[46,15,46,17],[46,18,46,21],[46,22,46,23],[46,24,46,27],[45,3,45,11],[45,12,45,14],[45,15,45,17],[45,18,45,21],[45,22,45,23],[45,24,45,27],[48,3,48,11],[48,12,48,14],[48,15,48,17],[48,18,48,21],[48,22,48,23],[48,24,48,27],[47,3,47,11],[47,12,47,14],[47,15,47,17],[47,18,47,21],[47,22,47,23],[47,24,47,27],[50,3,50,11],[50,12,50,14],[50,15,50,17],[50,18,50,21],[50,22,50,23],[50,24,50,27],[49,3,49,11],[49,12,49,14],[49,15,49,17],[49,18,49,21],[49,22,49,23],[49,24,49,27],[52,3,52,11],[52,12,52,14],[52,15,52,17],[52,18,52,21],[52,22,52,23],[52,24,52,27],[51,3,51,11],[51,12,51,14],[51,15,51,17],[51,18,51,21],[51,22,51,23],[51,24,51,27],[57,10,59,19],[53,1,53,17],[53,18,53,21],[59,21,59,22],[53,22,55,27],[54,1,54,17],[54,18,54,21],[55,1,55,17],[55,18,55,21],[58,6,59,7],[58,4,59,5],[57,6,57,7],[57,4,57,5],[66,3,66,11],[66,12,66,14],[66,15,66,17],[66,18,66,21],[66,22,66,23],[66,24,66,27],[60,1,60,2],[61,1,62,3],[61,4,62,5],[61,6,62,6],[61,7,62,8],[63,1,64,2],[63,3,64,12],[64,19,64,27],[60,19,61,27],[64,17,64,18],[62,17,63,18],[60,17,61,18],[62,19,63,25],[62,26,63,27],[68,3,68,11],[68,12,68,14],[68,15,68,17],[68,18,68,21],[68,22,68,23],[68,24,68,27],[67,3,67,11],[67,12,67,14],[67,15,67,17],[67,18,67,21],[67,22,67,23],[67,24,67,27],[70,3,70,11],[70,12,70,14],[70,15,70,17],[70,18,70,21],[70,22,70,23],[70,24,70,27],[69,3,69,11],[69,12,69,14],[69,15,69,17],[69,18,69,21],[69,22,69,23],[69,24,69,27],[72,3,72,11],[72,12,72,14],[72,15,72,17],[72,18,72,21],[72,22,72,23],[72,24,72,27],[71,3,71,11],[71,12,71,14],[71,15,71,17],[71,18,71,21],[71,22,71,23],[71,24,71,27],[74,3,74,11],[74,12,74,14],[74,15,74,17],[74,18,74,21],[74,22,74,23],[74,24,74,27],[73,3,73,11],[73,12,73,14],[73,15,73,17],[73,18,73,21],[73,22,73,23],[73,24,73,27],[76,3,76,11],[76,12,76,14],[76,15,76,17],[76,18,76,21],[76,22,76,23],[76,24,76,27],[75,3,75,11],[75,12,75,14],[75,15,75,17],[75,18,75,21],[75,22,75,23],[75,24,75,27],[78,15,78,17],[78,18,78,21],[78,22,78,23],[78,24,78,27],[77,3,77,11],[77,12,77,14],[77,15,77,17],[77,18,77,21],[77,22,77,23],[77,24,77,27],[23,24,23,27],[23,12,23,14],[23,15,23,17],[81,1,81,17],[81,18,81,21],[81,22,83,27],[82,1,82,17],[82,18,82,21],[83,1,83,17],[83,18,83,21],[80,3,80,11],[80,12,80,14],[80,15,80,17],[80,18,80,21],[80,22,80,23],[80,24,80,27],[79,3,79,11],[79,12,79,14],[79,15,79,17],[79,18,79,21],[79,22,79,23],[79,24,79,27],[78,3,78,11],[78,12,78,14]]}
[null,null,null,null,"業者コード",null,null,null,null,null,"請求内訳明細書"]
[null,null,null,null,{"$f":"IF(内訳明細書1枚目!E2=\"\",\"\",内訳明細書1枚目!E2)","v":""}]
[null,null,null,null,"登録番号",null,null,null,null,null,null,null,null,null,null,null,null,null,null,null,"西暦",{"$f":"IF(内訳明細書1枚目!V3=\"\",\"\",内訳明細書1枚目!V3)","v":""},null,"年",{"$f":"IF(内訳明細書1枚目!Y3=\"\",\"\",内訳明細書1枚目!Y3)","v":""},"月",{"$f":"IF(内訳明細書1枚目!AA3=\"\",\"\",内訳明細書1枚目!AA3)","v":""},"日"]
[null,"(業者控)",null,null,{"$f":"IF(内訳明細書1枚目!E4=\"\",\"\",内訳明細書1枚目!E4)","v":""},null,null,null,null,null,null,null,null,null,null,null,null,"住所",null,{"$f":"IF(内訳明細書1枚目!T4=\"\",\"\",内訳明細書1枚目!T4)","v":""}]
[]
[null,"工事番号",null,null,{"$f":"IF(内訳明細書1枚目!E6=\"\",\"\",内訳明細書1枚目!E6)","v":""},null,"ー",{"$f":"IF(内訳明細書1枚目!H6=\"\",\"\",内訳明細書1枚目!H6)","v":""}]
[null,null,null,null,null,null,null,null,null,null,null,null,null,null,null,null,null,"会社名",null,{"$f":"IF(内訳明細書1枚目!T7=\"\",\"\",内訳明細書1枚目!T7)","v":""},null,null,null,null,null,null,"印"]
[null,"工事名",null,{"$f":"IF(内訳明細書1枚目!D8=\"\",\"\",内訳明細書1枚目!D8)","v":""}]
[null,null,null,null,null,null,null,null,null,null,null,null,null,null,null,null,{"$f":"IF(内訳明細書1枚目!Q9=\"\",\"\",内訳明細書1枚目!Q9)","v":""},"TEL",null,{"$f":"IF(内訳明細書1枚目!T9=\"\",\"\",内訳明細書1枚目!T9)","v":""}]
[]
[null,"月","日","品名／規格",null,null,null,null,null,null,null,null,"数量",null,null,"単価",null,null,"金額",null,null,null,"税率",null,"備考"]
[null,null,null,null,null,null,null,null,null,null,null,null,null,null,null,null,null,null,{"$f":"IF(ROUND(M12*P12,0)=0,\"\",ROUND(M12*P12,0))","v":""},null,null,null,null,null,null,null,null,null,{"$f":"IF(W12=\"\",内訳明細書9枚目!S12*0.1,内訳明細書9枚目!S12*内訳明細書9枚目!W12)","v":{"$error":"#VALUE!"}},null,null,"　"]
[null,null,null,null,null,null,null,null,null,null,null,null,null,null,null,null,null,null,{"$f":"IF(ROUND(M13*P13,0)=0,\"\",ROUND(M13*P13,0))","v":""},null,null,null,null,null,null,null,null,null,{"$f":"IF(W13=\"\",内訳明細書9枚目!S13*0.1,内訳明細書9枚目!S13*内訳明細書9枚目!W13)","v":{"$error":"#VALUE!"}}]
[null,null,null,null,null,null,null,null,null,null,null,null,null,null,null,null,null,null,"",null,null,null,null,null,null,null,null,null,{"$f":"IF(W14=\"\",内訳明細書9枚目!S14*0.1,内訳明細書9枚目!S14*内訳明細書9枚目!W14)","v":{"$error":"#VALUE!"}}]
[null,null,null,null,null,null,null,null,null,null,null,null,null,null,null,null,null,null,"",null,null,null,null,null,null,null,null,null,{"$f":"IF(W15=\"\",内訳明細書9枚目!S15*0.1,内訳明細書9枚目!S15*内訳明細書9枚目!W15)","v":{"$error":"#VALUE!"}}]
[null,null,null,null,null,null,null,null,null,null,null,null,null,null,null,null,null,null,"",null,null,null,null,null,null,null,null,null,{"$f":"IF(W16=\"\",内訳明細書9枚目!S16*0.1,内訳明細書9枚目!S16*内訳明細書9枚目!W16)","v":{"$error":"#VALUE!"}}]
[null,null,null,null,null,null,null,null,null,null,null,null,null,null,null,null,null,null,"",null,null,null,null,null,null,null,null,null,{"$f":"IF(W17=\"\",内訳明細書9枚目!S17*0.1,内訳明細書9枚目!S17*内訳明細書9枚目!W17)","v":{"$error":"#VALUE!"}}]
[null,null,null,null,null,null,null,null,null,null,null,null,null,null,null,null,null,null,"",null,null,null,null,null,null,null,null,null,{"$f":"IF(W18=\"\",内訳明細書9枚目!S18*0.1,内訳明細書9枚目!S18*内訳明細書9枚目!W18)","v":{"$error":"#VALUE!"}}]
[null,null,null,null,null,null,null,null,null,null,null,null,null,null,null,null,null,null,"",null,null,null,null,null,null,null,null,null,{"$f":"IF(W19=\"\",内訳明細書9枚目!S19*0.1,内訳明細書9枚目!S19*内訳明細書9枚目!W19)","v":{"$error":"#VALUE!"}}]
[null,null,null,null,null,null,null,null,null,null,null,null,null,null,null,null,null,null,"",null,null,null,null,null,null,null,null,null,{"$f":"IF(W20=\"\",内訳明細書9枚目!S20*0.1,内訳明細書9枚目!S20*内訳明細書9枚目!W20)","v":{"$error":"#VALUE!"}}]
[null,null,null,null,null,null,null,null,null,null,null,null,null,null,null,null,null,null,"",null,null,null,null,null,null,null,null,null,{"$f":"IF(W21=\"\",内訳明細書9枚目!S21*0.1,内訳明細書9枚目!S21*内訳明細書9枚目!W21)","v":{"$error":"#VALUE!"}}]
[null,null,null,null,null,null,null,null,null,null,null,null,null,null,null,null,null,null,"",null,null,null,null,null,null,null,null,null,{"$f":"IF(W22=\"\",内訳明細書9枚目!S22*0.1,内訳明細書9枚目!S22*内訳明細書9枚目!W22)","v":{"$error":"#VALUE!"}}]
[null,null,null,null,null,null,null,null,null,null,null,null,null,null,null,null,null,null,"",null,null,null,null,null,null,null,null,null,{"$f":"IF(W23=\"\",内訳明細書9枚目!S23*0.1,内訳明細書9枚目!S23*内訳明細書9枚目!W23)","v":{"$error":"#VALUE!"}}]
[null,null,null,null,null,null,null,null,null,null,null,null,null,null,null,null,null,null,"",null,null,null,null,null,null,null,null,null,{"$f":"IF(W24=\"\",内訳明細書9枚目!S24*0.1,内訳明細書9枚目!S24*内訳明細書9枚目!W24)","v":{"$error":"#VALUE!"}}]
[null,null,null,null,null,null,null,null,null,null,null,null,null,null,null,null,null,null,"",null,null,null,null,null,null,null,null,null,{"$f":"IF(W25=\"\",内訳明細書9枚目!S25*0.1,内訳明細書9枚目!S25*内訳明細書9枚目!W25)","v":{"$error":"#VALUE!"}}]
[null,"小計Ⓐ(税抜)",null,null,null,null,null,null,null,null,null,null,null,null,null,null,null,null,{"$f":"IF(内訳明細書10枚目!S12=\"\",SUM(内訳明細書1枚目!S12:V25,内訳明細書2枚目!S12:V25,内訳明細書3枚目!S12:V25,内訳明細書4枚目!S12:V25,内訳明細書5枚目!S12:V25,内訳明細書6枚目!S12:V25,内訳明細書7枚目!S12:V25,内訳明細書8枚目!S12:V25,S12:V25),\"\")","v":0}]
[null,"消費税",null,null,null,null,null,null,null,null,null,null,null,null,null,null,null,null,{"$f":"ROUND(_xlfn.AGGREGATE(9,6,内訳明細書1枚目!AC12:AC25,内訳明細書2枚目!AC12:AC25,内訳明細書3枚目!AC12:AC25,内訳明細書4枚目!AC12:AC25,内訳明細書5枚目!AC12:AC25,内訳明細書6枚目!AC12:AC25,内訳明細書7枚目!AC12:AC25,内訳明細書8枚目!AC12:AC25,内訳明細書9枚目!AC12:AC25,AC12:AC25),0)","v":0}]
[null,"合計(1枚目-9枚目)",null,null,null,null,null,null,null,null,null,null,null,null,null,null,null,null,{"$f":"IF(内訳明細書10枚目!S12=\"\",_xlfn.AGGREGATE(9,6,内訳明細書1枚目!S12:V25,内訳明細書1枚目!AC12:AC25,内訳明細書2枚目!S12:V25,内訳明細書2枚目!AC12:AC25,内訳明細書3枚目!S12:V25,内訳明細書3枚目!AC12:AC25,内訳明細書4枚目!S12:V25,内訳明細書4枚目!AC12:AC25,内訳明細書5枚目!S12:V25,内訳明細書5枚目!AC12:AC25,内訳明細書6枚目!S12:V25,内訳明細書6枚目!AC12:AC25,内訳明細書7枚目!S12:V25,内訳明細書7枚目!AC12:AC25,内訳明細書8枚目!S12:V25,内訳明細書8枚目!AC12:AC25,S12:V25,AC12:AC25),\"\")","v":0}]
[]
[null,null,null,null,"所属長",null,"担当",null,null,null,"請求内訳明細書"]
[]
[null,null,null,null,null,null,null,null,null,null,null,null,null,null,null,null,null,null,null,null,"西暦",{"$f":"IF(V3=\"\",\"\",V3)","v":""},null,"年",{"$f":"IF(Y3=\"\",\"\",Y3)","v":""},"月",{"$f":"IF(AA3=\"\",\"\",AA3)","v":""},"日"]
[null,"(現場控)",null,null,null,null,null,null,null,null,null,null,null,null,null,null,null,"住所",null,{"$f":"IF(T4=\"\",\"\",T4)","v":""}]
[null,"工事番号",null,null,{"$f":"IF(E6=\"\",\"\",E6)","v":""},null,"ー",{"$f":"IF(H6=\"\",\"\",H6)","v":""}]
[null,null,null,null,null,null,null,null,null,null,null,null,null,null,null,null,null,"会社名",null,{"$f":"IF(T7=\"\",\"\",T7)","v":""},null,null,null,null,null,null,"印"]
[null,"工事名",null,{"$f":"IF(D8=\"\",\"\",D8)","v":""}]
[null,null,null,null,null,null,null,null,null,null,null,null,null,null,null,null,null,"TEL",null,{"$f":"IF(T9=\"\",\"\",T9)","v":""}]
[]
[null,"月","日","品名／規格",null,null,null,null,null,null,null,null,"数量",null,null,"単価　",null,null,"金額",null,null,null,"税率",null,"備考"]
[null,{"$f":"IF(B12=\"\",\"\",B12)","v":""},{"$f":"IF(C12=\"\",\"\",C12)","v":""},{"$f":"IF(D12=\"\",\"\",D12)","v":""},null,null,null,null,null,null,null,null,{"$f":"IF(M12=\"\",\"\",M12)","v":""},null,null,{"$f":"IF(P12=\"\",\"\",P12)","v":""},null,null,{"$f":"IF(S12=\"\",\"\",S12)","v":""},null,null,null,{"$f":"IF(W12=\"\",\"\",W12)","v":""},null,{"$f":"IF(Y12=\"\",\"\",Y12)","v":""}]
[null,{"$f":"IF(B13=\"\",\"\",B13)","v":""},"","",null,null,null,null,null,null,null,null,{"$f":"IF(M13=\"\",\"\",M13)","v":""},null,null,{"$f":"IF(P13=\"\",\"\",P13)","v":""},null,null,{"$f":"IF(S13=\"\",\"\",S13)","v":""},null,null,null,{"$f":"IF(W13=\"\",\"\",W13)","v":""},null,{"$f":"IF(Y13=\"\",\"\",Y13)","v":""}]
[null,"","","",null,null,null,null,null,null,null,null,"",null,null,"",null,null,{"$f":"IF(S14=\"\",\"\",S14)","v":""},null,null,null,"",null,""]
[null,"","","",null,null,null,null,null,null,null,null,"",null,null,"",null,null,"",null,null,null,"",null,""]
[null,"","","",null,null,null,null,null,null,null,null,"",null,null,"",null,null,"",null,null,null,"",null,""]
[null,"","","",null,null,null,null,null,null,null,null,"",null,null,"",null,null,"",null,null,null,"",null,""]
[null,"","","",null,null,null,null,null,null,null,null,"",null,null,"",null,null,"",null,null,null,"",null,""]
[null,"","","",null,null,null,null,null,null,null,null,"",null,null,"",null,null,"",null,null,null,"",null,""]
[null,"","","",null,null,null,null,null,null,null,null,"",null,null,"",null,null,"",null,null,null,"",null,""]
[null,"","","",null,null,null,null,null,null,null,null,"",null,null,"",null,null,"",null,null,null,"",null,""]
[null,"","","",null,null,null,null,null,null,null,null,"",null,null,"",null,null,"",null,null,null,"",null,""]
[null,"","","",null,null,null,null,null,null,null,null,"",null,null,"",null,null,"",null,null,null,"",null,""]
[null,"","","",null,null,null,null,null,null,null,null,"",null,null,"",null,null,"",null,null,null,"",null,""]
[null,"","","",null,null,null,null,null,null,null,null,"",null,null,"",null,null,"",null,null,null,"",null,""]
[null,"小計Ⓐ(税抜)",null,null,null,null,null,null,null,null,null,null,null,null,null,null,null,null,{"$f":"IF(S26=\"\",\"\",S26)","v":0}]
[null,"消費税",null,null,null,null,null,null,null,null,null,null,null,null,null,null,null,null,{"$f":"IF(S27=\"\",\"\",S27)","v":0}]
[null,"合計(1枚目-9枚目)",null,null,null,null,null,null,null,null,null,null,null,null,null,null,null,null,{"$f":"IF(S28=\"\",\"\",S28)","v":0}]
[]
[null,null,null,null,"所属長",null,"担当",null,null,null,"請求内訳明細書"]
[]
[null,null,null,null,null,null,null,null,null,null,null,null,null,null,null,null,null,null,null,null,"西暦",{"$f":"IF(V3=\"\",\"\",V3)","v":""},null,"年",{"$f":"IF(Y3=\"\",\"\",Y3)","v":""},"月",{"$f":"IF(AA3=\"\",\"\",AA3)","v":""},"日"]
[null,"(経理控)",null,null,null,null,null,null,null,null,null,null,null,null,null,null,null,"住所",null,{"$f":"IF(T4=\"\",\"\",T4)","v":""}]
[null,"工事番号",null,null,{"$f":"IF(E6=\"\",\"\",E6)","v":""},null,"ー",{"$f":"IF(H6=\"\",\"\",H6)","v":""}]
[null,null,null,null,null,null,null,null,null,null,null,null,null,null,null,null,null,"会社名",null,{"$f":"IF(T7=\"\",\"\",T7)","v":""},null,null,null,null,null,null,"印"]
[null,"工事名",null,{"$f":"IF(D8=\"\",\"\",D8)","v":""}]
[null,null,null,null,null,null,null,null,null,null,null,null,null,null,null,null,null,"TEL",null,{"$f":"IF(T9=\"\",\"\",T9)","v":""}]
[]
[null,"月","日","品名／規格",null,null,null,null,null,null,null,null,"数量",null,null,"単価　",null,null,"金額",null,null,null,"税率",null,"備考"]
[null,{"$f":"IF(B12=\"\",\"\",B12)","v":""},{"$f":"IF(C12=\"\",\"\",C12)","v":""},{"$f":"IF(D12=\"\",\"\",D12)","v":""},null,null,null,null,null,null,null,null,{"$f":"IF(M12=\"\",\"\",M12)","v":""},null,null,{"$f":"IF(P12=\"\",\"\",P12)","v":""},null,null,{"$f":"IF(S12=\"\",\"\",S12)","v":""},null,null,null,{"$f":"IF(W12=\"\",\"\",W12)","v":""},null,{"$f":"IF(Y12=\"\",\"\",Y12)","v":""}]
[null,{"$f":"IF(B13=\"\",\"\",B13)","v":""},"","",null,null,null,null,null,null,null,null,{"$f":"IF(M13=\"\",\"\",M13)","v":""},null,null,{"$f":"IF(P13=\"\",\"\",P13)","v":""},null,null,{"$f":"IF(S13=\"\",\"\",S13)","v":""},null,null,null,{"$f":"IF(W13=\"\",\"\",W13)","v":""},null,{"$f":"IF(Y13=\"\",\"\",Y13)","v":""}]
[null,"","","",null,null,null,null,null,null,null,null,"",null,null,"",null,null,{"$f":"IF(S14=\"\",\"\",S14)","v":""},null,null,null,"",null,""]
[null,"","","",null,null,null,null,null,null,null,null,"",null,null,"",null,null,"",null,null,null,"",null,""]
[null,"","","",null,null,null,null,null,null,null,null,"",null,null,"",null,null,"",null,null,null,"",null,""]
[null,"","","",null,null,null,null,null,null,null,null,"",null,null,"",null,null,"",null,null,null,"",null,""]
[null,"","","",null,null,null,null,null,null,null,null,"",null,null,"",null,null,"",null,null,null,"",null,""]
[null,"","","",null,null,null,null,null,null,null,null,"",null,null,"",null,null,"",null,null,null,"",null,""]
[null,"","","",null,null,null,null,null,null,null,null,"",null,null,"",null,null,"",null,null,null,"",null,""]
[null,"","","",null,null,null,null,null,null,null,null,"",null,null,"",null,null,"",null,null,null,"",null,""]
[null,"","","",null,null,null,null,null,null,null,null,"",null,null,"",null,null,"",null,null,null,"",null,""]
[null,"","","",null,null,null,null,null,null,null,null,"",null,null,"",null,null,"",null,null,null,"",null,""]
[null,"","","",null,null,null,null,null,null,null,null,"",null,null,"",null,null,"",null,null,null,"",null,""]
[null,"","","",null,null,null,null,null,null,null,null,"",null,null,"",null,null,"",null,null,null,"",null,""]
[null,"小計Ⓐ(税抜)",null,null,null,null,null,null,null,null,null,null,null,null,null,null,null,null,{"$f":"IF(S26=\"\",\"\",S26)","v":0}]
[null,"消費税",null,null,null,null,null,null,null,null,null,null,null,null,null,null,null,null,{"$f":"IF(S27=\"\",\"\",S27)","v":0}]
[null,"合計(1枚目-9枚目)",null,null,null,null,null,null,null,null,null,null,null,null,null,null,null,null,{"$f":"IF(S28=\"\",\"\",S28)","v":0}]

{"sheet":"内訳明細書10枚目","index":11,"n_rows":84,"n_cols":32,"rows_kept":84,"cut":false,"hidden":true,"merged":[[3,1,3,2],[3,4,3,9],[3,17,5,18],[3,19,5,27],[5,1,6,3],[5,4,6,5],[5,6,6,6],[5,7,6,8],[6,17,7,18],[6,19,7,25],[6,26,7,27],[0,4,0,7],[0,10,2,19],[1,4,1,7],[2,4,2,7],[2,21,2,22],[11,3,11,11],[11,12,11,14],[11,15,11,17],[11,18,11,21],[11,22,11,23],[11,24,11,27],[7,1,8,2],[7,3,8,12],[8,17,8,18],[8,19,8,27],[10,3,10,11],[10,12,10,14],[10,15,10,17],[10,18,10,21],[10,22,10,23],[10,24,10,27],[13,3,13,11],[13,12,13,14],[13,15,13,17],[13,18,13,21],[13,22,13,23],[13,24,13,27],[12,3,12,11],[12,12,12,14],[12,15,12,17],[12,18,12,21],[12,22,12,23],[12,24,12,27],[15,3,15,11],[15,12,15,14],[15,15,15,17],[15,18,15,21],[15,22,15,23],[15,24,15,27],[14,3,14,11],[14,12,14,14],[14,15,14,17],[14,18,14,21],[14,22,14,23],[14,24,14,27],[17,3,17,11],[17,12,17,14],[17,15,17,17],[17,18,17,21],[17,22,17,23],[17,24,17,27],[16,3,16,11],[16,12,16,14],[16,15,16,17],[16,18,16,21],[16,22,16,23],[16,24,16,27],[19,3,19,11],[19,12,19,14],[19,15,19,17],[19,18,19,21],[19,22,19,23],[19,24,19,27],[18,3,18,11],[18,12,18,14],[18,15,18,17],[18,18,18,21],[18,22,18,23],[18,24,18,27],[22,24,22,27],[21,3,21,11],[21,12,21,14],[21,15,21,17],[21,18,21,21],[21,22,21,23],[21,24,21,27],[20,3,20,11],[20,12,20,14],[20,15,20,17],[20,18,20,21],[20,22,20,23],[20,24,20,27],[23,3,23,11],[23,18,23,21],[23,22,23,23],[24,3,24,11],[24,12,24,14],[24,15,24,17],[24,18,24,21],[24,22,24,23],[22,3,22,11],[22,12,22,14],[22,15,22,17],[22,18,22,21],[22,22,22,23],[29,10,31,19],[24,24,24,27],[25,1,25,17],[25,18,25,21],[25,22,27,27],[26,1,26,17],[26,18,26,21],[27,1,27,17],[27,18,27,21],[31,21,31,22],[29,4,29,5],[30,4,31,5],[29,6,29,7],[30,6,31,7],[38,3,38,11],[38,12,38,14],[38,15,38,17],[38,18,38,21],[38,22,38,23],[38,24,38,27],[32,1,32,2],[33,1,34,3],[33,4,34,5],[33,6,34,6],[33,7,34,8],[35,1,36,2],[35,3,36,12],[36,19,36,27],[32,19,33,27],[36,17,36,18],[34,17,35,18],[32,17,33,18],[34,26,35,27],[34,19,35,25],[40,3,40,11],[40,12,40,14],[40,15,40,17],[40,18,40,21],[40,22,40,23],[40,24,40,27],[39,3,39,11],[39,12,39,14],[39,15,39,17],[39,18,39,21],[39,22,39,23],[39,24,39,27],[42,3,42,11],[42,12,42,14],[42,15,42,17],[42,18,42,21],[42,22,42,23],[42,24,42,27],[41,3,41,11],[41,12,41,14],[41,15,41,17],[41,18,41,21],[41,22,41,23],[41,24,41,27],[44,3,44,11],[44,12,44,14],[44,15,44,17],[44,18,44,21],[44,22,44,23],[44,24,44,27],[43,3,43,11],[43,12,43,14],[43,15,43,17],[43,18,43,21],[43,22,43,23],[43,24,43,27],[46,3,46,11],[46,12,46,14],[46,15,46,17],[46,18,46,21],[46,22,46,23],[46,24,46,27],[45,3,45,11],[45,12,45,14],[45,15,45,17],[45,18,45,21],[45,22,45,23],[45,24,45,27],[48,3,48,11],[48,12,48,14],[48,15,48,17],[48,18,48,21],[48,22,48,23],[48,24,48,27],[47,3,47,11],[47,12,47,14],[47,15,47,17],[47,18,47,21],[47,22,47,23],[47,24,47,27],[50,3,50,11],[50,12,50,14],[50,15,50,17],[50,18,50,21],[50,22,50,23],[50,24,50,27],[49,3,49,11],[49,12,49,14],[49,15,49,17],[49,18,49,21],[49,22,49,23],[49,24,49,27],[52,3,52,11],[52,12,52,14],[52,15,52,17],[52,18,52,21],[52,22,52,23],[52,24,52,27],[51,3,51,11],[51,12,51,14],[51,15,51,17],[51,18,51,21],[51,22,51,23],[51,24,51,27],[57,10,59,19],[53,1,53,17],[53,18,53,21],[59,21,59,22],[53,22,55,27],[54,1,54,17],[54,18,54,21],[55,1,55,17],[55,18,55,21],[58,6,59,7],[58,4,59,5],[57,6,57,7],[57,4,57,5],[66,3,66,11],[66,12,66,14],[66,15,66,17],[66,18,66,21],[66,22,66,23],[66,24,66,27],[60,1,60,2],[61,1,62,3],[61,4,62,5],[61,6,62,6],[61,7,62,8],[63,1,64,2],[63,3,64,12],[64,19,64,27],[60,19,61,27],[64,17,64,18],[62,17,63,18],[60,17,61,18],[62,19,63,25],[62,26,63,27],[68,3,68,11],[68,12,68,14],[68,15,68,17],[68,18,68,21],[68,22,68,23],[68,24,68,27],[67,3,67,11],[67,12,67,14],[67,15,67,17],[67,18,67,21],[67,22,67,23],[67,24,67,27],[70,3,70,11],[70,12,70,14],[70,15,70,17],[70,18,70,21],[70,22,70,23],[70,24,70,27],[69,3,69,11],[69,12,69,14],[69,15,69,17],[69,18,69,21],[69,22,69,23],[69,24,69,27],[72,3,72,11],[72,12,72,14],[72,15,72,17],[72,18,72,21],[72,22,72,23],[72,24,72,27],[71,3,71,11],[71,12,71,14],[71,15,71,17],[71,18,71,21],[71,22,71,23],[71,24,71,27],[74,3,74,11],[74,12,74,14],[74,15,74,17],[74,18,74,21],[74,22,74,23],[74,24,74,27],[73,3,73,11],[73,12,73,14],[73,15,73,17],[73,18,73,21],[73,22,73,23],[73,24,73,27],[76,3,76,11],[76,12,76,14],[76,15,76,17],[76,18,76,21],[76,22,76,23],[76,24,76,27],[75,3,75,11],[75,12,75,14],[75,15,75,17],[75,18,75,21],[75,22,75,23],[75,24,75,27],[78,15,78,17],[78,18,78,21],[78,22,78,23],[78,24,78,27],[77,3,77,11],[77,12,77,14],[77,15,77,17],[77,18,77,21],[77,22,77,23],[77,24,77,27],[23,24,23,27],[23,12,23,14],[23,15,23,17],[81,1,81,17],[81,18,81,21],[81,22,83,27],[82,1,82,17],[82,18,82,21],[83,1,83,17],[83,18,83,21],[80,3,80,11],[80,12,80,14],[80,15,80,17],[80,18,80,21],[80,22,80,23],[80,24,80,27],[79,3,79,11],[79,12,79,14],[79,15,79,17],[79,18,79,21],[79,22,79,23],[79,24,79,27],[78,3,78,11],[78,12,78,14]]}
[null,null,null,null,"業者コード",null,null,null,null,null,"請求内訳明細書"]
[null,null,null,null,{"$f":"IF(内訳明細書1枚目!E2=\"\",\"\",内訳明細書1枚目!E2)","v":""}]
[null,null,null,null,"登録番号",null,null,null,null,null,null,null,null,null,null,null,null,null,null,null,"西暦",{"$f":"IF(内訳明細書1枚目!V3=\"\",\"\",内訳明細書1枚目!V3)","v":""},null,"年",{"$f":"IF(内訳明細書1枚目!Y3=\"\",\"\",内訳明細書1枚目!Y3)","v":""},"月",{"$f":"IF(内訳明細書1枚目!AA3=\"\",\"\",内訳明細書1枚目!AA3)","v":""},"日"]
[null,"(業者控)",null,null,{"$f":"IF(内訳明細書1枚目!E4=\"\",\"\",内訳明細書1枚目!E4)","v":""},null,null,null,null,null,null,null,null,null,null,null,null,"住所",null,{"$f":"IF(内訳明細書1枚目!T4=\"\",\"\",内訳明細書1枚目!T4)","v":""}]
[]
[null,"工事番号",null,null,{"$f":"IF(内訳明細書1枚目!E6=\"\",\"\",内訳明細書1枚目!E6)","v":""},null,"ー",{"$f":"IF(内訳明細書1枚目!H6=\"\",\"\",内訳明細書1枚目!H6)","v":""}]
[null,null,null,null,null,null,null,null,null,null,null,null,null,null,null,null,null,"会社名",null,{"$f":"IF(内訳明細書1枚目!T7=\"\",\"\",内訳明細書1枚目!T7)","v":""},null,null,null,null,null,null,"印"]
[null,"工事名",null,{"$f":"IF(内訳明細書1枚目!D8=\"\",\"\",内訳明細書1枚目!D8)","v":""}]
[null,null,null,null,null,null,null,null,null,null,null,null,null,null,null,null,{"$f":"IF(内訳明細書1枚目!Q9=\"\",\"\",内訳明細書1枚目!Q9)","v":""},"TEL",null,{"$f":"IF(内訳明細書1枚目!T9=\"\",\"\",内訳明細書1枚目!T9)","v":""}]
[]
[null,"月","日","品名／規格",null,null,null,null,null,null,null,null,"数量",null,null,"単価",null,null,"金額",null,null,null,"税率",null,"備考"]
[null,null,null,null,null,null,null,null,null,null,null,null,null,null,null,null,null,null,{"$f":"IF(ROUND(M12*P12,0)=0,\"\",ROUND(M12*P12,0))","v":""},null,null,null,null,null,null,null,null,null,{"$f":"IF(W12=\"\",内訳明細書10枚目!S12*0.1,内訳明細書10枚目!S12*内訳明細書10枚目!W12)","v":{"$error":"#VALUE!"}},null,null,"　"]
[null,null,null,null,null,null,null,null,null,null,null,null,null,null,null,null,null,null,{"$f":"IF(ROUND(M13*P13,0)=0,\"\",ROUND(M13*P13,0))","v":""},null,null,null,null,null,null,null,null,null,{"$f":"IF(W13=\"\",内訳明細書10枚目!S13*0.1,内訳明細書10枚目!S13*内訳明細書10枚目!W13)","v":{"$error":"#VALUE!"}}]
[null,null,null,null,null,null,null,null,null,null,null,null,null,null,null,null,null,null,"",null,null,null,null,null,null,null,null,null,{"$f":"IF(W14=\"\",内訳明細書10枚目!S14*0.1,内訳明細書10枚目!S14*内訳明細書10枚目!W14)","v":{"$error":"#VALUE!"}}]
[null,null,null,null,null,null,null,null,null,null,null,null,null,null,null,null,null,null,"",null,null,null,null,null,null,null,null,null,{"$f":"IF(W15=\"\",内訳明細書10枚目!S15*0.1,内訳明細書10枚目!S15*内訳明細書10枚目!W15)","v":{"$error":"#VALUE!"}}]
[null,null,null,null,null,null,null,null,null,null,null,null,null,null,null,null,null,null,"",null,null,null,null,null,null,null,null,null,{"$f":"IF(W16=\"\",内訳明細書10枚目!S16*0.1,内訳明細書10枚目!S16*内訳明細書10枚目!W16)","v":{"$error":"#VALUE!"}}]
[null,null,null,null,null,null,null,null,null,null,null,null,null,null,null,null,null,null,"",null,null,null,null,null,null,null,null,null,{"$f":"IF(W17=\"\",内訳明細書10枚目!S17*0.1,内訳明細書10枚目!S17*内訳明細書10枚目!W17)","v":{"$error":"#VALUE!"}}]
[null,null,null,null,null,null,null,null,null,null,null,null,null,null,null,null,null,null,"",null,null,null,null,null,null,null,null,null,{"$f":"IF(W18=\"\",内訳明細書10枚目!S18*0.1,内訳明細書10枚目!S18*内訳明細書10枚目!W18)","v":{"$error":"#VALUE!"}}]
[null,null,null,null,null,null,null,null,null,null,null,null,null,null,null,null,null,null,"",null,null,null,null,null,null,null,null,null,{"$f":"IF(W19=\"\",内訳明細書10枚目!S19*0.1,内訳明細書10枚目!S19*内訳明細書10枚目!W19)","v":{"$error":"#VALUE!"}}]
[null,null,null,null,null,null,null,null,null,null,null,null,null,null,null,null,null,null,"",null,null,null,null,null,null,null,null,null,{"$f":"IF(W20=\"\",内訳明細書10枚目!S20*0.1,内訳明細書10枚目!S20*内訳明細書10枚目!W20)","v":{"$error":"#VALUE!"}}]
[null,null,null,null,null,null,null,null,null,null,null,null,null,null,null,null,null,null,"",null,null,null,null,null,null,null,null,null,{"$f":"IF(W21=\"\",内訳明細書10枚目!S21*0.1,内訳明細書10枚目!S21*内訳明細書10枚目!W21)","v":{"$error":"#VALUE!"}}]
[null,null,null,null,null,null,null,null,null,null,null,null,null,null,null,null,null,null,"",null,null,null,null,null,null,null,null,null,{"$f":"IF(W22=\"\",内訳明細書10枚目!S22*0.1,内訳明細書10枚目!S22*内訳明細書10枚目!W22)","v":{"$error":"#VALUE!"}}]
[null,null,null,null,null,null,null,null,null,null,null,null,null,null,null,null,null,null,"",null,null,null,null,null,null,null,null,null,{"$f":"IF(W23=\"\",内訳明細書10枚目!S23*0.1,内訳明細書10枚目!S23*内訳明細書10枚目!W23)","v":{"$error":"#VALUE!"}}]
[null,null,null,null,null,null,null,null,null,null,null,null,null,null,null,null,null,null,"",null,null,null,null,null,null,null,null,null,{"$f":"IF(W24=\"\",内訳明細書10枚目!S24*0.1,内訳明細書10枚目!S24*内訳明細書10枚目!W24)","v":{"$error":"#VALUE!"}}]
[null,null,null,null,null,null,null,null,null,null,null,null,null,null,null,null,null,null,"",null,null,null,null,null,null,null,null,null,{"$f":"IF(W25=\"\",内訳明細書10枚目!S25*0.1,内訳明細書10枚目!S25*内訳明細書10枚目!W25)","v":{"$error":"#VALUE!"}}]
[null,"小計Ⓐ(税抜)",null,null,null,null,null,null,null,null,null,null,null,null,null,null,null,null,{"$f":"SUM(内訳明細書1枚目!S12:V25,内訳明細書2枚目!S12:V25,内訳明細書3枚目!S12:V25,内訳明細書4枚目!S12:V25,内訳明細書5枚目!S12:V25,内訳明細書6枚目!S12:V25,内訳明細書7枚目!S12:V25,内訳明細書8枚目!S12:V25,内訳明細書9枚目!S12:V25,S12:V25)","v":0}]
[null,"消費税",null,null,null,null,null,null,null,null,null,null,null,null,null,null,null,null,{"$f":"ROUND(_xlfn.AGGREGATE(9,6,内訳明細書1枚目!AC12:AC25,内訳明細書2枚目!AC12:AC25,内訳明細書3枚目!AC12:AC25,内訳明細書4枚目!AC12:AC25,内訳明細書5枚目!AC12:AC25,内訳明細書6枚目!AC12:AC25,内訳明細書7枚目!AC12:AC25,内訳明細書8枚目!AC12:AC25,内訳明細書9枚目!AC12:AC25,AC12:AC25),0)","v":0}]
[null,"合計(1枚目-10枚目)",null,null,null,null,null,null,null,null,null,null,null,null,null,null,null,null,{"$f":"_xlfn.AGGREGATE(9,6,内訳明細書1枚目!S12:V25,内訳明細書1枚目!AC12:AC25,内訳明細書2枚目!S12:V25,内訳明細書2枚目!AC12:AC25,内訳明細書3枚目!S12:V25,内訳明細書3枚目!AC12:AC25,内訳明細書4枚目!S12:V25,内訳明細書4枚目!AC12:AC25,内訳明細書5枚目!S12:V25,内訳明細書5枚目!AC12:AC25,内訳明細書6枚目!S12:V25,内訳明細書6枚目!AC12:AC25,内訳明細書7枚目!S12:V25,内訳明細書7枚目!AC12:AC25,内訳明細書8枚目!S12:V25,内訳明細書8枚目!AC12:AC25,内訳明細書9枚目!S12:V25,内訳明細書9枚目!AC12:AC25,S12:V25,AC12:AC25)","v":0}]
[]
[null,null,null,null,"所属長",null,"担当",null,null,null,"請求内訳明細書"]
[]
[null,null,null,null,null,null,null,null,null,null,null,null,null,null,null,null,null,null,null,null,"西暦",{"$f":"IF(V3=\"\",\"\",V3)","v":""},null,"年",{"$f":"IF(Y3=\"\",\"\",Y3)","v":""},"月",{"$f":"IF(AA3=\"\",\"\",AA3)","v":""},"日"]
[null,"(現場控)",null,null,null,null,null,null,null,null,null,null,null,null,null,null,null,"住所",null,{"$f":"IF(T4=\"\",\"\",T4)","v":""}]
[null,"工事番号",null,null,{"$f":"IF(E6=\"\",\"\",E6)","v":""},null,"ー",{"$f":"IF(H6=\"\",\"\",H6)","v":""}]
[null,null,null,null,null,null,null,null,null,null,null,null,null,null,null,null,null,"会社名",null,{"$f":"IF(T7=\"\",\"\",T7)","v":""},null,null,null,null,null,null,"印"]
[null,"工事名",null,{"$f":"IF(D8=\"\",\"\",D8)","v":""}]
[null,null,null,null,null,null,null,null,null,null,null,null,null,null,null,null,null,"TEL",null,{"$f":"IF(T9=\"\",\"\",T9)","v":""}]
[]
[null,"月","日","品名／規格",null,null,null,null,null,null,null,null,"数量",null,null,"単価　",null,null,"金額",null,null,null,"税率",null,"備考"]
[null,{"$f":"IF(B12=\"\",\"\",B12)","v":""},{"$f":"IF(C12=\"\",\"\",C12)","v":""},{"$f":"IF(D12=\"\",\"\",D12)","v":""},null,null,null,null,null,null,null,null,{"$f":"IF(M12=\"\",\"\",M12)","v":""},null,null,{"$f":"IF(P12=\"\",\"\",P12)","v":""},null,null,{"$f":"IF(S12=\"\",\"\",S12)","v":""},null,null,null,{"$f":"IF(W12=\"\",\"\",W12)","v":""},null,{"$f":"IF(Y12=\"\",\"\",Y12)","v":""}]
[null,{"$f":"IF(B13=\"\",\"\",B13)","v":""},"","",null,null,null,null,null,null,null,null,{"$f":"IF(M13=\"\",\"\",M13)","v":""},null,null,{"$f":"IF(P13=\"\",\"\",P13)","v":""},null,null,{"$f":"IF(S13=\"\",\"\",S13)","v":""},null,null,null,{"$f":"IF(W13=\"\",\"\",W13)","v":""},null,{"$f":"IF(Y13=\"\",\"\",Y13)","v":""}]
[null,"","","",null,null,null,null,null,null,null,null,"",null,null,"",null,null,{"$f":"IF(S14=\"\",\"\",S14)","v":""},null,null,null,"",null,""]
[null,"","","",null,null,null,null,null,null,null,null,"",null,null,"",null,null,"",null,null,null,"",null,""]
[null,"","","",null,null,null,null,null,null,null,null,"",null,null,"",null,null,"",null,null,null,"",null,""]
[null,"","","",null,null,null,null,null,null,null,null,"",null,null,"",null,null,"",null,null,null,"",null,""]
[null,"","","",null,null,null,null,null,null,null,null,"",null,null,"",null,null,"",null,null,null,"",null,""]
[null,"","","",null,null,null,null,null,null,null,null,"",null,null,"",null,null,"",null,null,null,"",null,""]
[null,"","","",null,null,null,null,null,null,null,null,"",null,null,"",null,null,"",null,null,null,"",null,""]
[null,"","","",null,null,null,null,null,null,null,null,"",null,null,"",null,null,"",null,null,null,"",null,""]
[null,"","","",null,null,null,null,null,null,null,null,"",null,null,"",null,null,"",null,null,null,"",null,""]
[null,"","","",null,null,null,null,null,null,null,null,"",null,null,"",null,null,"",null,null,null,"",null,""]
[null,"","","",null,null,null,null,null,null,null,null,"",null,null,"",null,null,"",null,null,null,"",null,""]
[null,"","","",null,null,null,null,null,null,null,null,"",null,null,"",null,null,"",null,null,null,"",null,""]
[null,"小計Ⓐ(税抜)",null,null,null,null,null,null,null,null,null,null,null,null,null,null,null,null,{"$f":"IF(S26=\"\",\"\",S26)","v":0}]
[null,"消費税",null,null,null,null,null,null,null,null,null,null,null,null,null,null,null,null,{"$f":"IF(S27=\"\",\"\",S27)","v":0}]
[null,"合計(1枚目-10枚目)",null,null,null,null,null,null,null,null,null,null,null,null,null,null,null,null,{"$f":"IF(S28=\"\",\"\",S28)","v":0}]
[]
[null,null,null,null,"所属長",null,"担当",null,null,null,"請求内訳明細書"]
[]
[null,null,null,null,null,null,null,null,null,null,null,null,null,null,null,null,null,null,null,null,"西暦",{"$f":"IF(V3=\"\",\"\",V3)","v":""},null,"年",{"$f":"IF(Y3=\"\",\"\",Y3)","v":""},"月",{"$f":"IF(AA3=\"\",\"\",AA3)","v":""},"日"]
[null,"(経理控)",null,null,null,null,null,null,null,null,null,null,null,null,null,null,null,"住所",null,{"$f":"IF(T4=\"\",\"\",T4)","v":""}]
[null,"工事番号",null,null,{"$f":"IF(E6=\"\",\"\",E6)","v":""},null,"ー",{"$f":"IF(H6=\"\",\"\",H6)","v":""}]
[null,null,null,null,null,null,null,null,null,null,null,null,null,null,null,null,null,"会社名",null,{"$f":"IF(T7=\"\",\"\",T7)","v":""},null,null,null,null,null,null,"印"]
[null,"工事名",null,{"$f":"IF(D8=\"\",\"\",D8)","v":""}]
[null,null,null,null,null,null,null,null,null,null,null,null,null,null,null,null,null,"TEL",null,{"$f":"IF(T9=\"\",\"\",T9)","v":""}]
[]
[null,"月","日","品名／規格",null,null,null,null,null,null,null,null,"数量",null,null,"単価　",null,null,"金額",null,null,null,"税率",null,"備考"]
[null,{"$f":"IF(B12=\"\",\"\",B12)","v":""},{"$f":"IF(C12=\"\",\"\",C12)","v":""},{"$f":"IF(D12=\"\",\"\",D12)","v":""},null,null,null,null,null,null,null,null,{"$f":"IF(M12=\"\",\"\",M12)","v":""},null,null,{"$f":"IF(P12=\"\",\"\",P12)","v":""},null,null,{"$f":"IF(S12=\"\",\"\",S12)","v":""},null,null,null,{"$f":"IF(W12=\"\",\"\",W12)","v":""},null,{"$f":"IF(Y12=\"\",\"\",Y12)","v":""}]
[null,{"$f":"IF(B13=\"\",\"\",B13)","v":""},"","",null,null,null,null,null,null,null,null,{"$f":"IF(M13=\"\",\"\",M13)","v":""},null,null,{"$f":"IF(P13=\"\",\"\",P13)","v":""},null,null,{"$f":"IF(S13=\"\",\"\",S13)","v":""},null,null,null,{"$f":"IF(W13=\"\",\"\",W13)","v":""},null,{"$f":"IF(Y13=\"\",\"\",Y13)","v":""}]
[null,"","","",null,null,null,null,null,null,null,null,"",null,null,"",null,null,{"$f":"IF(S14=\"\",\"\",S14)","v":""},null,null,null,"",null,""]
[null,"","","",null,null,null,null,null,null,null,null,"",null,null,"",null,null,"",null,null,null,"",null,""]
[null,"","","",null,null,null,null,null,null,null,null,"",null,null,"",null,null,"",null,null,null,"",null,""]
[null,"","","",null,null,null,null,null,null,null,null,"",null,null,"",null,null,"",null,null,null,"",null,""]
[null,"","","",null,null,null,null,null,null,null,null,"",null,null,"",null,null,"",null,null,null,"",null,""]
[null,"","","",null,null,null,null,null,null,null,null,"",null,null,"",null,null,"",null,null,null,"",null,""]
[null,"","","",null,null,null,null,null,null,null,null,"",null,null,"",null,null,"",null,null,null,"",null,""]
[null,"","","",null,null,null,null,null,null,null,null,"",null,null,"",null,null,"",null,null,null,"",null,""]
[null,"","","",null,null,null,null,null,null,null,null,"",null,null,"",null,null,"",null,null,null,"",null,""]
[null,"","","",null,null,null,null,null,null,null,null,"",null,null,"",null,null,"",null,null,null,"",null,""]
[null,"","","",null,null,null,null,null,null,null,null,"",null,null,"",null,null,"",null,null,null,"",null,""]
[null,"","","",null,null,null,null,null,null,null,null,"",null,null,"",null,null,"",null,null,null,"",null,""]
[null,"小計Ⓐ(税抜)",null,null,null,null,null,null,null,null,null,null,null,null,null,null,null,null,{"$f":"IF(S26=\"\",\"\",S26)","v":0}]
[null,"消費税",null,null,null,null,null,null,null,null,null,null,null,null,null,null,null,null,{"$f":"IF(S27=\"\",\"\",S27)","v":0}]
[null,"合計(1枚目-10枚目)",null,null,null,null,null,null,null,null,null,null,null,null,null,null,null,null,{"$f":"IF(S28=\"\",\"\",S28)","v":0}]