{"text_format":"1","workbook":"xlsx","n_sheets":12,"sheets":["記入例","表紙","内訳明細書1枚目","内訳明細書2枚目","内訳明細書3枚目","内訳明細書4枚目","内訳明細書5枚目","内訳明細書6枚目","内訳明細書7枚目","内訳明細書8枚目","内訳明細書9枚目","内訳明細書10枚目"],"not_rendered":{"charts":0,"images":0,"macros":1,"external_links":0,"defined_names":12,"comments":0,"pivot_tables":0},"unopened":[],"bounds":{"document_bytes":16777216,"sheet_cells":100000,"rows_first":2000,"rows_last":500,"rows_between":2000,"halvings":0,"cell_chars":16384,"cell_head_chars":4096},"cells_cut":0,"cells_raw":0,"read":"whole","date_system":"1900"}

{"sheet":"記入例","index":0,"n_rows":45,"n_cols":33,"rows_kept":45,"cut":false,"hidden":false,"merged":[[8,18,10,20],[8,21,10,31],[10,2,10,3],[10,4,10,6],[10,8,10,9],[10,11,10,12],[8,5,9,10],[2,3,2,4],[2,5,2,12],[1,5,1,10],[29,2,30,9],[8,2,8,4],[11,2,12,4],[11,5,12,6],[11,7,12,7],[11,8,12,9],[17,2,18,2],[17,3,18,3],[17,4,18,11],[19,4,19,11],[19,12,19,14],[22,12,22,14],[1,3,1,4],[4,5,4,8],[4,10,6,23],[5,5,5,8],[6,5,6,8],[7,5,7,12],[13,2,15,3],[13,4,15,16],[14,18,15,20],[14,21,15,31],[19,28,19,31],[17,25,17,31],[18,12,18,14],[18,15,18,17],[18,18,18,22],[18,25,18,27],[17,12,17,22],[17,23,18,24],[18,28,18,31],[11,18,13,20],[11,21,13,29],[11,30,13,31],[20,25,20,27],[22,4,22,11],[19,15,19,17],[19,18,19,22],[19,23,19,24],[19,25,19,27],[20,4,20,11],[20,12,20,14],[20,15,20,17],[20,18,20,22],[20,23,20,24],[20,28,20,31],[21,4,21,11],[3,7,3,19],[23,23,23,24],[23,25,23,27],[23,28,23,31],[21,12,21,14],[21,15,21,17],[21,18,21,22],[21,23,21,24],[21,25,21,27],[21,28,21,31],[22,28,22,31],[23,4,23,11],[23,12,23,14],[1,25,3,33],[24,28,24,31],[24,4,24,11],[24,12,24,14],[24,15,24,17],[24,18,24,22],[24,23,24,24],[24,25,24,27],[43,2,43,25],[44,2,44,11],[38,2,38,11],[22,15,22,17],[22,18,22,22],[22,23,22,24],[23,18,23,22],[22,25,22,27],[41,2,42,37],[23,15,23,17],[40,2,40,35],[31,2,32,37],[33,2,34,37],[35,2,36,37],[37,2,37,36],[39,2,39,23]]}
[]
[null,null,"※",null,null,"に入力お願いします。",null,null,null,null,null,null,null,null,null,null,null,null,null,null,null,null,null,null,null,"記入例"]
[null,null,null,null,null,"には入力しないでください。"]
[null,null,null,null,null,null,null,"↓登録された業者コードを入力してください。"]
[null,null,null,null,null,"業者コード",null,null,null,null,"請求内訳明細書"]
[]
[null,null,null,null,null,"登録番号"]
[]
[null,null," (業者控)",null,null,"※提出日要確認",null,null,null,null,null,null,null,null,null,null,null,null,"住所"]
[]
[null,null,"西暦",null,null,null,null,"年",null,null,"月",null,null,"日"]
[null,null,"工事番号",null,null,null,null,"―",null,null,null,null,null,null,null,null,null,null,"会社名",null,null,null,null,null,null,null,null,null,null,null,"印"]
[]
[null,null,"工事名"]
[null,null,null,null,null,null,null,null,null,null,null,null,null,null,null,null,null,null,"TEL"]
[]
[]
[null,null,"月","日","名称",null,null,null,null,null,null,null,"契約",null,null,null,null,null,null,null,null,null,null,"税率",null,"出来高"]
[null,null,null,null,null,null,null,null,null,null,null,null,"数量",null,null,"単価",null,null,"金額",null,null,null,null,null,null,"数量(％)",null,null,"金額"]
[null,null,null,null,null,null,null,null,null,null,null,null,100,null,null,100,null,null,{"$f":"IF(ROUNDDOWN(M20*P20,0)=0,\"\",ROUNDDOWN(M20*P20,0))","v":10000},null,null,null,null,null,null,1,null,null,10000,null,null,null,{"$f":"IF(X20=\"\",内訳明細書1枚目!R16*0.1,内訳明細書1枚目!R16*内訳明細書1枚目!W16)","v":{"$error":"#VALUE!"}}]
[null,null,null,null,null,null,null,null,null,null,null,null,200,null,null,200,null,null,{"$f":"IF(ROUNDDOWN(M21*P21,0)=0,\"\",ROUNDDOWN(M21*P21,0))","v":40000},null,null,null,null,null,null,0.3,null,null,12000,null,null,null,{"$f":"IF(X21=\"\",内訳明細書1枚目!R17*0.1,内訳明細書1枚目!R17*内訳明細書1枚目!W17)","v":{"$error":"#VALUE!"}}]
[null,null,null,null,null,null,null,null,null,null,null,null,300,null,null,300,null,null,90000,null,null,null,null,0.08,null,null,null,null,null,null,null,null,{"$f":"IF(X22=\"\",内訳明細書1枚目!R18*0.1,内訳明細書1枚目!R18*内訳明細書1枚目!W18)","v":{"$error":"#VALUE!"}}]
[null,null,null,null,null,null,null,null,null,null,null,null,null,null,null,null,null,null,-300,null,null,null,null,0,null,null,null,null,null,null,null,null,{"$f":"IF(X23=\"\",内訳明細書1枚目!R19*0.1,内訳明細書1枚目!R19*内訳明細書1枚目!W19)","v":{"$error":"#VALUE!"}}]
[null,null,null,null,null,null,null,null,null,null,null,null,null,null,null,null,null,null,{"$f":"IF(ROUNDDOWN(M24*P24,0)=0,\"\",ROUNDDOWN(M24*P24,0))","v":""},null,null,null,null,null,null,null,null,null,null,null,null,null,{"$f":"IF(X24=\"\",内訳明細書1枚目!R20*0.1,内訳明細書1枚目!R20*内訳明細書1枚目!W20)","v":{"$error":"#VALUE!"}}]
[null,null,null,null,null,null,null,null,null,null,null,null,null,null,null,null,null,null,"",null,null,null,null,null,null,null,null,null,null,null,null,null,{"$f":"IF(X25=\"\",内訳明細書1枚目!R21*0.1,内訳明細書1枚目!R21*内訳明細書1枚目!W21)","v":{"$error":"#VALUE!"}}]
[]
[]
[]
[]
[null,null,"※請求書取扱注意点"]
[]
[null,null,"①この請求書は当社専用の請求書(3枚複写)です。提出される場合は別紙請求内訳明細書(3枚複写)とともの業者控を除く各2枚セットにして提出してください。"]
[]
[null,null,"②この請求書及び請求内訳明細書は※毎月20日で締め切り25日までに当社へ必着とします。遅れますと次月払いとなりますのでご注意願います。"]
[]
[null,null,"③支払日は毎月17日(AM9:00~PM4:00)です。ただし17日が休日の場合は翌営業日とします。(ゴールデンウィーク、夏季休暇、年末年始休暇等によって提出日締切日及び支払日が変更となる場合は事前にお知らせします。)"]
[]
[null,null,"④請求年月日、工事件名、工事番号は必ず記入してください。(工事件名、工事番号は当社現場担当に確認してください。)"]
[null,null,"⑤社印は必ず押印してください。"]
[null,null,"⑥契約金額欄は注文書等から入力してください。(消費税を含まない金額)"]
[null,null,"なお、契約金額が変更になった場合は変更になった月から変更契約金額欄に入力してください。(消費税を含まない金額)"]
[null,null,"⑦数量と単価を入力すると自動的に計算できるようになっていますので活用ください。金額を入力しても問題ありませんが、関数が消えてしまうのでご注意ください。"]
[]
[null,null,"⑧税率10％は入力なし、軽減税率には数字、非課税には0％と記入お願いします。"]
[null,null,"⑨出来高を必ず出してください。"]

{"sheet":"表紙","index":1,"n_rows":127,"n_cols":34,"rows_kept":127,"cut":false,"hidden":false,"merged":[[93,20,94,29],[94,5,96,8],[78,27,78,33],[77,27,77,33],[77,24,77,26],[77,21,77,23],[76,13,76,20],[77,13,77,20],[77,5,77,12],[78,1,78,26],[77,3,77,4],[77,1,77,2],[76,3,76,4],[76,1,76,2],[79,27,79,33],[80,27,80,33],[80,1,80,26],[79,1,79,26],[86,5,86,10],[76,27,76,33],[84,24,84,33],[83,24,83,33],[82,24,82,33],[86,12,88,22],[75,27,75,33],[76,24,76,26],[75,24,75,26],[76,21,76,23],[75,21,75,23],[75,3,75,4],[75,1,75,2],[74,13,74,20],[74,5,74,12],[74,27,74,33],[74,24,74,26],[74,21,74,23],[75,13,75,20],[76,5,76,12],[75,5,75,12],[74,3,74,4],[74,1,74,2],[73,13,73,20],[73,21,73,23],[73,24,73,26],[73,27,73,33],[63,1,64,7],[63,8,64,16],[63,17,64,23],[63,24,64,33],[56,1,57,5],[56,6,57,22],[56,23,57,27],[58,1,58,33],[59,1,60,7],[59,8,60,16],[59,17,60,23],[59,24,60,33],[61,1,62,7],[61,8,62,16],[61,17,62,23],[61,24,62,33],[56,28,57,29],[65,1,66,7],[65,8,66,16],[65,17,66,23],[54,15,54,19],[54,20,54,33],[44,12,46,22],[47,1,47,4],[47,22,47,23],[47,24,47,26],[47,28,47,29],[47,31,47,32],[48,15,50,19],[48,20,50,33],[52,1,54,4],[51,1,51,4],[51,5,51,8],[52,5,54,8],[65,24,66,33],[56,32,57,33],[67,1,70,7],[67,8,70,16],[67,17,70,23],[67,24,68,25],[67,26,68,33],[69,24,70,25],[69,26,70,33],[23,8,26,16],[19,17,20,23],[21,24,22,33],[12,6,13,22],[9,20,9,33],[9,15,9,19],[10,20,10,33],[10,15,10,19],[7,30,8,33],[7,20,8,29],[19,24,20,33],[12,28,13,29],[21,17,22,23],[0,12,2,22],[1,5,1,10],[0,5,0,10],[53,15,53,19],[53,20,53,33],[23,1,26,7],[3,24,3,26],[3,28,3,29],[3,31,3,32],[3,22,3,23],[14,1,14,33],[15,1,16,7],[15,8,16,16],[15,17,16,23],[15,24,16,33],[4,15,6,19],[4,20,6,33],[7,15,8,19],[12,32,13,33],[3,1,3,4],[12,30,13,31],[12,23,13,27],[12,1,13,5],[51,9,51,12],[72,1,72,33],[73,1,73,2],[73,3,73,4],[73,5,73,12],[21,8,22,16],[19,8,20,16],[17,8,18,16],[21,1,22,7],[19,1,20,7],[17,1,18,7],[17,17,18,23],[56,30,57,31],[17,24,18,33],[44,5,44,10],[45,5,45,10],[25,24,26,25],[23,24,24,25],[25,26,26,33],[52,9,54,12],[51,15,52,19],[51,30,52,33],[51,20,52,29],[23,26,24,33],[23,17,26,23],[100,1,100,33],[101,1,102,7],[101,8,102,16],[101,17,102,23],[101,24,102,33],[90,15,92,19],[90,20,92,33],[93,15,94,19],[95,15,95,19],[95,20,95,33],[96,15,96,19],[96,20,96,33],[98,28,99,29],[98,30,99,31],[93,9,93,12],[93,5,93,8],[93,1,93,4],[98,32,99,33],[98,1,99,5],[98,6,99,22],[98,23,99,27],[94,1,96,4],[94,9,96,12],[93,30,94,33],[103,1,104,7],[103,8,104,16],[103,17,104,23],[103,24,104,33],[105,1,106,7],[105,8,106,16],[105,17,106,23],[105,24,106,33],[107,1,108,7],[107,8,108,16],[107,17,108,23],[107,24,108,33],[109,1,112,7],[109,8,112,16],[109,17,112,23],[109,24,110,25],[109,26,110,33],[111,24,112,25],[111,26,112,33],[114,1,114,33],[115,1,115,2],[115,3,115,4],[115,5,115,12],[115,13,115,20],[115,21,115,23],[115,24,115,26],[115,27,115,33],[125,18,125,23],[125,24,125,33],[126,18,126,23],[126,24,126,33],[124,1,126,2],[124,3,126,17],[116,13,116,20],[116,21,116,23],[116,24,116,26],[116,27,116,33],[117,1,117,2],[117,3,117,4],[117,5,117,12],[117,13,117,20],[117,21,117,23],[117,24,117,26],[117,27,117,33],[116,1,116,2],[116,3,116,4],[116,5,116,12],[121,1,121,26],[121,27,121,33],[122,1,122,26],[122,27,122,33],[124,18,124,23],[124,24,124,33],[120,1,120,26],[120,27,120,33],[118,1,118,2],[118,3,118,4],[118,5,118,12],[118,13,118,20],[118,21,118,23],[118,24,118,26],[118,27,118,33],[119,1,119,2],[119,3,119,4],[119,5,119,12],[119,13,119,20],[119,21,119,23],[119,24,119,26],[119,27,119,33],[89,1,89,4],[89,22,89,23],[89,24,89,26],[89,28,89,29],[89,31,89,32],[87,5,87,10],[82,1,84,2],[82,3,84,17],[84,18,84,23],[83,18,83,23],[82,18,82,23]]}
[null,null,null,null,null,"業者コード",null,null,null,null,null,null,"請求書"]
[null,null,null,null,null,{"$f":"IF(内訳明細書1枚目!E2=\"\",\"\",内訳明細書1枚目!E2)","v":""}]
[]
[null,"(業者控)",null,null,null,null,null,null,null,null,null,null,null,null,null,null,null,null,null,null,null,null,"西暦",null,{"$f":"IF(内訳明細書1枚目!D7=\"\",\"\",内訳明細書1枚目!D7)","v":""},null,null,"年",{"$f":"IF(内訳明細書1枚目!H7=\"\",\"\",内訳明細書1枚目!H7)","v":""},null,"月",{"$f":"IF(内訳明細書1枚目!K7=\"\",\"\",内訳明細書1枚目!K7)","v":""},null,"日"]
[null,null,null,null,null,null,null,null,null,null,null,null,null,null,null,"住所",null,null,null,null,{"$f":"IF(内訳明細書1枚目!U5=\"\",\"\",内訳明細書1枚目!U5)","v":""}]
[]
[]
[null,null,null,null,null,null,null,null,null,null,null,null,null,null,null,"会社名",null,null,null,null,{"$f":"IF(内訳明細書1枚目!U8=\"\",\"\",内訳明細書1枚目!U8)","v":""},null,null,null,null,null,null,null,null,null,"印"]
[]
[null,null,null,null,null,null,null,null,null,null,null,null,null,null,null,"TEL",null,null,null,null,{"$f":"IF(内訳明細書1枚目!U11=\"\",\"\",内訳明細書1枚目!U11)","v":""}]
[null,null,null,null,null,null,null,null,null,null,null,null,null,null,null,"登録番号",null,null,null,null,{"$f":"IF(内訳明細書1枚目!E4=\"\",\"\",内訳明細書1枚目!E4)","v":""}]
[]
[null,"工事名",null,null,null,null,{"$f":"IF(内訳明細書1枚目!D10=\"\",\"\",内訳明細書1枚目!D10)","v":""},null,null,null,null,null,null,null,null,null,null,null,null,null,null,null,null,"工事番号",null,null,null,null,{"$f":"IF(内訳明細書1枚目!E8=\"\",\"\",内訳明細書1枚目!E8)","v":""},null,"ー",null,{"$f":"IF(内訳明細書1枚目!H8=\"\",\"\",内訳明細書1枚目!H8)","v":""}]
[]
[null,"今月分"]
[null,"契約金額(税抜)",null,null,null,null,null,null,{"$f":"SUM(内訳明細書1枚目:内訳明細書10枚目!R16:V31)","v":0},null,null,null,null,null,null,null,null,"出来高査定金額"]
[]
[null,"前月までの請求金額(税抜)",null,null,null,null,null,null,null,null,null,null,null,null,null,null,null,"消費税額"]
[]
[null,"請求金額Ⓐ",null,null,null,null,null,null,{"$f":"SUM(内訳明細書1枚目:内訳明細書10枚目!AB16:AF31)","v":0},null,null,null,null,null,null,null,null,"立替払金額(税込)"]
[]
[null,"消費税額Ⓑ",null,null,null,null,null,null,{"$f":"_xlfn.AGGREGATE(9,6,内訳明細書1枚目!AG16:AG31,内訳明細書2枚目!AG16:AG31,内訳明細書3枚目!AG16:AG31,内訳明細書4枚目!AG16:AG31,内訳明細書5枚目!AG16:AG31,内訳明細書6枚目!AG16:AG31,内訳明細書7枚目!AG16:AG31,内訳明細書8枚目!AG16:AG31,内訳明細書9枚目!AG16:AG31,内訳明細書10枚目!AG16:AG31)","v":0},null,null,null,null,null,null,null,null,"差引支払金額"]
[]
[null,"合計金額Ⓒ",null,null,null,null,null,null,{"$f":"I20+I22","v":0},null,null,null,null,null,null,null,null,"支払決定金額",null,null,null,null,null,null,"小"]
[]
[null,null,null,null,null,null,null,null,null,null,null,null,null,null,null,null,null,null,null,null,null,null,null,null,"約"]
[]
[]
[]
[]
[]
[]
[]
[]
[]
[]
[]
[]
[]
[]
[]
[]
[]
[]
[null,null,null,null,null,"業者コード",null,null,null,null,null,null,"請求書"]
[null,null,null,null,null,{"$f":"IF(F2=0,\"\",F2)","v":""}]
[]
[null,"(現場控)",null,null,null,null,null,null,null,null,null,null,null,null,null,null,null,null,null,null,null,null,"西暦",null,{"$f":"IF(Y4=\"\",\"\",Y4)","v":""},null,null,"年",{"$f":"IF(AC4=\"\",\"\",AC4)","v":""},null,"月",{"$f":"IF(AF4=\"\",\"\",AF4)","v":""},null,"日"]
[null,null,null,null,null,null,null,null,null,null,null,null,null,null,null,"住所",null,null,null,null,{"$f":"IF(U5=\"\",\"\",U5)","v":""}]
[]
[]
[null,"承認",null,null,null,"所属長",null,null,null,"担当",null,null,null,null,null,"会社名",null,null,null,null,{"$f":"IF(U8=\"\",\"\",U8)","v":""},null,null,null,null,null,null,null,null,null,"印"]
[]
[null,null,null,null,null,null,null,null,null,null,null,null,null,null,null,"TEL",null,null,null,null,{"$f":"IF(U10=\"\",\"\",U10)","v":""}]
[null,null,null,null,null,null,null,null,null,null,null,null,null,null,null,"登録番号",null,null,null,null,{"$f":"IF(U11=\"\",\"\",U11)","v":""}]
[]
[null,"工事名",null,null,null,null,{"$f":"IF(G13=\"\",\"\",G13)","v":""},null,null,null,null,null,null,null,null,null,null,null,null,null,null,null,null,"工事番号",null,null,null,null,{"$f":"IF(AC13=\"\",\"\",AC13)","v":""},null,"ー",null,{"$f":"IF(AG13=\"\",\"\",AG13)","v":""}]
[]
[null,"今月分"]
[null,"契約金額(税抜)",null,null,null,null,null,null,{"$f":"IF(I16=\"\",\"\",I16)","v":0},null,null,null,null,null,null,null,null,"出来高査定金額"]
[]
[null,"前月までの請求金額",null,null,null,null,null,null,{"$f":"IF(I18=\"\",\"\",I18)","v":""},null,null,null,null,null,null,null,null,"消費税額"]
[]
[null,"請求金額Ⓐ",null,null,null,null,null,null,{"$f":"IF(I20=\"\",\"\",I20)","v":0},null,null,null,null,null,null,null,null,"立替払金額(税込)"]
[]
[null,"消費税額Ⓑ",null,null,null,null,null,null,{"$f":"IF(I22=\"\",\"\",I22)","v":0},null,null,null,null,null,null,null,null,"差引支払金額"]
[]
[null,"合計金額Ⓒ",null,null,null,null,null,null,{"$f":"IF(I24=\"\",\"\",I24)","v":0},null,null,null,null,null,null,null,null,"支払決定金額",null,null,null,null,null,null,"小"]
[]
[null,null,null,null,null,null,null,null,null,null,null,null,null,null,null,null,null,null,null,null,null,null,null,null,"約"]
[]
[]
[null,"立替払い明細"]
[null,"月",null,"日",null,"支払先名",null,null,null,null,null,null,null,"品名",null,null,null,null,null,null,null,"数量",null,null,"単価",null,null,"金額"]
[]
[]
[]
[]
[null,"合計"]
[null,"消費税額"]
[null,"合計"]
[]
[null,"支払番号",null,null,null,null,null,null,null,null,null,null,null,null,null,null,null,null,"小切手"]
[null,null,null,null,null,null,null,null,null,null,null,null,null,null,null,null,null,null,"約手"]
[null,null,null,null,null,null,null,null,null,null,null,null,null,null,null,null,null,null,"(計)"]
[]
[null,null,null,null,null,"業者コード",null,null,null,null,null,null,"請求書"]
[null,null,null,null,null,{"$f":"IF(F2=0,\"\",F2)","v":""},null,null,null,null,null,null,null,null,null,null,null,null,null,null,null,null,null,null,null,null,{"$f":"IF(AA2=\"\",\"\",AA2)","v":""}]
[]
[null,"(経理控)",null,null,null,null,null,null,null,null,null,null,null,null,null,null,null,null,null,null,null,null,"西暦",null,{"$f":"IF(Y4=\"\",\"\",Y4)","v":""},null,null,"年",{"$f":"IF(AC4=\"\",\"\",AC4)","v":""},null,"月",{"$f":"IF(AF4=\"\",\"\",AF4)","v":""},null,"日"]
[null,null,null,null,null,null,null,null,null,null,null,null,null,null,null,"住所",null,null,null,null,{"$f":"IF(U5=\"\",\"\",U5)","v":""}]
[]
[]
[null,"承認",null,null,null,"所属長",null,null,null,"担当",null,null,null,null,null,"会社名",null,null,null,null,{"$f":"IF(U8=\"\",\"\",U8)","v":""},null,null,null,null,null,null,null,null,null,"印"]
[]
[null,null,null,null,null,null,null,null,null,null,null,null,null,null,null,"TEL",null,null,null,null,{"$f":"IF(U10=\"\",\"\",U10)","v":""}]
[null,null,null,null,null,null,null,null,null,null,null,null,null,null,null,"登録番号",null,null,null,null,{"$f":"IF(U11=\"\",\"\",U11)","v":""}]
[]
[null,"工事名",null,null,null,null,{"$f":"IF(G13=\"\",\"\",G13)","v":""},null,null,null,null,null,null,null,null,null,null,null,null,null,null,null,null,"工事番号",null,null,null,null,{"$f":"IF(AC13=\"\",\"\",AC13)","v":""},null,"ー",null,{"$f":"IF(AG13=\"\",\"\",AG13)","v":""}]
[]
[null,"今月分"]
[null,"契約金額(税抜)",null,null,null,null,null,null,{"$f":"IF(I16=\"\",\"\",I16)","v":0},null,null,null,null,null,null,null,null,"出来高査定金額"]
[]
[null,"前月までの請求金額",null,null,null,null,null,null,{"$f":"IF(I18=\"\",\"\",I18)","v":""},null,null,null,null,null,null,null,null,"消費税額"]
[]
[null,"請求金額Ⓐ",null,null,null,null,null,null,{"$f":"IF(I20=\"\",\"\",I20)","v":0},null,null,null,null,null,null,null,null,"立替払金額(税込)"]
[]
[null,"消費税額Ⓑ",null,null,null,null,null,null,{"$f":"IF(I22=\"\",\"\",I22)","v":0},null,null,null,null,null,null,null,null,"差引支払金額"]
[]
[null,"合計金額Ⓒ",null,null,null,null,null,null,{"$f":"IF(I24=\"\",\"\",I24)","v":0},null,null,null,null,null,null,null,null,"支払決定金額",null,null,null,null,null,null,"小"]
[]
[null,null,null,null,null,null,null,null,null,null,null,null,null,null,null,null,null,null,null,null,null,null,null,null,"約"]
[]
[]
[null,"立替払い明細"]
[null,"月",null,"日",null,"支払先名",null,null,null,null,null,null,null,"品名",null,null,null,null,null,null,null,"数量",null,null,"単価",null,null,"金額"]
[]
[]
[]
[]
[null,"合計"]
[null,"消費税額"]
[null,"合計"]
[]
[null,"支払番号",null,null,null,null,null,null,null,null,null,null,null,null,null,null,null,null,"小切手"]
[null,null,null,null,null,null,null,null,null,null,null,null,null,null,null,null,null,null,"約手"]
[null,null,null,null,null,null,null,null,null,null,null,null,null,null,null,null,null,null,"(計)"]

{"sheet":"内訳明細書1枚目","index":2,"n_rows":104,"n_cols":34,"rows_kept":104,"cut":false,"hidden":false,"merged":[[63,22,63,23],[20,3,20,10],[28,14,28,16],[28,17,28,21],[21,14,21,16],[22,11,22,13],[21,11,21,13],[26,22,26,23],[20,24,20,26],[31,1,31,16],[32,1,32,16],[33,1,33,16],[33,17,33,21],[48,22,49,23],[31,22,33,26],[20,11,20,13],[20,14,20,16],[25,22,25,23],[23,3,23,10],[23,11,23,13],[23,14,23,16],[26,3,26,10],[26,11,26,13],[26,14,26,16],[95,27,95,31],[94,3,94,10],[94,11,94,13],[20,27,20,31],[31,27,31,31],[28,24,28,26],[28,27,28,31],[94,27,94,31],[93,27,93,31],[84,14,84,16],[85,3,85,10],[86,3,86,10],[86,11,86,13],[86,14,86,16],[86,17,86,21],[86,24,86,26],[86,27,86,31],[21,22,21,23],[20,22,20,23],[68,1,68,16],[66,22,68,26],[62,22,62,23],[61,22,61,23],[60,22,60,23],[33,27,33,31],[44,1,46,2],[42,17,44,19],[42,30,44,31],[44,3,46,15],[38,17,38,18],[18,3,18,10],[18,11,18,13],[18,14,18,16],[18,17,18,21],[18,22,18,23],[19,3,19,10],[19,11,19,13],[19,14,19,16],[19,17,19,21],[38,19,38,21],[39,20,41,31],[30,22,30,23],[29,22,29,23],[28,22,28,23],[38,23,38,24],[32,17,32,21],[32,27,32,31],[38,26,38,27],[77,1,78,3],[73,26,73,27],[73,23,73,24],[79,3,81,15],[85,11,85,13],[85,14,85,16],[85,17,85,21],[85,24,85,26],[85,27,85,31],[84,17,84,21],[84,24,84,26],[84,27,84,31],[80,17,81,19],[80,20,81,31],[74,6,75,8],[73,9,73,11],[73,6,73,8],[83,1,84,1],[83,2,84,2],[83,3,84,10],[84,11,84,13],[77,4,78,5],[77,6,78,6],[77,7,78,8],[19,24,19,26],[19,27,19,31],[19,22,19,23],[20,17,20,21],[24,22,24,23],[23,22,23,23],[22,22,22,23],[23,17,23,21],[23,24,23,26],[23,27,23,31],[24,24,24,26],[24,27,24,31],[22,17,22,21],[21,17,21,21],[22,27,22,31],[21,27,21,31],[24,17,24,21],[22,24,22,26],[21,24,21,26],[16,11,16,13],[16,14,16,16],[16,17,16,21],[16,24,16,26],[17,3,17,10],[16,22,16,23],[16,3,16,10],[18,27,18,31],[16,27,16,31],[1,4,1,7],[2,4,2,7],[7,17,9,19],[0,9,2,22],[7,30,9,31],[3,4,3,11],[6,1,6,2],[10,17,11,19],[10,20,11,31],[6,3,6,5],[4,17,6,19],[4,20,6,31],[6,7,6,8],[6,10,6,11],[7,20,9,29],[7,1,8,3],[7,4,8,5],[7,6,8,6],[7,7,8,8],[13,1,14,1],[13,2,14,2],[13,3,14,10],[13,11,13,21],[14,11,14,13],[14,14,14,16],[14,17,14,21],[9,1,11,2],[9,3,11,15],[95,17,95,21],[95,24,95,26],[94,24,94,26],[89,24,89,26],[0,4,0,7],[13,24,13,31],[14,24,14,26],[14,27,14,31],[13,22,14,23],[15,3,15,10],[15,11,15,13],[15,14,15,16],[15,17,15,21],[15,24,15,26],[15,27,15,31],[15,22,15,23],[17,11,17,13],[17,14,17,16],[17,17,17,21],[17,24,17,26],[17,27,17,31],[17,22,17,23],[18,24,18,26],[4,1,4,3],[26,17,26,21],[26,24,26,26],[26,27,26,31],[25,3,25,10],[25,11,25,13],[25,14,25,16],[25,17,25,21],[25,24,25,26],[25,27,25,31],[24,3,24,10],[24,11,24,13],[24,14,24,16],[27,14,27,16],[27,17,27,21],[38,9,38,11],[38,6,38,8],[27,24,27,26],[27,27,27,31],[30,3,30,10],[30,11,30,13],[30,14,30,16],[30,17,30,21],[30,24,30,26],[30,27,30,31],[29,3,29,10],[29,11,29,13],[29,14,29,16],[29,17,29,21],[29,24,29,26],[29,27,29,31],[28,3,28,10],[28,11,28,13],[27,3,27,10],[27,11,27,13],[27,22,27,23],[31,17,31,21],[45,17,46,19],[45,20,46,31],[39,17,41,19],[39,1,39,3],[48,1,49,1],[48,2,49,2],[48,3,49,10],[48,11,48,21],[48,24,48,31],[49,11,49,13],[49,14,49,16],[49,17,49,21],[49,24,49,26],[49,27,49,31],[42,1,43,3],[42,4,43,5],[42,6,43,6],[42,7,43,8],[39,9,40,11],[39,6,40,8],[42,20,44,29],[51,3,51,10],[51,11,51,13],[51,14,51,16],[51,17,51,21],[51,24,51,26],[51,27,51,31],[50,3,50,10],[50,11,50,13],[50,14,50,16],[50,17,50,21],[50,24,50,26],[50,27,50,31],[50,22,50,23],[51,22,51,23],[53,3,53,10],[53,11,53,13],[53,14,53,16],[53,17,53,21],[53,24,53,26],[53,27,53,31],[52,3,52,10],[52,11,52,13],[52,14,52,16],[52,17,52,21],[52,24,52,26],[52,27,52,31],[53,22,53,23],[52,22,52,23],[55,3,55,10],[55,11,55,13],[55,14,55,16],[55,17,55,21],[55,24,55,26],[55,27,55,31],[54,3,54,10],[54,11,54,13],[54,14,54,16],[54,17,54,21],[54,24,54,26],[54,27,54,31],[55,22,55,23],[54,22,54,23],[57,3,57,10],[57,11,57,13],[57,14,57,16],[57,17,57,21],[57,24,57,26],[57,27,57,31],[56,3,56,10],[56,11,56,13],[56,14,56,16],[56,17,56,21],[56,24,56,26],[56,27,56,31],[57,22,57,23],[56,22,56,23],[59,3,59,10],[59,11,59,13],[59,14,59,16],[59,17,59,21],[59,24,59,26],[59,27,59,31],[58,3,58,10],[58,11,58,13],[58,14,58,16],[58,17,58,21],[58,24,58,26],[58,27,58,31],[59,22,59,23],[58,22,58,23],[60,24,60,26],[60,27,60,31],[62,14,62,16],[62,17,62,21],[62,24,62,26],[62,27,62,31],[61,3,61,10],[61,11,61,13],[61,14,61,16],[61,17,61,21],[61,24,61,26],[61,27,61,31],[62,3,62,10],[62,11,62,13],[60,3,60,10],[60,11,60,13],[60,14,60,16],[60,17,60,21],[88,27,88,31],[91,14,91,16],[91,17,91,21],[91,11,91,13],[88,22,88,23],[87,22,87,23],[86,22,86,23],[85,22,85,23],[83,22,84,23],[91,27,91,31],[87,27,87,31],[90,27,90,31],[89,27,89,31],[90,11,90,13],[90,14,90,16],[90,17,90,21],[90,24,90,26],[89,11,89,13],[89,14,89,16],[88,14,88,16],[88,17,88,21],[88,24,88,26],[91,24,91,26],[87,17,87,21],[87,24,87,26],[88,3,88,10],[88,11,88,13],[99,11,99,13],[99,14,99,16],[99,17,99,21],[99,24,99,26],[97,3,97,10],[97,11,97,13],[97,14,97,16],[96,3,96,10],[96,11,96,13],[96,14,96,16],[97,17,97,21],[97,24,97,26],[96,24,96,26],[95,3,95,10],[90,3,90,10],[89,3,89,10],[93,3,93,10],[93,11,93,13],[93,14,93,16],[95,11,95,13],[95,14,95,16],[99,27,99,31],[98,3,98,10],[98,11,98,13],[98,14,98,16],[99,22,99,23],[98,22,98,23],[98,27,98,31],[98,17,98,21],[98,24,98,26],[99,3,99,10],[101,17,101,21],[101,27,101,31],[100,3,100,10],[100,11,100,13],[100,14,100,16],[100,17,100,21],[100,24,100,26],[100,27,100,31],[101,1,101,16],[101,22,103,26],[100,22,100,23],[103,27,103,31],[103,1,103,16],[103,17,103,21],[102,27,102,31],[102,17,102,21],[102,1,102,16],[97,27,97,31],[77,17,79,19],[77,30,79,31],[96,27,96,31],[94,14,94,16],[94,17,94,21],[97,22,97,23],[96,22,96,23],[95,22,95,23],[94,22,94,23],[93,22,93,23],[92,27,92,31],[96,17,96,21],[92,22,92,23],[91,22,91,23],[90,22,90,23],[89,22,89,23],[93,17,93,21],[93,24,93,26],[92,17,92,21],[92,24,92,26],[89,17,89,21],[83,11,83,21],[83,24,83,31],[22,3,22,10],[21,3,21,10],[22,14,22,16],[68,27,68,31],[66,17,66,21],[67,27,67,31],[35,9,37,22],[70,9,72,22],[67,17,67,21],[63,11,63,13],[63,14,63,16],[63,17,63,21],[63,24,63,26],[63,27,63,31],[65,24,65,26],[65,27,65,31],[64,24,64,26],[66,27,66,31],[66,1,66,16],[67,1,67,16],[65,22,65,23],[64,3,64,10],[64,11,64,13],[64,14,64,16],[64,27,64,31],[63,3,63,10],[64,22,64,23],[77,20,79,29],[79,1,81,2],[92,3,92,10],[92,14,92,16],[92,11,92,13],[91,3,91,10],[74,1,74,3],[73,19,73,21],[74,17,76,19],[74,20,76,31],[74,9,75,11],[73,17,73,18],[65,3,65,10],[65,11,65,13],[65,14,65,16],[65,17,65,21],[68,17,68,21],[64,17,64,21],[87,3,87,10],[87,11,87,13],[87,14,87,16]]}
[null,null,null,null,"業者コード",null,null,null,null,"請求内訳明細書"]
[]
[null,null,null,null,"登録番号"]
[]
[null," (業者控)",null,null,null,null,null,null,null,null,null,null,null,null,null,null,null,"住所"]
[]
[null,"西暦",null,null,null,null,"年",null,null,"月",null,null,"日"]
[null,"工事番号",null,null,null,null,"―",null,null,null,null,null,null,null,null,null,null,"会社名",null,null,null,null,null,null,null,null,null,null,null,null,"印"]
[]
[null,"工事名"]
[null,null,null,null,null,null,null,null,null,null,null,null,null,null,null,null,null,"TEL"]
[]
[]
[null,"月","日","名称",null,null,null,null,null,null,null,"契約",null,null,null,null,null,null,null,null,null,null,"税率",null,"出来高"]
[null,null,null,null,null,null,null,null,null,null,null,"数量",null,null,"単価",null,null,"金額",null,null,null,null,null,null,"数量(％)",null,null,"金額"]
[null,null,null,null,null,null,null,null,null,null,null,null,null,null,null,null,null,{"$f":"IF(ROUND(L16*O16,0)=0,\"\",ROUND(L16*O16,0))","v":""},null,null,null,null,null,null,null,null,null,{"$f":"IFERROR(Y16*R16/100,\"\")","v":""},null,null,null,null,{"$f":"IF(W16=\"\",AB16*0.1,AB16*W16)","v":{"$error":"#VALUE!"}},{"$f":"IF(W16=\"\",R16*0.1,R16*W16)","v":{"$error":"#VALUE!"}}]
[null,null,null,null,null,null,null,null,null,null,null,null,null,null,null,null,null,{"$f":"IF(ROUND(L17*O17,0)=0,\"\",ROUND(L17*O17,0))","v":""},null,null,null,null,null,null,null,null,null,{"$f":"IFERROR(Y17*R17/100,\"\")","v":""},null,null,null,null,{"$f":"IF(W17=\"\",AB17*0.1,AB17*W17)","v":{"$error":"#VALUE!"}},{"$f":"IF(W17=\"\",R17*0.1,R17*W17)","v":{"$error":"#VALUE!"}}]
[null,null,null,null,null,null,null,null,null,null,null,null,null,null,null,null,null,"",null,null,null,null,null,null,null,null,null,"",null,null,null,null,{"$error":"#VALUE!"},{"$error":"#VALUE!"}]
[null,null,null,null,null,null,null,null,null,null,null,null,null,null,null,null,null,"",null,null,null,null,null,null,null,null,null,"",null,null,null,null,{"$error":"#VALUE!"},{"$error":"#VALUE!"}]
[null,null,null,null,null,null,null,null,null,null,null,null,null,null,null,null,null,"",null,null,null,null,null,null,null,null,null,"",null,null,null,null,{"$error":"#VALUE!"},{"$error":"#VALUE!"}]
[null,null,null,null,null,null,null,null,null,null,null,null,null,null,null,null,null,"",null,null,null,null,null,null,null,null,null,"",null,null,null,null,{"$error":"#VALUE!"},{"$error":"#VALUE!"}]
[null,null,null,null,null,null,null,null,null,null,null,null,null,null,null,null,null,"",null,null,null,null,null,null,null,null,null,"",null,null,null,null,{"$error":"#VALUE!"},{"$error":"#VALUE!"}]
[null,null,null,null,null,null,null,null,null,null,null,null,null,null,null,null,null,"",null,null,null,null,null,null,null,null,null,"",null,null,null,null,{"$error":"#VALUE!"},{"$error":"#VALUE!"}]
[null,null,null,null,null,null,null,null,null,null,null,null,null,null,null,null,null,"",null,null,null,null,null,null,null,null,null,"",null,null,null,null,{"$error":"#VALUE!"},{"$error":"#VALUE!"}]
[null,null,null,null,null,null,null,null,null,null,null,null,null,null,null,null,null,"",null,null,null,null,null,null,null,null,null,"",null,null,null,null,{"$error":"#VALUE!"},{"$error":"#VALUE!"}]
[null,null,null,null,null,null,null,null,null,null,null,null,null,null,null,null,null,"",null,null,null,null,null,null,null,null,null,"",null,null,null,null,{"$error":"#VALUE!"},{"$error":"#VALUE!"}]
[null,null,null,null,null,null,null,null,null,null,null,null,null,null,null,null,null,"",null,null,null,null,null,null,null,null,null,"",null,null,null,null,{"$error":"#VALUE!"},{"$error":"#VALUE!"}]
[null,null,null,null,null,null,null,null,null,null,null,null,null,null,null,null,null,"",null,null,null,null,null,null,null,null,null,"",null,null,null,null,{"$error":"#VALUE!"},{"$error":"#VALUE!"}]
[null,null,null,null,null,null,null,null,null,null,null,null,null,null,null,null,null,"",null,null,null,null,null,null,null,null,null,"",null,null,null,null,{"$error":"#VALUE!"},{"$error":"#VALUE!"}]
[null,null,null,null,null,null,null,null,null,null,null,null,null,null,null,null,null,"",null,null,null,null,null,null,null,null,null,"",null,null,null,null,{"$error":"#VALUE!"},{"$error":"#VALUE!"}]
[null,null,null,null,null,null,null,null,null,null,null,null,null,null,null,null,null,"",null,null,null,null,null,null,null,null,null,"",null,null,null,null,{"$error":"#VALUE!"},{"$error":"#VALUE!"}]
[null,"小計Ⓐ(税抜)",null,null,null,null,null,null,null,null,null,null,null,null,null,null,null,{"$f":"IF(内訳明細書2枚目!R16=\"\",SUM(R16:V31),\"\")","v":0},null,null,null,null,null,null,null,null,null,{"$f":"IF(内訳明細書2枚目!R16=\"\",SUM(AB16:AF31),\"\")","v":0}]
[null,"消費税額Ⓑ",null,null,null,null,null,null,null,null,null,null,null,null,null,null,null,{"$f":"IF(内訳明細書2枚目!R16=\"\",ROUND(_xlfn.AGGREGATE(9,6,AH16:AH31),0),\"\")","v":0},null,null,null,null,null,null,null,null,null,{"$f":"IF(内訳明細書2枚目!R16=\"\",ROUND(_xlfn.AGGREGATE(9,6,AG16:AG31),0),\"\")","v":0}]
[null,"合計Ⓒ",null,null,null,null,null,null,null,null,null,null,null,null,null,null,null,{"$f":"IF(内訳明細書2枚目!R16=\"\",内訳明細書1枚目!R32+内訳明細書1枚目!R33,\"\")","v":0},null,null,null,null,null,null,null,null,null,{"$f":"IF(内訳明細書2枚目!R16=\"\",AB32+AB33,\"\")","v":0}]
[]
[null,null,null,null,null,null,null,null,null,"請求内訳明細書"]
[]
[]
[null,null,null,null,null,null,"所属長",null,null,"担当",null,null,null,null,null,null,null,"西暦",null,{"$f":"IF(D7=\"\",\"\",D7)","v":""},null,null,"年",{"$f":"IF(H7=\"\",\"\",H7)","v":""},null,"月",{"$f":"IF(K7=\"\",\"\",K7)","v":""},null,"日"]
[null," (現場控)",null,null,null,null,null,null,null,null,null,null,null,null,null,null,null,"住所",null,null,{"$f":"IF(U5=\"\",\"\",U5)","v":""}]
[]
[]
[null,"工事番号",null,null,{"$f":"IF(E8=\"\",\"\",E8)","v":""},null,"―",{"$f":"IF(H8=\"\",\"\",H8)","v":""},null,null,null,null,null,null,null,null,null,"会社名",null,null,{"$f":"IF(U8=\"\",\"\",U8)","v":""},null,null,null,null,null,null,null,null,null,"印"]
[]
[null,"工事名",null,{"$f":"IF(D10=\"\",\"\",D10)","v":""}]
[null,null,null,null,null,null,null,null,null,null,null,null,null,null,null,null,null,"TEL",null,null,{"$f":"IF(U11=\"\",\"\",U11)","v":""}]
[]
[]
[null,"月","日","名称",null,null,null,null,null,null,null,"契約",null,null,null,null,null,null,null,null,null,null,"税率",null,"出来高"]
[null,null,null,null,null,null,null,null,null,null,null,"数量",null,null,"単価",null,null,"金額",null,null,null,null,null,null,"数量(％)",null,null,"金額"]
[null,{"$f":"IF(B16=\"\",\"\",B16)","v":""},{"$f":"IF(C16=\"\",\"\",C16)","v":""},{"$f":"IF(D16=\"\",\"\",D16)","v":""},null,null,null,null,null,null,null,{"$f":"IF(L16=\"\",\"\",L16)","v":""},null,null,{"$f":"IF(O16=\"\",\"\",O16)","v":""},null,null,{"$f":"IF(R16=\"\",\"\",R16)","v":""},null,null,null,null,{"$f":"IF(W16=\"\",\"\",W16)","v":""},null,{"$f":"IF(Y16=\"\",\"\",Y16)","v":""},null,null,{"$f":"IF(AB16=\"\",\"\",AB16)","v":""}]
[null,{"$f":"IF(B17=\"\",\"\",B17)","v":""},"","",null,null,null,null,null,null,null,{"$f":"IF(L17=\"\",\"\",L17)","v":""},null,null,{"$f":"IF(O17=\"\",\"\",O17)","v":""},null,null,{"$f":"IF(R17=\"\",\"\",R17)","v":""},null,null,null,null,{"$f":"IF(W17=\"\",\"\",W17)","v":""},null,{"$f":"IF(Y17=\"\",\"\",Y17)","v":""},null,null,{"$f":"IF(AB17=\"\",\"\",AB17)","v":""}]
[null,"","","",null,null,null,null,null,null,null,"",null,null,"",null,null,"",null,null,null,null,"",null,"",null,null,""]
[null,"","","",null,null,null,null,null,null,null,"",null,null,"",null,null,"",null,null,null,null,"",null,"",null,null,""]
[null,"","","",null,null,null,null,null,null,null,"",null,null,"",null,null,"",null,null,null,null,"",null,"",null,null,""]
[null,"","","",null,null,null,null,null,null,null,"",null,null,"",null,null,"",null,null,null,null,"",null,"",null,null,""]
[null,{"$f":"IF(B22=\"\",\"\",B22)","v":""},"","",null,null,null,null,null,null,null,"",null,null,"",null,null,"",null,null,null,null,"",null,"",null,null,""]
[null,{"$f":"IF(B23=\"\",\"\",B23)","v":""},"","",null,null,null,null,null,null,null,"",null,null,"",null,null,{"$f":"IF(R23=\"\",\"\",R23)","v":""},null,null,null,null,"",null,"",null,null,""]
[null,{"$f":"IF(B24=\"\",\"\",B24)","v":""},"","",null,null,null,null,null,null,null,"",null,null,"",null,null,"",null,null,null,null,"",null,"",null,null,""]
[null,{"$f":"IF(B25=\"\",\"\",B25)","v":""},"","",null,null,null,null,null,null,null,"",null,null,"",null,null,"",null,null,null,null,"",null,"",null,null,""]
[null,{"$f":"IF(B26=\"\",\"\",B26)","v":""},"","",null,null,null,null,null,null,null,"",null,null,"",null,null,"",null,null,null,null,"",null,"",null,null,""]
[null,{"$f":"IF(B27=\"\",\"\",B27)","v":""},"","",null,null,null,null,null,null,null,"",null,null,"",null,null,"",null,null,null,null,"",null,"",null,null,""]
[null,{"$f":"IF(B28=\"\",\"\",B28)","v":""},"","",null,null,null,null,null,null,null,"",null,null,"",null,null,"",null,null,null,null,"",null,"",null,null,""]
[null,{"$f":"IF(B29=\"\",\"\",B29)","v":""},"","",null,null,null,null,null,null,null,"",null,null,"",null,null,"",null,null,null,null,"",null,"",null,null,""]
[null,{"$f":"IF(B30=\"\",\"\",B30)","v":""},"","",null,null,null,null,null,null,null,"",null,null,"",null,null,"",null,null,null,null,"",null,"",null,null,""]
[null,{"$f":"IF(B31=\"\",\"\",B31)","v":""},"","",null,null,null,null,null,null,null,"",null,null,"",null,null,"",null,null,null,null,"",null,"",null,null,""]
[null,"小計Ⓐ(税抜)",null,null,null,null,null,null,null,null,null,null,null,null,null,null,null,{"$f":"IF(R32=\"\",\"\",R32)","v":0},null,null,null,null,null,null,null,null,null,{"$f":"IF(AB32=\"\",\"\",AB32)","v":0}]
[null,"消費税額Ⓑ",null,null,null,null,null,null,null,null,null,null,null,null,null,null,null,{"$f":"IF(R33=\"\",\"\",R33)","v":0},null,null,null,null,null,null,null,null,null,{"$f":"IF(AB33=\"\",\"\",AB33)","v":0}]
[null,"合計Ⓒ",null,null,null,null,null,null,null,null,null,null,null,null,null,null,null,{"$f":"IF(R34=\"\",\"\",R34)","v":0},null,null,null,null,null,null,null,null,null,{"$f":"IF(AB34=\"\",\"\",AB34)","v":0}]
[]
[null,null,null,null,null,null,null,null,null,"請求内訳明細書"]
[]
[]
[null,null,null,null,null,null,"所属長",null,null,"担当",null,null,null,null,null,null,null,"西暦",null,{"$f":"IF(D7=\"\",\"\",D7)","v":""},null,null,"年",{"$f":"IF(H7=\"\",\"\",H7)","v":""},null,"月",{"$f":"IF(K7=\"\",\"\",K7)","v":""},null,"日"]
[null," (経理控)",null,null,null,null,null,null,null,null,null,null,null,null,null,null,null,"住所",null,null,{"$f":"IF(U5=\"\",\"\",U5)","v":""}]
[]
[]
[null,"工事番号",null,null,{"$f":"IF(E8=\"\",\"\",E8)","v":""},null,"―",{"$f":"IF(H8=\"\",\"\",H8)","v":""},null,null,null,null,null,null,null,null,null,"会社名",null,null,{"$f":"IF(U8=\"\",\"\",U8)","v":""},null,null,null,null,null,null,null,null,null,"印"]
[]
[null,"工事名",null,{"$f":"IF(D10=\"\",\"\",D10)","v":""}]
[null,null,null,null,null,null,null,null,null,null,null,null,null,null,null,null,null,"TEL",null,null,{"$f":"IF(U11=\"\",\"\",U11)","v":""}]
[]
[]
[null,"月","日","名称",null,null,null,null,null,null,null,"契約",null,null,null,null,null,null,null,null,null,null,"税率",null,"出来高"]
[null,null,null,null,null,null,null,null,null,null,null,"数量",null,null,"単価",null,null,"金額",null,null,null,null,null,null,"数量(％)",null,null,"金額"]
[null,{"$f":"IF(B16=\"\",\"\",B16)","v":""},{"$f":"IF(C16=\"\",\"\",C16)","v":""},{"$f":"IF(D16=\"\",\"\",D16)","v":""},null,null,null,null,null,null,null,{"$f":"IF(L16=\"\",\"\",L16)","v":""},null,null,{"$f":"IF(O16=\"\",\"\",O16)","v":""},null,null,{"$f":"IF(R16=\"\",\"\",R16)","v":""},null,null,null,null,{"$f":"IF(W16=\"\",\"\",W16)","v":""},null,{"$f":"IF(Y16=\"\",\"\",Y16)","v":""},null,null,{"$f":"IF(AB16=\"\",\"\",AB16)","v":""}]
[null,{"$f":"IF(B17=\"\",\"\",B17)","v":""},"","",null,null,null,null,null,null,null,"",null,null,{"$f":"IF(O17=\"\",\"\",O17)","v":""},null,null,{"$f":"IF(R17=\"\",\"\",R17)","v":""},null,null,null,null,{"$f":"IF(W17=\"\",\"\",W17)","v":""},null,{"$f":"IF(Y17=\"\",\"\",Y17)","v":""},null,null,{"$f":"IF(AB17=\"\",\"\",AB17)","v":""}]
[null,"","","",null,null,null,null,null,null,null,"",null,null,"",null,null,"",null,null,null,null,"",null,"",null,null,""]
[null,"","","",null,null,null,null,null,null,null,"",null,null,"",null,null,"",null,null,null,null,"",null,"",null,null,""]
[null,"","","",null,null,null,null,null,null,null,"",null,null,"",null,null,"",null,null,null,null,"",null,"",null,null,""]
[null,"","","",null,null,null,null,null,null,null,"",null,null,"",null,null,"",null,null,null,null,"",null,"",null,null,""]
[null,"","","",null,null,null,null,null,null,null,"",null,null,"",null,null,"",null,null,null,null,"",null,"",null,null,""]
[null,"","","",null,null,null,null,null,null,null,"",null,null,"",null,null,"",null,null,null,null,"",null,"",null,null,""]
[null,"","","",null,null,null,null,null,null,null,"",null,null,"",null,null,"",null,null,null,null,"",null,"",null,null,""]
[null,"","","",null,null,null,null,null,null,null,"",null,null,"",null,null,"",null,null,null,null,"",null,"",null,null,""]
[null,"","","",null,null,null,null,null,null,null,"",null,null,"",null,null,"",null,null,null,null,"",null,"",null,null,""]
[null,"","","",null,null,null,null,null,null,null,"",null,null,"",null,null,"",null,null,null,null,"",null,"",null,null,""]
[null,"","","",null,null,null,null,null,null,null,"",null,null,"",null,null,"",null,null,null,null,"",null,"",null,null,""]
[null,"","","",null,null,null,null,null,null,null,"",null,null,"",null,null,"",null,null,null,null,"",null,"",null,null,""]
[null,"","","",null,null,null,null,null,null,null,"",null,null,"",null,null,"",null,null,null,null,"",null,"",null,null,""]
[null,"","","",null,null,null,null,null,null,null,"",null,null,"",null,null,"",null,null,null,null,"",null,"",null,null,""]
[null,"小計Ⓐ(税抜)",null,null,null,null,null,null,null,null,null,null,null,null,null,null,null,{"$f":"IF(R32=\"\",\"\",R32)","v":0},null,null,null,null,null,null,null,null,null,{"$f":"IF(AB32=\"\",\"\",AB32)","v":0}]
[null,"消費税額Ⓑ",null,null,null,null,null,null,null,null,null,null,null,null,null,null,null,{"$f":"IF(R33=\"\",\"\",R33)","v":0},null,null,null,null,null,null,null,null,null,{"$f":"IF(AB33=\"\",\"\",AB33)","v":0}]
[null,"合計Ⓒ",null,null,null,null,null,null,null,null,null,null,null,null,null,null,null,{"$f":"IF(R34=\"\",\"\",R34)","v":0},null,null,null,null,null,null,null,null,null,{"$f":"IF(AB34=\"\",\"\",AB34)","v":0}]

{"sheet":"内訳明細書2枚目","index":3,"n_rows":104,"n_cols":34,"rows_kept":104,"cut":false,"hidden":true,"merged":[[6,7,6,8],[6,10,6,11],[38,19,38,21],[38,23,38,24],[38,26,38,27],[16,22,16,23],[15,22,15,23],[31,1,31,16],[32,1,32,16],[31,17,31,21],[13,22,14,23],[30,22,30,23],[29,22,29,23],[28,22,28,23],[27,22,27,23],[26,22,26,23],[6,1,6,2],[10,17,11,19],[10,20,11,31],[9,1,11,2],[13,1,14,1],[13,2,14,2],[13,3,14,10],[16,14,16,16],[48,11,48,21],[56,24,56,26],[101,17,101,21],[101,27,101,31],[4,1,4,3],[74,1,74,3],[39,1,39,3],[102,1,102,16],[101,22,103,26],[67,1,67,16],[101,1,101,16],[31,27,31,31],[48,22,49,23],[50,22,50,23],[100,22,100,23],[99,22,99,23],[98,22,98,23],[97,22,97,23],[96,22,96,23],[95,22,95,23],[94,22,94,23],[93,22,93,23],[92,22,92,23],[6,3,6,5],[19,3,19,10],[17,22,17,23],[15,24,15,26],[39,17,41,19],[39,20,41,31],[65,22,65,23],[64,22,64,23],[63,22,63,23],[62,22,62,23],[61,22,61,23],[60,22,60,23],[59,22,59,23],[58,22,58,23],[57,22,57,23],[53,17,53,21],[53,24,53,26],[53,27,53,31],[58,24,58,26],[58,27,58,31],[61,24,61,26],[61,27,61,31],[64,24,64,26],[64,27,64,31],[63,24,63,26],[18,27,18,31],[7,1,8,3],[7,4,8,5],[7,6,8,6],[18,3,18,10],[18,11,18,13],[7,7,8,8],[14,14,14,16],[14,17,14,21],[17,3,17,10],[17,11,17,13],[17,14,17,16],[17,17,17,21],[17,24,17,26],[17,27,17,31],[16,3,16,10],[16,11,16,13],[16,24,16,26],[7,20,9,29],[51,17,51,21],[15,27,15,31],[0,4,0,7],[1,4,1,7],[2,4,2,7],[3,4,3,14],[7,17,9,19],[22,3,22,10],[22,11,22,13],[16,27,16,31],[15,3,15,10],[20,3,20,10],[20,11,20,13],[20,14,20,16],[20,17,20,21],[7,30,9,31],[14,24,14,26],[14,27,14,31],[13,24,13,31],[16,17,16,21],[15,14,15,16],[18,14,18,16],[18,17,18,21],[18,24,18,26],[23,22,23,23],[22,17,22,21],[22,22,22,23],[21,22,21,23],[102,27,102,31],[102,17,102,21],[52,3,52,10],[52,11,52,13],[52,14,52,16],[52,17,52,21],[52,24,52,26],[52,27,52,31],[50,3,50,10],[50,11,50,13],[50,14,50,16],[50,17,50,21],[50,24,50,26],[50,27,50,31],[53,3,53,10],[53,11,53,13],[53,14,53,16],[80,17,81,19],[56,27,56,31],[56,22,56,23],[19,11,19,13],[19,14,19,16],[19,17,19,21],[19,24,19,26],[19,27,19,31],[20,22,20,23],[20,27,20,31],[22,24,22,26],[22,27,22,31],[20,24,20,26],[19,22,19,23],[21,3,21,10],[21,11,21,13],[21,14,21,16],[21,17,21,21],[21,24,21,26],[21,27,21,31],[22,14,22,16],[25,11,25,13],[25,14,25,16],[25,17,25,21],[25,24,25,26],[25,27,25,31],[24,3,24,10],[24,11,24,13],[24,14,24,16],[24,17,24,21],[24,24,24,26],[24,27,24,31],[23,3,23,10],[23,11,23,13],[23,14,23,16],[23,24,23,26],[23,27,23,31],[25,3,25,10],[26,24,26,26],[26,27,26,31],[30,3,30,10],[30,11,30,13],[30,14,30,16],[30,17,30,21],[28,3,28,10],[28,11,28,13],[28,14,28,16],[28,17,28,21],[28,24,28,26],[28,27,28,31],[27,3,27,10],[27,11,27,13],[27,14,27,16],[27,17,27,21],[27,24,27,26],[27,27,27,31],[30,24,30,26],[30,27,30,31],[29,3,29,10],[29,11,29,13],[29,14,29,16],[29,17,29,21],[29,24,29,26],[29,27,29,31],[31,22,33,26],[52,22,52,23],[55,3,55,10],[55,11,55,13],[32,27,32,31],[33,1,33,16],[33,17,33,21],[33,27,33,31],[32,17,32,21],[49,11,49,13],[49,14,49,16],[49,17,49,21],[49,24,49,26],[49,27,49,31],[48,24,48,31],[48,3,49,10],[44,3,46,15],[38,17,38,18],[42,17,44,19],[42,30,44,31],[45,17,46,19],[45,20,46,31],[39,9,40,11],[39,6,40,8],[38,9,38,11],[53,22,53,23],[55,14,55,16],[55,17,55,21],[55,24,55,26],[55,27,55,31],[54,3,54,10],[54,11,54,13],[54,14,54,16],[54,17,54,21],[54,24,54,26],[54,27,54,31],[55,22,55,23],[54,22,54,23],[51,24,51,26],[51,27,51,31],[51,22,51,23],[38,6,38,8],[42,20,44,29],[51,3,51,10],[51,11,51,13],[51,14,51,16],[60,27,60,31],[59,3,59,10],[59,11,59,13],[59,14,59,16],[59,17,59,21],[59,24,59,26],[59,27,59,31],[57,3,57,10],[57,11,57,13],[57,14,57,16],[57,17,57,21],[57,24,57,26],[57,27,57,31],[60,3,60,10],[60,11,60,13],[60,14,60,16],[60,17,60,21],[62,27,62,31],[67,17,67,21],[67,27,67,31],[65,3,65,10],[65,11,65,13],[65,14,65,16],[65,17,65,21],[65,24,65,26],[65,27,65,31],[64,3,64,10],[64,11,64,13],[63,3,63,10],[63,11,63,13],[63,14,63,16],[63,17,63,21],[66,1,66,16],[66,17,66,21],[66,27,66,31],[62,3,62,10],[62,11,62,13],[62,14,62,16],[62,17,62,21],[64,14,64,16],[63,27,63,31],[79,1,81,2],[77,1,78,3],[77,4,78,5],[77,6,78,6],[77,7,78,8],[79,3,81,15],[74,17,76,19],[74,20,76,31],[73,23,73,24],[80,20,81,31],[74,9,75,11],[74,6,75,8],[73,9,73,11],[73,6,73,8],[77,20,79,29],[86,24,86,26],[86,27,86,31],[86,22,86,23],[68,27,68,31],[85,3,85,10],[85,11,85,13],[85,14,85,16],[85,17,85,21],[85,24,85,26],[85,27,85,31],[84,11,84,13],[84,14,84,16],[84,17,84,21],[84,24,84,26],[84,27,84,31],[73,17,73,18],[77,17,79,19],[77,30,79,31],[85,22,85,23],[83,22,84,23],[73,19,73,21],[73,26,73,27],[83,24,83,31],[70,9,72,22],[88,24,88,26],[88,27,88,31],[87,3,87,10],[87,11,87,13],[87,14,87,16],[87,17,87,21],[87,24,87,26],[87,27,87,31],[88,22,88,23],[87,22,87,23],[90,24,90,26],[90,27,90,31],[89,3,89,10],[89,11,89,13],[89,14,89,16],[89,17,89,21],[89,24,89,26],[89,27,89,31],[91,11,91,13],[91,14,91,16],[91,17,91,21],[89,22,89,23],[91,22,91,23],[90,22,90,23],[90,3,90,10],[90,11,90,13],[90,14,90,16],[103,1,103,16],[103,17,103,21],[103,27,103,31],[96,24,96,26],[96,27,96,31],[95,3,95,10],[95,11,95,13],[96,3,96,10],[96,11,96,13],[96,14,96,16],[96,17,96,21],[95,14,95,16],[95,17,95,21],[95,24,95,26],[95,27,95,31],[99,17,99,21],[98,27,98,31],[100,3,100,10],[100,11,100,13],[100,14,100,16],[100,17,100,21],[100,24,100,26],[100,27,100,31],[99,3,99,10],[94,3,94,10],[94,11,94,13],[94,14,94,16],[93,3,93,10],[93,14,93,16],[93,17,93,21],[93,24,93,26],[93,27,93,31],[94,17,94,21],[94,24,94,26],[94,27,94,31],[92,3,92,10],[92,11,92,13],[92,14,92,16],[92,17,92,21],[92,24,92,26],[92,27,92,31],[91,3,91,10],[91,24,91,26],[91,27,91,31],[97,14,97,16],[97,17,97,21],[97,24,97,26],[97,27,97,31],[99,14,99,16],[99,24,99,26],[99,27,99,31],[98,3,98,10],[98,11,98,13],[98,14,98,16],[98,17,98,21],[98,24,98,26],[44,1,46,2],[42,1,43,3],[42,4,43,5],[42,6,43,6],[42,7,43,8],[48,1,49,1],[48,2,49,2],[99,11,99,13],[97,3,97,10],[97,11,97,13],[93,11,93,13],[83,1,84,1],[83,2,84,2],[83,3,84,10],[83,11,83,21],[90,17,90,21],[88,3,88,10],[88,11,88,13],[88,14,88,16],[88,17,88,21],[86,3,86,10],[86,11,86,13],[86,14,86,16],[86,17,86,21],[68,1,68,16],[68,17,68,21],[61,3,61,10],[61,11,61,13],[61,14,61,16],[61,17,61,21],[58,3,58,10],[58,11,58,13],[58,14,58,16],[58,17,58,21],[64,17,64,21],[66,22,68,26],[62,24,62,26],[60,24,60,26],[56,3,56,10],[56,11,56,13],[56,14,56,16],[56,17,56,21],[0,9,2,22],[35,9,37,22],[26,3,26,10],[26,11,26,13],[26,14,26,16],[26,17,26,21],[23,17,23,21],[15,17,15,21],[25,22,25,23],[24,22,24,23],[18,22,18,23],[4,17,6,19],[4,20,6,31],[13,11,13,21],[9,3,11,15],[14,11,14,13],[15,11,15,13]]}
[null,null,null,null,"業者コード",null,null,null,null,"請求内訳明細書"]
[null,null,null,null,{"$f":"IF(内訳明細書1枚目!E2=\"\",\"\",内訳明細書1枚目!E2)","v":""}]
[null,null,null,null,"登録番号"]
[null,null,null,null,{"$f":"IF(内訳明細書1枚目!E4=\"\",\"\",内訳明細書1枚目!E4)","v":""}]
[null," (業者控)",null,null,null,null,null,null,null,null,null,null,null,null,null,null,null,"住所",null,null,{"$f":"IF(内訳明細書1枚目!U5=\"\",\"\",内訳明細書1枚目!U5)","v":""}]
[]
[null,"西暦",null,{"$f":"IF(内訳明細書1枚目!D7=\"\",\"\",内訳明細書1枚目!D7)","v":""},null,null,"年",{"$f":"IF(内訳明細書1枚目!H7=\"\",\"\",内訳明細書1枚目!H7)","v":""},null,"月",{"$f":"IF(内訳明細書1枚目!K7=\"\",\"\",内訳明細書1枚目!K7)","v":""},null,"日"]
[null,"工事番号",null,null,{"$f":"IF(内訳明細書1枚目!E8=\"\",\"\",内訳明細書1枚目!E8)","v":""},null,"―",{"$f":"IF(内訳明細書1枚目!H8=\"\",\"\",内訳明細書1枚目!H8)","v":""},null,null,null,null,null,null,null,null,null,"会社名",null,null,{"$f":"IF(内訳明細書1枚目!U8=\"\",\"\",内訳明細書1枚目!U8)","v":""},null,null,null,null,null,null,null,null,null,"印"]
[]
[null,"工事名",null,{"$f":"IF(内訳明細書1枚目!D10=\"\",\"\",内訳明細書1枚目!D10)","v":""}]
[null,null,null,null,null,null,null,null,null,null,null,null,null,null,null,null,null,"TEL",null,null,{"$f":"IF(内訳明細書1枚目!U11=\"\",\"\",内訳明細書1枚目!U11)","v":""}]
[]
[]
[null,"月","日","名称",null,null,null,null,null,null,null,"契約",null,null,null,null,null,null,null,null,null,null,"税率",null,"出来高"]
[null,null,null,null,null,null,null,null,null,null,null,"数量",null,null,"単価",null,null,"金額",null,null,null,null,null,null,"数量(％)",null,null,"金額"]
[null,null,null,null,null,null,null,null,null,null,null,null,null,null,null,null,null,{"$f":"IF(ROUND(L16*O16,0)=0,\"\",ROUND(L16*O16,0))","v":""},null,null,null,null,null,null,null,null,null,{"$f":"IFERROR(Y16*R16/100,\"\")","v":""},null,null,null,null,{"$f":"IF(W16=\"\",AB16*0.1,AB16*W16)","v":{"$error":"#VALUE!"}},{"$f":"IF(W16=\"\",R16*0.1,R16*W16)","v":{"$error":"#VALUE!"}}]
[null,null,null,null,null,null,null,null,null,null,null,null,null,null,null,null,null,{"$f":"IF(ROUND(L17*O17,0)=0,\"\",ROUND(L17*O17,0))","v":""},null,null,null,null,null,null,null,null,null,{"$f":"IFERROR(Y17*R17/100,\"\")","v":""},null,null,null,null,{"$f":"IF(W17=\"\",AB17*0.1,AB17*W17)","v":{"$error":"#VALUE!"}},{"$f":"IF(W17=\"\",R17*0.1,R17*W17)","v":{"$error":"#VALUE!"}}]
[null,null,null,null,null,null,null,null,null,null,null,null,null,null,null,null,null,"",null,null,null,null,null,null,null,null,null,"",null,null,null,null,{"$error":"#VALUE!"},{"$error":"#VALUE!"}]
[null,null,null,null,null,null,null,null,null,null,null,null,null,null,null,null,null,"",null,null,null,null,null,null,null,null,null,"",null,null,null,null,{"$error":"#VALUE!"},{"$error":"#VALUE!"}]
[null,null,null,null,null,null,null,null,null,null,null,null,null,null,null,null,null,"",null,null,null,null,null,null,null,null,null,"",null,null,null,null,{"$error":"#VALUE!"},{"$error":"#VALUE!"}]
[null,null,null,null,null,null,null,null,null,null,null,null,null,null,null,null,null,"",null,null,null,null,null,null,null,null,null,"",null,null,null,null,{"$error":"#VALUE!"},{"$error":"#VALUE!"}]
[null,null,null,null,null,null,null,null,null,null,null,null,null,null,null,null,null,"",null,null,null,null,null,null,null,null,null,"",null,null,null,null,{"$error":"#VALUE!"},{"$error":"#VALUE!"}]
[null,null,null,null,null,null,null,null,null,null,null,null,null,null,null,null,null,"",null,null,null,null,null,null,null,null,null,"",null,null,null,null,{"$error":"#VALUE!"},{"$error":"#VALUE!"}]
[null,null,null,null,null,null,null,null,null,null,null,null,null,null,null,null,null,"",null,null,null,null,null,null,null,null,null,"",null,null,null,null,{"$error":"#VALUE!"},{"$error":"#VALUE!"}]
[null,null,null,null,null,null,null,null,null,null,null,null,null,null,null,null,null,"",null,null,null,null,null,null,null,null,null,"",null,null,null,null,{"$error":"#VALUE!"},{"$error":"#VALUE!"}]
[null,null,null,null,null,null,null,null,null,null,null,null,null,null,null,null,null,"",null,null,null,null,null,null,null,null,null,"",null,null,null,null,{"$error":"#VALUE!"},{"$error":"#VALUE!"}]
[null,null,null,null,null,null,null,null,null,null,null,null,null,null,null,null,null,"",null,null,null,null,null,null,null,null,null,"",null,null,null,null,{"$error":"#VALUE!"},{"$error":"#VALUE!"}]
[null,null,null,null,null,null,null,null,null,null,null,null,null,null,null,null,null,"",null,null,null,null,null,null,null,null,null,"",null,null,null,null,{"$error":"#VALUE!"},{"$error":"#VALUE!"}]
[null,null,null,null,null,null,null,null,null,null,null,null,null,null,null,null,null,"",null,null,null,null,null,null,null,null,null,"",null,null,null,null,{"$error":"#VALUE!"},{"$error":"#VALUE!"}]
[null,null,null,null,null,null,null,null,null,null,null,null,null,null,null,null,null,"",null,null,null,null,null,null,null,null,null,"",null,null,null,null,{"$error":"#VALUE!"},{"$error":"#VALUE!"}]
[null,null,null,null,null,null,null,null,null,null,null,null,null,null,null,null,null,"",null,null,null,null,null,null,null,null,null,"",null,null,null,null,{"$error":"#VALUE!"},{"$error":"#VALUE!"}]
[null,"小計Ⓐ(税抜)",null,null,null,null,null,null,null,null,null,null,null,null,null,null,null,{"$f":"IF(内訳明細書3枚目!R16=\"\",SUM(R16:V31,内訳明細書1枚目!R16:V31),\"\")","v":0},null,null,null,null,null,null,null,null,null,{"$f":"IF(内訳明細書3枚目!R16=\"\",SUM(AB16:AF31,内訳明細書1枚目!AB16:AF31),\"\")","v":0}]
[null,"消費税額Ⓑ",null,null,null,null,null,null,null,null,null,null,null,null,null,null,null,{"$f":"IF(内訳明細書3枚目!R16=\"\",ROUND(_xlfn.AGGREGATE(9,6,内訳明細書1枚目!AH16:AH31,内訳明細書2枚目!AH16:AH31),0),\"\")","v":0},null,null,null,null,null,null,null,null,null,{"$f":"IF(内訳明細書3枚目!R16=\"\",ROUND(_xlfn.AGGREGATE(9,6,内訳明細書1枚目!AG16:AG31,内訳明細書2枚目!AG16:AG31),0),\"\")","v":0}]
[null,"合計Ⓒ(1-２枚目)",null,null,null,null,null,null,null,null,null,null,null,null,null,null,null,{"$f":"IF(内訳明細書3枚目!R16=\"\",_xlfn.AGGREGATE(9,6,内訳明細書1枚目!R16:V31,内訳明細書1枚目!AH16:AH31,内訳明細書2枚目!R16:V31,内訳明細書2枚目!AH16:AH31),\"\")","v":0},null,null,null,null,null,null,null,null,null,{"$f":"IF(内訳明細書3枚目!R16=\"\",_xlfn.AGGREGATE(9,6,内訳明細書1枚目!AB16:AF31,内訳明細書1枚目!AG16:AG31,AB16:AF31,AG16:AG31),\"\")","v":0}]
[]
[null,null,null,null,null,null,null,null,null,"請求内訳明細書"]
[]
[]
[null,null,null,null,null,null,"所属長",null,null,"担当",null,null,null,null,null,null,null,"西暦",null,{"$f":"IF(D7=\"\",\"\",D7)","v":""},null,null,"年",{"$f":"IF(H7=\"\",\"\",H7)","v":""},null,"月",{"$f":"IF(K7=\"\",\"\",K7)","v":""},null,"日"]
[null," (現場控)",null,null,null,null,null,null,null,null,null,null,null,null,null,null,null,"住所",null,null,{"$f":"IF(U5=\"\",\"\",U5)","v":""}]
[]
[]
[null,"工事番号",null,null,{"$f":"IF(E8=\"\",\"\",E8)","v":""},null,"―",{"$f":"IF(H8=\"\",\"\",H8)","v":""},null,null,null,null,null,null,null,null,null,"会社名",null,null,{"$f":"IF(U8=\"\",\"\",U8)","v":""},null,null,null,null,null,null,null,null,null,"印"]
[]
[null,"工事名",null,{"$f":"IF(D10=\"\",\"\",D10)","v":""}]
[null,null,null,null,null,null,null,null,null,null,null,null,null,null,null,null,null,"TEL",null,null,{"$f":"IF(U11=\"\",\"\",U11)","v":""}]
[]
[]
[null,"月","日","名称",null,null,null,null,null,null,null,"契約",null,null,null,null,null,null,null,null,null,null,"税率",null,"出来高"]
[null,null,null,null,null,null,null,null,null,null,null,"数量",null,null,"単価",null,null,"金額",null,null,null,null,null,null,"数量(％)",null,null,"金額"]
[null,{"$f":"IF(B16=\"\",\"\",B16)","v":""},{"$f":"IF(C16=\"\",\"\",C16)","v":""},{"$f":"IF(D16=\"\",\"\",D16)","v":""},null,null,null,null,null,null,null,{"$f":"IF(L16=\"\",\"\",L16)","v":""},null,null,{"$f":"IF(O16=\"\",\"\",O16)","v":""},null,null,{"$f":"IF(R16=\"\",\"\",R16)","v":""},null,null,null,null,{"$f":"IF(W16=\"\",\"\",W16)","v":""},null,{"$f":"IF(Y16=\"\",\"\",Y16)","v":""},null,null,{"$f":"IF(AB16=\"\",\"\",AB16)","v":""}]
[null,{"$f":"IF(B17=\"\",\"\",B17)","v":""},"","",null,null,null,null,null,null,null,{"$f":"IF(L17=\"\",\"\",L17)","v":""},null,null,{"$f":"IF(O17=\"\",\"\",O17)","v":""},null,null,{"$f":"IF(R17=\"\",\"\",R17)","v":""},null,null,null,null,{"$f":"IF(W17=\"\",\"\",W17)","v":""},null,{"$f":"IF(Y17=\"\",\"\",Y17)","v":""},null,null,{"$f":"IF(AB17=\"\",\"\",AB17)","v":""}]
[null,"","","",null,null,null,null,null,null,null,"",null,null,"",null,null,"",null,null,null,null,"",null,"",null,null,""]
[null,"","","",null,null,null,null,null,null,null,"",null,null,"",null,null,"",null,null,null,null,"",null,"",null,null,""]
[null,"","","",null,null,null,null,null,null,null,"",null,null,"",null,null,"",null,null,null,null,"",null,"",null,null,""]
[null,"","","",null,null,null,null,null,null,null,"",null,null,"",null,null,"",null,null,null,null,"",null,"",null,null,""]
[null,{"$f":"IF(B22=\"\",\"\",B22)","v":""},"","",null,null,null,null,null,null,null,"",null,null,"",null,null,"",null,null,null,null,"",null,"",null,null,""]
[null,{"$f":"IF(B23=\"\",\"\",B23)","v":""},"","",null,null,null,null,null,null,null,"",null,null,"",null,null,"",null,null,null,null,"",null,"",null,null,""]
[null,{"$f":"IF(B24=\"\",\"\",B24)","v":""},"","",null,null,null,null,null,null,null,"",null,null,"",null,null,"",null,null,null,null,"",null,"",null,null,""]
[null,{"$f":"IF(B25=\"\",\"\",B25)","v":""},"","",null,null,null,null,null,null,null,"",null,null,"",null,null,"",null,null,null,null,"",null,"",null,null,""]
[null,{"$f":"IF(B26=\"\",\"\",B26)","v":""},"","",null,null,null,null,null,null,null,"",null,null,"",null,null,"",null,null,null,null,"",null,"",null,null,""]
[null,{"$f":"IF(B27=\"\",\"\",B27)","v":""},"","",null,null,null,null,null,null,null,"",null,null,"",null,null,"",null,null,null,null,"",null,"",null,null,""]
[null,{"$f":"IF(B28=\"\",\"\",B28)","v":""},"","",null,null,null,null,null,null,null,"",null,null,"",null,null,"",null,null,null,null,"",null,"",null,null,""]
[null,{"$f":"IF(B29=\"\",\"\",B29)","v":""},"","",null,null,null,null,null,null,null,"",null,null,"",null,null,"",null,null,null,null,"",null,"",null,null,""]
[null,{"$f":"IF(B30=\"\",\"\",B30)","v":""},"","",null,null,null,null,null,null,null,"",null,null,"",null,null,"",null,null,null,null,"",null,"",null,null,""]
[null,{"$f":"IF(B31=\"\",\"\",B31)","v":""},"","",null,null,null,null,null,null,null,"",null,null,"",null,null,"",null,null,null,null,"",null,"",null,null,""]
[null,"小計Ⓐ(税抜)",null,null,null,null,null,null,null,null,null,null,null,null,null,null,null,{"$f":"IF(R32=\"\",\"\",R32)","v":0},null,null,null,null,{"$f":"IF(Y33=\"\",\"\",Y33)","v":""},null,null,null,null,{"$f":"IF(AB32=\"\",\"\",AB32)","v":0}]
[null,"消費税額Ⓑ",null,null,null,null,null,null,null,null,null,null,null,null,null,null,null,{"$f":"IF(R33=\"\",\"\",R33)","v":0},null,null,null,null,null,null,null,null,null,{"$f":"IF(AB33=\"\",\"\",AB33)","v":0}]
[null,"合計Ⓒ(1-２枚目)",null,null,null,null,null,null,null,null,null,null,null,null,null,null,null,{"$f":"IF(R34=\"\",\"\",R34)","v":0},null,null,null,null,null,null,null,null,null,{"$f":"IF(AB34=\"\",\"\",AB34)","v":0}]
[]
[null,null,null,null,null,null,null,null,null,"請求内訳明細書"]
[]
[]
[null,null,null,null,null,null,"所属長",null,null,"担当",null,null,null,null,null,null,null,"西暦",null,{"$f":"IF(D7=\"\",\"\",D7)","v":""},null,null,"年",{"$f":"IF(H7=\"\",\"\",H7)","v":""},null,"月",{"$f":"IF(K7=\"\",\"\",K7)","v":""},null,"日"]
[null," (経理控)",null,null,null,null,null,null,null,null,null,null,null,null,null,null,null,"住所",null,null,{"$f":"IF(U5=\"\",\"\",U5)","v":""}]
[]
[]
[null,"工事番号",null,null,{"$f":"IF(E8=\"\",\"\",E8)","v":""},null,"―",{"$f":"IF(H8=\"\",\"\",H8)","v":""},null,null,null,null,null,null,null,null,null,"会社名",null,null,{"$f":"IF(U8=\"\",\"\",U8)","v":""},null,null,null,null,null,null,null,null,null,"印"]
[]
[null,"工事名",null,{"$f":"IF(D10=\"\",\"\",D10)","v":""}]
[null,null,null,null,null,null,null,null,null,null,null,null,null,null,null,null,null,"TEL",null,null,{"$f":"IF(U11=\"\",\"\",U11)","v":""}]
[]
[]
[null,"月","日","名称",null,null,null,null,null,null,null,"契約",null,null,null,null,null,null,null,null,null,null,"税率",null,"出来高"]
[null,null,null,null,null,null,null,null,null,null,null,"数量",null,null,"単価",null,null,"金額",null,null,null,null,null,null,"数量(％)",null,null,"金額"]
[null,{"$f":"IF(B16=\"\",\"\",B16)","v":""},{"$f":"IF(C16=\"\",\"\",C16)","v":""},{"$f":"IF(D16=\"\",\"\",D16)","v":""},null,null,null,null,null,null,null,{"$f":"IF(L16=\"\",\"\",L16)","v":""},null,null,{"$f":"IF(O16=\"\",\"\",O16)","v":""},null,null,{"$f":"IF(R16=\"\",\"\",R16)","v":""},null,null,null,null,{"$f":"IF(W16=\"\",\"\",W16)","v":""},null,{"$f":"IF(Y16=\"\",\"\",Y16)","v":""},null,null,{"$f":"IF(AB16=\"\",\"\",AB16)","v":""}]
[null,{"$f":"IF(B17=\"\",\"\",B17)","v":""},"","",null,null,null,null,null,null,null,"",null,null,{"$f":"IF(O17=\"\",\"\",O17)","v":""},null,null,{"$f":"IF(R17=\"\",\"\",R17)","v":""},null,null,null,null,{"$f":"IF(W17=\"\",\"\",W17)","v":""},null,{"$f":"IF(Y17=\"\",\"\",Y17)","v":""},null,null,{"$f":"IF(AB17=\"\",\"\",AB17)","v":""}]
[null,"","","",null,null,null,null,null,null,null,"",null,null,"",null,null,"",null,null,null,null,"",null,"",null,null,""]
[null,"","","",null,null,null,null,null,null,null,"",null,null,"",null,null,"",null,null,null,null,"",null,"",null,null,""]
[null,"","","",null,null,null,null,null,null,null,"",null,null,"",null,null,"",null,null,null,null,"",null,"",null,null,""]
[null,"","","",null,null,null,null,null,null,null,"",null,null,"",null,null,"",null,null,null,null,"",null,"",null,null,""]
[null,"","","",null,null,null,null,null,null,null,"",null,null,"",null,null,"",null,null,null,null,"",null,"",null,null,""]
[null,"","","",null,null,null,null,null,null,null,"",null,null,"",null,null,"",null,null,null,null,"",null,"",null,null,""]
[null,"","","",null,null,null,null,null,null,null,"",null,null,"",null,null,"",null,null,null,null,"",null,"",null,null,""]
[null,"","","",null,null,null,null,null,null,null,"",null,null,"",null,null,"",null,null,null,null,"",null,"",null,null,""]
[null,"","","",null,null,null,null,null,null,null,"",null,null,"",null,null,"",null,null,null,null,"",null,"",null,null,""]
[null,"","","",null,null,null,null,null,null,null,"",null,null,"",null,null,"",null,null,null,null,"",null,"",null,null,""]
[null,"","","",null,null,null,null,null,null,null,"",null,null,"",null,null,"",null,null,null,null,"",null,"",null,null,""]
[null,"","","",null,null,null,null,null,null,null,"",null,null,"",null,null,"",null,null,null,null,"",null,"",null,null,""]
[null,"","","",null,null,null,null,null,null,null,"",null,null,"",null,null,"",null,null,null,null,"",null,"",null,null,""]
[null,"","","",null,null,null,null,null,null,null,"",null,null,"",null,null,"",null,null,null,null,"",null,"",null,null,""]
[null,"小計Ⓐ(税抜)",null,null,null,null,null,null,null,null,null,null,null,null,null,null,null,{"$f":"IF(R32=\"\",\"\",R32)","v":0},null,null,null,null,null,null,null,null,null,{"$f":"IF(AB32=\"\",\"\",AB32)","v":0}]
[null,"消費税額Ⓑ",null,null,null,null,null,null,null,null,null,null,null,null,null,null,null,{"$f":"IF(R33=\"\",\"\",R33)","v":0},null,null,null,null,null,null,null,null,null,{"$f":"IF(AB33=\"\",\"\",AB33)","v":0}]
[null,"合計Ⓒ(1-２枚目)",null,null,null,null,null,null,null,null,null,null,null,null,null,null,null,{"$f":"IF(R34=\"\",\"\",R34)","v":0},null,null,null,null,null,null,null,null,null,{"$f":"IF(AB34=\"\",\"\",AB34)","v":0}]

{"sheet":"内訳明細書3枚目","index":4,"n_rows":104,"n_cols":34,"rows_kept":104,"cut":false,"hidden":true,"merged":[[0,4,0,7],[1,4,1,7],[2,4,2,7],[3,4,3,14],[7,17,9,19],[22,3,22,10],[22,11,22,13],[16,27,16,31],[15,3,15,10],[20,3,20,10],[4,1,4,3],[7,30,9,31],[14,24,14,26],[14,27,14,31],[13,24,13,31],[9,1,11,2],[13,1,14,1],[13,2,14,2],[7,1,8,3],[7,4,8,5],[7,6,8,6],[7,7,8,8],[14,14,14,16],[6,3,6,5],[55,27,55,31],[28,27,28,31],[25,27,25,31],[27,27,27,31],[31,17,31,21],[51,22,51,23],[48,24,48,31],[54,17,54,21],[54,24,54,26],[54,27,54,31],[53,17,53,21],[53,24,53,26],[30,27,30,31],[33,17,33,21],[33,27,33,31],[32,17,32,21],[32,27,32,31],[49,27,49,31],[38,17,38,18],[26,27,26,31],[52,24,52,26],[52,27,52,31],[6,7,6,8],[6,10,6,11],[6,1,6,2],[10,17,11,19],[10,20,11,31],[4,17,6,19],[4,20,6,31],[18,22,18,23],[17,22,17,23],[14,17,14,21],[13,3,14,10],[13,11,13,21],[9,3,11,15],[13,22,14,23],[14,11,14,13],[15,24,15,26],[15,27,15,31],[18,3,18,10],[18,11,18,13],[18,14,18,16],[18,17,18,21],[18,24,18,26],[18,27,18,31],[17,3,17,10],[67,1,67,16],[101,1,101,16],[31,27,31,31],[48,22,49,23],[50,22,50,23],[100,22,100,23],[99,22,99,23],[98,22,98,23],[97,22,97,23],[96,22,96,23],[95,22,95,23],[94,22,94,23],[93,22,93,23],[92,22,92,23],[91,22,91,23],[90,22,90,23],[96,3,96,10],[96,11,96,13],[96,14,96,16],[96,17,96,21],[42,17,44,19],[31,22,33,26],[55,17,55,21],[55,24,55,26],[30,14,30,16],[25,11,25,13],[25,14,25,16],[25,17,25,21],[25,24,25,26],[20,11,20,13],[20,14,20,16],[19,11,19,13],[19,14,19,16],[19,17,19,21],[19,24,19,26],[25,22,25,23],[20,17,20,21],[20,24,20,26],[24,22,24,23],[26,24,26,26],[30,24,30,26],[28,14,28,16],[28,17,28,21],[26,22,26,23],[19,22,19,23],[59,22,59,23],[58,22,58,23],[31,1,31,16],[32,1,32,16],[48,3,49,10],[54,3,54,10],[54,11,54,13],[54,14,54,16],[53,3,53,10],[53,11,53,13],[53,14,53,16],[50,3,50,10],[39,1,39,3],[33,1,33,16],[44,3,46,15],[39,9,40,11],[39,6,40,8],[38,9,38,11],[38,6,38,8],[52,3,52,10],[52,11,52,13],[52,14,52,16],[52,17,52,21],[51,3,51,10],[73,26,73,27],[73,23,73,24],[80,17,81,19],[80,20,81,31],[45,17,46,19],[45,20,46,31],[39,17,41,19],[66,27,66,31],[54,22,54,23],[53,22,53,23],[52,22,52,23],[50,24,50,26],[50,27,50,31],[49,17,49,21],[49,24,49,26],[57,22,57,23],[58,27,58,31],[67,17,67,21],[48,11,48,21],[50,11,50,13],[50,14,50,16],[66,17,66,21],[49,11,49,13],[49,14,49,16],[67,27,67,31],[65,3,65,10],[65,11,65,13],[65,14,65,16],[65,17,65,21],[53,27,53,31],[59,27,59,31],[58,24,58,26],[30,3,30,10],[30,11,30,13],[38,19,38,21],[38,23,38,24],[38,26,38,27],[63,3,63,10],[63,11,63,13],[63,14,63,16],[57,3,57,10],[57,11,57,13],[57,14,57,16],[57,17,57,21],[50,17,50,21],[57,24,57,26],[57,27,57,31],[59,14,59,16],[51,11,51,13],[51,14,51,16],[51,17,51,21],[51,24,51,26],[51,27,51,31],[17,11,17,13],[17,14,17,16],[17,17,17,21],[17,24,17,26],[17,27,17,31],[19,27,19,31],[22,24,22,26],[22,27,22,31],[21,11,21,13],[21,14,21,16],[21,17,21,21],[21,24,21,26],[21,27,21,31],[22,14,22,16],[22,17,22,21],[20,27,20,31],[22,22,22,23],[21,22,21,23],[20,22,20,23],[16,3,16,10],[16,11,16,13],[16,14,16,16],[15,22,15,23],[15,11,15,13],[15,14,15,16],[15,17,15,21],[16,17,16,21],[16,24,16,26],[16,22,16,23],[25,3,25,10],[24,3,24,10],[24,11,24,13],[24,14,24,16],[24,17,24,21],[24,24,24,26],[19,3,19,10],[30,22,30,23],[29,22,29,23],[21,3,21,10],[26,3,26,10],[26,11,26,13],[26,14,26,16],[26,17,26,21],[28,22,28,23],[28,3,28,10],[28,11,28,13],[27,3,27,10],[27,11,27,13],[27,14,27,16],[27,17,27,21],[27,22,27,23],[28,24,28,26],[27,24,27,26],[24,27,24,31],[23,3,23,10],[23,11,23,13],[23,14,23,16],[23,17,23,21],[23,24,23,26],[23,27,23,31],[23,22,23,23],[59,24,59,26],[56,11,56,13],[56,14,56,16],[56,17,56,21],[56,24,56,26],[56,27,56,31],[55,14,55,16],[29,3,29,10],[29,11,29,13],[29,14,29,16],[29,17,29,21],[29,24,29,26],[29,27,29,31],[42,30,44,31],[39,20,41,31],[30,17,30,21],[56,22,56,23],[55,22,55,23],[79,1,81,2],[61,24,61,26],[61,27,61,31],[60,3,60,10],[60,11,60,13],[60,14,60,16],[60,17,60,21],[60,24,60,26],[60,27,60,31],[62,3,62,10],[62,11,62,13],[62,14,62,16],[62,17,62,21],[62,24,62,26],[62,27,62,31],[62,22,62,23],[61,22,61,23],[60,22,60,23],[63,24,63,26],[63,27,63,31],[65,22,65,23],[68,27,68,31],[64,22,64,23],[63,22,63,23],[64,3,64,10],[63,17,63,21],[66,1,66,16],[74,6,75,8],[73,6,73,8],[77,17,79,19],[83,1,84,1],[83,2,84,2],[73,17,73,18],[74,17,76,19],[74,20,76,31],[64,11,64,13],[64,24,64,26],[64,27,64,31],[65,24,65,26],[65,27,65,31],[74,9,75,11],[73,9,73,11],[66,22,68,26],[84,24,84,26],[84,27,84,31],[83,22,84,23],[89,27,89,31],[88,3,88,10],[88,11,88,13],[88,14,88,16],[88,17,88,21],[88,24,88,26],[88,27,88,31],[91,27,91,31],[90,3,90,10],[90,11,90,13],[90,14,90,16],[90,17,90,21],[90,24,90,26],[90,27,90,31],[91,11,91,13],[89,24,89,26],[91,24,91,26],[91,3,91,10],[91,14,91,16],[91,17,91,21],[85,24,85,26],[85,27,85,31],[84,11,84,13],[84,14,84,16],[84,17,84,21],[86,14,86,16],[87,14,87,16],[87,17,87,21],[87,24,87,26],[86,17,86,21],[86,24,86,26],[86,27,86,31],[77,4,78,5],[77,6,78,6],[77,7,78,8],[89,22,89,23],[88,22,88,23],[87,22,87,23],[86,22,86,23],[85,22,85,23],[83,3,84,10],[85,3,85,10],[85,11,85,13],[85,14,85,16],[85,17,85,21],[89,3,89,10],[89,11,89,13],[89,14,89,16],[89,17,89,21],[103,27,103,31],[97,24,97,26],[97,27,97,31],[95,3,95,10],[95,11,95,13],[97,3,97,10],[97,11,97,13],[97,14,97,16],[97,17,97,21],[95,14,95,16],[95,17,95,21],[95,24,95,26],[95,27,95,31],[100,17,100,21],[99,27,99,31],[101,17,101,21],[101,27,101,31],[98,17,98,21],[98,24,98,26],[98,27,98,31],[100,14,100,16],[100,24,100,26],[102,27,102,31],[102,17,102,21],[103,1,103,16],[103,17,103,21],[94,17,94,21],[93,11,93,13],[102,1,102,16],[100,3,100,10],[100,11,100,13],[99,24,99,26],[92,3,92,10],[92,11,92,13],[92,14,92,16],[92,17,92,21],[92,24,92,26],[98,3,98,10],[98,11,98,13],[98,14,98,16],[101,22,103,26],[92,27,92,31],[94,3,94,10],[94,11,94,13],[94,14,94,16],[93,3,93,10],[94,24,94,26],[94,27,94,31],[93,27,93,31],[96,24,96,26],[96,27,96,31],[93,14,93,16],[93,17,93,21],[93,24,93,26],[7,20,9,29],[42,20,44,29],[77,20,79,29],[87,27,87,31],[86,3,86,10],[86,11,86,13],[83,11,83,21],[83,24,83,31],[77,1,78,3],[87,3,87,10],[87,11,87,13],[58,17,58,21],[55,3,55,10],[55,11,55,13],[59,3,59,10],[59,11,59,13],[56,3,56,10],[68,1,68,16],[68,17,68,21],[73,19,73,21],[79,3,81,15],[74,1,74,3],[59,17,59,21],[77,30,79,31],[100,27,100,31],[99,3,99,10],[99,11,99,13],[99,14,99,16],[99,17,99,21],[0,9,2,22],[35,9,37,22],[70,9,72,22],[44,1,46,2],[42,1,43,3],[42,4,43,5],[42,6,43,6],[42,7,43,8],[48,1,49,1],[48,2,49,2],[64,14,64,16],[64,17,64,21],[61,3,61,10],[61,11,61,13],[61,14,61,16],[61,17,61,21],[58,3,58,10],[58,11,58,13],[58,14,58,16]]}
[null,null,null,null,"業者コード",null,null,null,null,"請求内訳明細書"]
[null,null,null,null,{"$f":"IF(内訳明細書1枚目!E2=\"\",\"\",内訳明細書1枚目!E2)","v":""}]
[null,null,null,null,"登録番号"]
[null,null,null,null,{"$f":"IF(内訳明細書1枚目!E4=\"\",\"\",内訳明細書1枚目!E4)","v":""}]
[null," (業者控)",null,null,null,null,null,null,null,null,null,null,null,null,null,null,null,"住所",null,null,{"$f":"IF(内訳明細書1枚目!U5=\"\",\"\",内訳明細書1枚目!U5)","v":""}]
[]
[null,"西暦",null,{"$f":"IF(内訳明細書1枚目!D7=\"\",\"\",内訳明細書1枚目!D7)","v":""},null,null,"年",{"$f":"IF(内訳明細書1枚目!H7=\"\",\"\",内訳明細書1枚目!H7)","v":""},null,"月",{"$f":"IF(内訳明細書1枚目!K7=\"\",\"\",内訳明細書1枚目!K7)","v":""},null,"日"]
[null,"工事番号",null,null,{"$f":"IF(内訳明細書1枚目!E8=\"\",\"\",内訳明細書1枚目!E8)","v":""},null,"―",{"$f":"IF(内訳明細書1枚目!H8=\"\",\"\",内訳明細書1枚目!H8)","v":""},null,null,null,null,null,null,null,null,null,"会社名",null,null,{"$f":"IF(内訳明細書1枚目!U8=\"\",\"\",内訳明細書1枚目!U8)","v":""},null,null,null,null,null,null,null,null,null,"印"]
[]
[null,"工事名",null,{"$f":"IF(内訳明細書1枚目!D10=\"\",\"\",内訳明細書1枚目!D10)","v":""}]
[null,null,null,null,null,null,null,null,null,null,null,null,null,null,null,null,null,"TEL",null,null,{"$f":"IF(内訳明細書1枚目!U11=\"\",\"\",内訳明細書1枚目!U11)","v":""}]
[]
[]
[null,"月","日","名称",null,null,null,null,null,null,null,"契約",null,null,null,null,null,null,null,null,null,null,"税率",null,"出来高"]
[null,null,null,null,null,null,null,null,null,null,null,"数量",null,null,"単価",null,null,"金額",null,null,null,null,null,null,"数量(％)",null,null,"金額"]
[null,null,null,null,null,null,null,null,null,null,null,null,null,null,null,null,null,{"$f":"IF(ROUND(L16*O16,0)=0,\"\",ROUND(L16*O16,0))","v":""},null,null,null,null,null,null,null,null,null,{"$f":"IFERROR(R16*Y16/100,\"\")","v":""},null,null,null,null,{"$f":"IF(W16=\"\",AB16*0.1,AB16*W16)","v":{"$error":"#VALUE!"}},{"$f":"IF(W16=\"\",R16*0.1,R16*W16)","v":{"$error":"#VALUE!"}}]
[null,null,null,null,null,null,null,null,null,null,null,null,null,null,null,null,null,{"$f":"IF(ROUND(L17*O17,0)=0,\"\",ROUND(L17*O17,0))","v":""},null,null,null,null,null,null,null,null,null,{"$f":"IFERROR(R17*Y17/100,\"\")","v":""},null,null,null,null,{"$f":"IF(W17=\"\",AB17*0.1,AB17*W17)","v":{"$error":"#VALUE!"}},{"$f":"IF(W17=\"\",R17*0.1,R17*W17)","v":{"$error":"#VALUE!"}}]
[null,null,null,null,null,null,null,null,null,null,null,null,null,null,null,null,null,"",null,null,null,null,null,null,null,null,null,"",null,null,null,null,{"$error":"#VALUE!"},{"$error":"#VALUE!"}]
[null,null,null,null,null,null,null,null,null,null,null,null,null,null,null,null,null,"",null,null,null,null,null,null,null,null,null,"",null,null,null,null,{"$error":"#VALUE!"},{"$error":"#VALUE!"}]
[null,null,null,null,null,null,null,null,null,null,null,null,null,null,null,null,null,"",null,null,null,null,null,null,null,null,null,"",null,null,null,null,{"$error":"#VALUE!"},{"$error":"#VALUE!"}]
[null,null,null,null,null,null,null,null,null,null,null,null,null,null,null,null,null,"",null,null,null,null,null,null,null,null,null,"",null,null,null,null,{"$error":"#VALUE!"},{"$error":"#VALUE!"}]
[null,null,null,null,null,null,null,null,null,null,null,null,null,null,null,null,null,"",null,null,null,null,null,null,null,null,null,"",null,null,null,null,{"$error":"#VALUE!"},{"$error":"#VALUE!"}]
[null,null,null,null,null,null,null,null,null,null,null,null,null,null,null,null,null,"",null,null,null,null,null,null,null,null,null,"",null,null,null,null,{"$error":"#VALUE!"},{"$error":"#VALUE!"}]
[null,null,null,null,null,null,null,null,null,null,null,null,null,null,null,null,null,"",null,null,null,null,null,null,null,null,null,"",null,null,null,null,{"$error":"#VALUE!"},{"$error":"#VALUE!"}]
[null,null,null,null,null,null,null,null,null,null,null,null,null,null,null,null,null,"",null,null,null,null,null,null,null,null,null,"",null,null,null,null,{"$error":"#VALUE!"},{"$error":"#VALUE!"}]
[null,null,null,null,null,null,null,null,null,null,null,null,null,null,null,null,null,"",null,null,null,null,null,null,null,null,null,"",null,null,null,null,{"$error":"#VALUE!"},{"$error":"#VALUE!"}]
[null,null,null,null,null,null,null,null,null,null,null,null,null,null,null,null,null,"",null,null,null,null,null,null,null,null,null,"",null,null,null,null,{"$error":"#VALUE!"},{"$error":"#VALUE!"}]
[null,null,null,null,null,null,null,null,null,null,null,null,null,null,null,null,null,"",null,null,null,null,null,null,null,null,null,"",null,null,null,null,{"$error":"#VALUE!"},{"$error":"#VALUE!"}]
[null,null,null,null,null,null,null,null,null,null,null,null,null,null,null,null,null,"",null,null,null,null,null,null,null,null,null,"",null,null,null,null,{"$error":"#VALUE!"},{"$error":"#VALUE!"}]
[null,null,null,null,null,null,null,null,null,null,null,null,null,null,null,null,null,"",null,null,null,null,null,null,null,null,null,"",null,null,null,null,{"$error":"#VALUE!"},{"$error":"#VALUE!"}]
[null,null,null,null,null,null,null,null,null,null,null,null,null,null,null,null,null,"",null,null,null,null,null,null,null,null,null,"",null,null,null,null,{"$error":"#VALUE!"},{"$error":"#VALUE!"}]
[null,"小計Ⓐ(税抜)",null,null,null,null,null,null,null,null,null,null,null,null,null,null,null,{"$f":"IF(内訳明細書4枚目!R16=\"\",SUM(R16:V31,内訳明細書1枚目!R16:V31,内訳明細書2枚目!R16:V31),\"\")","v":0},null,null,null,null,null,null,null,null,null,{"$f":"IF(内訳明細書4枚目!R16=\"\",SUM(AB16:AF31,内訳明細書1枚目!AB16:AF31,内訳明細書2枚目!AB16:AF31),\"\")","v":0}]
[null,"消費税額Ⓑ",null,null,null,null,null,null,null,null,null,null,null,null,null,null,null,{"$f":"IF(内訳明細書4枚目!R16=\"\",ROUND(_xlfn.AGGREGATE(9,6,内訳明細書1枚目!AH16:AH31,内訳明細書2枚目!AH16:AH31,AH16:AH31),0),\"\")","v":0},null,null,null,null,null,null,null,null,null,{"$f":"IF(内訳明細書4枚目!R16=\"\",ROUND(_xlfn.AGGREGATE(9,6,内訳明細書1枚目!AG16:AG31,内訳明細書2枚目!AG16:AG31,AG16:AG31),0),\"\")","v":0}]
[null,"合計Ⓒ(1-3枚目)",null,null,null,null,null,null,null,null,null,null,null,null,null,null,null,{"$f":"IF(内訳明細書4枚目!R16=\"\",_xlfn.AGGREGATE(9,6,内訳明細書1枚目!R16:V31,内訳明細書1枚目!AH16:AH31,内訳明細書2枚目!R16:V31,内訳明細書2枚目!AH16:AH31,R16:V31,AH16:AH31),\"\")","v":0},null,null,null,null,null,null,null,null,null,{"$f":"IF(内訳明細書4枚目!R16=\"\",_xlfn.AGGREGATE(9,6,内訳明細書1枚目!AB16:AF31,内訳明細書1枚目!AG16:AG31,内訳明細書2枚目!AB16:AF31,内訳明細書2枚目!AG16:AG31,AB16:AF31,AG16:AG31),\"\")","v":0}]
[]
[null,null,null,null,null,null,null,null,null,"請求内訳明細書"]
[]
[]
[null,null,null,null,null,null,"所属長",null,null,"担当",null,null,null,null,null,null,null,"西暦",null,{"$f":"IF(D7=\"\",\"\",D7)","v":""},null,null,"年",{"$f":"IF(H7=\"\",\"\",H7)","v":""},null,"月",{"$f":"IF(K7=\"\",\"\",K7)","v":""},null,"日"]
[null," (現場控)",null,null,null,null,null,null,null,null,null,null,null,null,null,null,null,"住所",null,null,{"$f":"IF(U5=\"\",\"\",U5)","v":""}]
[]
[]
[null,"工事番号",null,null,{"$f":"IF(E8=\"\",\"\",E8)","v":""},null,"―",{"$f":"IF(H8=\"\",\"\",H8)","v":""},null,null,null,null,null,null,null,null,null,"会社名",null,null,{"$f":"IF(U8=\"\",\"\",U8)","v":""},null,null,null,null,null,null,null,null,null,"印"]
[]
[null,"工事名",null,{"$f":"IF(D10=\"\",\"\",D10)","v":""}]
[null,null,null,null,null,null,null,null,null,null,null,null,null,null,null,null,null,"TEL",null,null,{"$f":"IF(U11=\"\",\"\",U11)","v":""}]
[]
[]
[null,"月","日","名称",null,null,null,null,null,null,null,"契約",null,null,null,null,null,null,null,null,null,null,"税率",null,"出来高"]
[null,null,null,null,null,null,null,null,null,null,null,"数量",null,null,"単価",null,null,"金額",null,null,null,null,null,null,"数量(％)",null,null,"金額"]
[null,{"$f":"IF(B16=\"\",\"\",B16)","v":""},{"$f":"IF(C16=\"\",\"\",C16)","v":""},{"$f":"IF(D16=\"\",\"\",D16)","v":""},null,null,null,null,null,null,null,{"$f":"IF(L16=\"\",\"\",L16)","v":""},null,null,{"$f":"IF(O16=\"\",\"\",O16)","v":""},null,null,{"$f":"IF(R16=\"\",\"\",R16)","v":""},null,null,null,null,{"$f":"IF(W16=\"\",\"\",W16)","v":""},null,{"$f":"IF(Y16=\"\",\"\",Y16)","v":""},null,null,{"$f":"IF(AB16=\"\",\"\",AB16)","v":""}]
[null,{"$f":"IF(B17=\"\",\"\",B17)","v":""},"","",null,null,null,null,null,null,null,{"$f":"IF(L17=\"\",\"\",L17)","v":""},null,null,{"$f":"IF(O17=\"\",\"\",O17)","v":""},null,null,{"$f":"IF(R17=\"\",\"\",R17)","v":""},null,null,null,null,{"$f":"IF(W17=\"\",\"\",W17)","v":""},null,{"$f":"IF(Y17=\"\",\"\",Y17)","v":""},null,null,{"$f":"IF(AB17=\"\",\"\",AB17)","v":""}]
[null,"","","",null,null,null,null,null,null,null,"",null,null,"",null,null,"",null,null,null,null,"",null,"",null,null,""]
[null,"","","",null,null,null,null,null,null,null,"",null,null,"",null,null,"",null,null,null,null,"",null,"",null,null,""]
[null,"","","",null,null,null,null,null,null,null,"",null,null,"",null,null,"",null,null,null,null,"",null,"",null,null,""]
[null,"","","",null,null,null,null,null,null,null,"",null,null,"",null,null,"",null,null,null,null,"",null,"",null,null,""]
[null,{"$f":"IF(B22=\"\",\"\",B22)","v":""},"","",null,null,null,null,null,null,null,"",null,null,"",null,null,"",null,null,null,null,"",null,"",null,null,""]
[null,{"$f":"IF(B23=\"\",\"\",B23)","v":""},"","",null,null,null,null,null,null,null,"",null,null,"",null,null,"",null,null,null,null,"",null,"",null,null,""]
[null,{"$f":"IF(B24=\"\",\"\",B24)","v":""},"","",null,null,null,null,null,null,null,"",null,null,"",null,null,"",null,null,null,null,"",null,"",null,null,""]
[null,{"$f":"IF(B25=\"\",\"\",B25)","v":""},"","",null,null,null,null,null,null,null,"",null,null,"",null,null,"",null,null,null,null,"",null,"",null,null,""]
[null,{"$f":"IF(B26=\"\",\"\",B26)","v":""},"","",null,null,null,null,null,null,null,"",null,null,"",null,null,"",null,null,null,null,"",null,"",null,null,""]
[null,{"$f":"IF(B27=\"\",\"\",B27)","v":""},"","",null,null,null,null,null,null,null,"",null,null,"",null,null,"",null,null,null,null,"",null,"",null,null,""]
[null,{"$f":"IF(B28=\"\",\"\",B28)","v":""},"","",null,null,null,null,null,null,null,"",null,null,"",null,null,"",null,null,null,null,"",null,"",null,null,""]
[null,{"$f":"IF(B29=\"\",\"\",B29)","v":""},"","",null,null,null,null,null,null,null,"",null,null,"",null,null,"",null,null,null,null,"",null,"",null,null,""]
[null,{"$f":"IF(B30=\"\",\"\",B30)","v":""},"","",null,null,null,null,null,null,null,"",null,null,"",null,null,"",null,null,null,null,"",null,"",null,null,""]
[null,{"$f":"IF(B31=\"\",\"\",B31)","v":""},"","",null,null,null,null,null,null,null,"",null,null,"",null,null,"",null,null,null,null,"",null,"",null,null,""]
[null,"小計Ⓐ(税抜)",null,null,null,null,null,null,null,null,null,null,null,null,null,null,null,{"$f":"IF(R32=\"\",\"\",R32)","v":0},null,null,null,null,{"$f":"IF(Y33=\"\",\"\",Y33)","v":""},null,null,null,null,{"$f":"IF(AB32=\"\",\"\",AB32)","v":0}]
[null,"消費税額Ⓑ",null,null,null,null,null,null,null,null,null,null,null,null,null,null,null,{"$f":"IF(R33=\"\",\"\",R33)","v":0},null,null,null,null,null,null,null,null,null,{"$f":"IF(AB33=\"\",\"\",AB33)","v":0}]
[null,"合計Ⓒ(1-3枚目)",null,null,null,null,null,null,null,null,null,null,null,null,null,null,null,{"$f":"IF(R34=\"\",\"\",R34)","v":0},null,null,null,null,null,null,null,null,null,{"$f":"IF(AB34=\"\",\"\",AB34)","v":0}]
[]
[null,null,null,null,null,null,null,null,null,"請求内訳明細書"]
[]
[]
[null,null,null,null,null,null,"所属長",null,null,"担当",null,null,null,null,null,null,null,"西暦",null,{"$f":"IF(D7=\"\",\"\",D7)","v":""},null,null,"年",{"$f":"IF(H7=\"\",\"\",H7)","v":""},null,"月",{"$f":"IF(K7=\"\",\"\",K7)","v":""},null,"日"]
[null," (経理控)",null,null,null,null,null,null,null,null,null,null,null,null,null,null,null,"住所",null,null,{"$f":"IF(U5=\"\",\"\",U5)","v":""}]
[]
[]
[null,"工事番号",null,null,{"$f":"IF(E8=\"\",\"\",E8)","v":""},null,"―",{"$f":"IF(H8=\"\",\"\",H8)","v":""},null,null,null,null,null,null,null,null,null,"会社名",null,null,{"$f":"IF(U8=\"\",\"\",U8)","v":""},null,null,null,null,null,null,null,null,null,"印"]
[]
[null,"工事名",null,{"$f":"IF(D10=\"\",\"\",D10)","v":""}]
[null,null,null,null,null,null,null,null,null,null,null,null,null,null,null,null,null,"TEL",null,null,{"$f":"IF(U11=\"\",\"\",U11)","v":""}]
[]
[]
[null,"月","日","名称",null,null,null,null,null,null,null,"契約",null,null,null,null,null,null,null,null,null,null,"税率",null,"出来高"]
[null,null,null,null,null,null,null,null,null,null,null,"数量",null,null,"単価",null,null,"金額",null,null,null,null,null,null,"数量(％)",null,null,"金額"]
[null,{"$f":"IF(B16=\"\",\"\",B16)","v":""},{"$f":"IF(C16=\"\",\"\",C16)","v":""},{"$f":"IF(D16=\"\",\"\",D16)","v":""},null,null,null,null,null,null,null,{"$f":"IF(L16=\"\",\"\",L16)","v":""},null,null,{"$f":"IF(O16=\"\",\"\",O16)","v":""},null,null,{"$f":"IF(R16=\"\",\"\",R16)","v":""},null,null,null,null,{"$f":"IF(W16=\"\",\"\",W16)","v":""},null,{"$f":"IF(Y16=\"\",\"\",Y16)","v":""},null,null,{"$f":"IF(AB16=\"\",\"\",AB16)","v":""}]
[null,{"$f":"IF(B17=\"\",\"\",B17)","v":""},"","",null,null,null,null,null,null,null,"",null,null,{"$f":"IF(O17=\"\",\"\",O17)","v":""},null,null,{"$f":"IF(R17=\"\",\"\",R17)","v":""},null,null,null,null,{"$f":"IF(W17=\"\",\"\",W17)","v":""},null,{"$f":"IF(Y17=\"\",\"\",Y17)","v":""},null,null,{"$f":"IF(AB17=\"\",\"\",AB17)","v":""}]
[null,"","","",null,null,null,null,null,null,null,"",null,null,"",null,null,"",null,null,null,null,"",null,"",null,null,""]
[null,"","","",null,null,null,null,null,null,null,"",null,null,"",null,null,"",null,null,null,null,"",null,"",null,null,""]
[null,"","","",null,null,null,null,null,null,null,"",null,null,"",null,null,"",null,null,null,null,"",null,"",null,null,""]
[null,"","","",null,null,null,null,null,null,null,"",null,null,"",null,null,"",null,null,null,null,"",null,"",null,null,""]
[null,"","","",null,null,null,null,null,null,null,"",null,null,"",null,null,"",null,null,null,null,"",null,"",null,null,""]
[null,"","","",null,null,null,null,null,null,null,"",null,null,"",null,null,"",null,null,null,null,"",null,"",null,null,""]
[null,"","","",null,null,null,null,null,null,null,"",null,null,"",null,null,"",null,null,null,null,"",null,"",null,null,""]
[null,"","","",null,null,null,null,null,null,null,"",null,null,"",null,null,"",null,null,null,null,"",null,"",null,null,""]
[null,"","","",null,null,null,null,null,null,null,"",null,null,"",null,null,"",null,null,null,null,"",null,"",null,null,""]
[null,"","","",null,null,null,null,null,null,null,"",null,null,"",null,null,"",null,null,null,null,"",null,"",null,null,""]
[null,"","","",null,null,null,null,null,null,null,"",null,null,"",null,null,"",null,null,null,null,"",null,"",null,null,""]
[null,"","","",null,null,null,null,null,null,null,"",null,null,"",null,null,"",null,null,null,null,"",null,"",null,null,""]
[null,"","","",null,null,null,null,null,null,null,"",null,null,"",null,null,"",null,null,null,null,"",null,"",null,null,""]
[null,"","","",null,null,null,null,null,null,null,"",null,null,"",null,null,"",null,null,null,null,"",null,"",null,null,""]
[null,"小計Ⓐ(税抜)",null,null,null,null,null,null,null,null,null,null,null,null,null,null,null,{"$f":"IF(R32=\"\",\"\",R32)","v":0},null,null,null,null,null,null,null,null,null,{"$f":"IF(AB32=\"\",\"\",AB32)","v":0}]
[null,"消費税額Ⓑ",null,null,null,null,null,null,null,null,null,null,null,null,null,null,null,{"$f":"IF(R33=\"\",\"\",R33)","v":0},null,null,null,null,null,null,null,null,null,{"$f":"IF(AB33=\"\",\"\",AB33)","v":0}]
[null,"合計Ⓒ(1-3枚目)",null,null,null,null,null,null,null,null,null,null,null,null,null,null,null,{"$f":"IF(R34=\"\",\"\",R34)","v":0},null,null,null,null,null,null,null,null,null,{"$f":"IF(AB34=\"\",\"\",AB34)","v":0}]

{"sheet":"内訳明細書4枚目","index":5,"n_rows":104,"n_cols":34,"rows_kept":104,"cut":false,"hidden":true,"merged":[[0,4,0,7],[1,4,1,7],[2,4,2,7],[3,4,3,14],[7,1,8,3],[6,1,6,2],[10,17,11,19],[10,20,11,31],[42,30,44,31],[31,27,31,31],[15,27,15,31],[7,4,8,5],[7,6,8,6],[7,7,8,8],[7,17,9,19],[9,1,11,2],[9,3,11,15],[4,17,6,19],[4,20,6,31],[4,1,4,3],[14,17,14,21],[6,3,6,5],[6,7,6,8],[6,10,6,11],[53,22,53,23],[52,22,52,23],[51,22,51,23],[38,19,38,21],[38,23,38,24],[48,22,49,23],[50,22,50,23],[31,1,31,16],[32,1,32,16],[31,22,33,26],[39,9,40,11],[39,6,40,8],[38,9,38,11],[38,6,38,8],[16,11,16,13],[16,14,16,16],[15,24,15,26],[48,3,49,10],[48,11,48,21],[48,24,48,31],[49,11,49,13],[49,14,49,16],[49,17,49,21],[49,24,49,26],[16,3,16,10],[18,3,18,10],[18,11,18,13],[18,14,18,16],[18,17,18,21],[17,3,17,10],[17,11,17,13],[17,14,17,16],[17,17,17,21],[16,17,16,21],[15,3,15,10],[15,11,15,13],[15,14,15,16],[15,17,15,21],[14,24,14,26],[14,27,14,31],[7,30,9,31],[100,22,100,23],[99,22,99,23],[98,22,98,23],[97,22,97,23],[96,22,96,23],[95,22,95,23],[94,22,94,23],[93,22,93,23],[92,22,92,23],[13,24,13,31],[13,22,14,23],[16,22,16,23],[15,22,15,23],[18,24,18,26],[18,27,18,31],[17,24,17,26],[17,27,17,31],[18,22,18,23],[17,22,17,23],[16,24,16,26],[16,27,16,31],[73,19,73,21],[73,26,73,27],[73,23,73,24],[66,17,66,21],[66,27,66,31],[66,1,66,16],[49,27,49,31],[42,1,43,3],[42,4,43,5],[42,6,43,6],[42,7,43,8],[51,27,51,31],[50,3,50,10],[50,11,50,13],[50,14,50,16],[50,17,50,21],[55,3,55,10],[55,11,55,13],[55,14,55,16],[55,17,55,21],[55,24,55,26],[55,27,55,31],[51,24,51,26],[44,3,46,15],[101,22,103,26],[67,1,67,16],[101,1,101,16],[74,1,74,3],[39,1,39,3],[44,1,46,2],[13,1,14,1],[13,2,14,2],[13,3,14,10],[13,11,13,21],[14,11,14,13],[14,14,14,16],[80,17,81,19],[80,20,81,31],[45,17,46,19],[45,20,46,31],[39,17,41,19],[39,20,41,31],[74,17,76,19],[74,20,76,31],[42,17,44,19],[31,17,31,21],[79,1,81,2],[38,26,38,27],[102,27,102,31],[86,3,86,10],[77,1,78,3],[77,4,78,5],[77,6,78,6],[77,7,78,8],[79,3,81,15],[48,1,49,1],[48,2,49,2],[87,22,87,23],[86,22,86,23],[85,22,85,23],[83,22,84,23],[96,3,96,10],[96,11,96,13],[96,14,96,16],[96,17,96,21],[96,24,96,26],[96,27,96,31],[66,22,68,26],[65,22,65,23],[64,22,64,23],[77,17,79,19],[102,1,102,16],[103,1,103,16],[103,17,103,21],[103,27,103,31],[83,1,84,1],[83,2,84,2],[83,3,84,10],[83,11,83,21],[83,24,83,31],[85,3,85,10],[85,11,85,13],[85,14,85,16],[85,17,85,21],[85,24,85,26],[85,27,85,31],[84,11,84,13],[84,14,84,16],[84,17,84,21],[102,17,102,21],[86,11,86,13],[86,14,86,16],[86,17,86,21],[86,24,86,26],[86,27,86,31],[84,24,84,26],[20,3,20,10],[20,11,20,13],[20,14,20,16],[20,17,20,21],[20,24,20,26],[20,27,20,31],[19,3,19,10],[19,11,19,13],[19,14,19,16],[19,17,19,21],[19,24,19,26],[19,27,19,31],[20,22,20,23],[19,22,19,23],[22,3,22,10],[22,11,22,13],[22,14,22,16],[22,17,22,21],[22,24,22,26],[22,27,22,31],[21,3,21,10],[21,11,21,13],[21,14,21,16],[21,17,21,21],[21,24,21,26],[21,27,21,31],[22,22,22,23],[21,22,21,23],[24,17,24,21],[24,24,24,26],[24,27,24,31],[23,3,23,10],[23,11,23,13],[23,14,23,16],[23,17,23,21],[23,24,23,26],[23,27,23,31],[24,22,24,23],[23,22,23,23],[24,3,24,10],[24,11,24,13],[24,14,24,16],[26,24,26,26],[26,27,26,31],[25,3,25,10],[25,11,25,13],[25,14,25,16],[25,17,25,21],[25,24,25,26],[25,27,25,31],[26,22,26,23],[25,22,25,23],[28,24,28,26],[28,27,28,31],[27,3,27,10],[27,11,27,13],[27,14,27,16],[27,17,27,21],[27,24,27,26],[27,27,27,31],[28,22,28,23],[27,22,27,23],[30,3,30,10],[30,11,30,13],[30,14,30,16],[30,17,30,21],[30,24,30,26],[30,27,30,31],[29,3,29,10],[29,11,29,13],[29,14,29,16],[29,17,29,21],[29,24,29,26],[29,27,29,31],[30,22,30,23],[29,22,29,23],[56,27,56,31],[57,22,57,23],[56,22,56,23],[32,27,32,31],[33,1,33,16],[33,17,33,21],[33,27,33,31],[32,17,32,21],[50,24,50,26],[50,27,50,31],[53,3,53,10],[53,11,53,13],[53,14,53,16],[53,17,53,21],[53,24,53,26],[53,27,53,31],[52,3,52,10],[52,11,52,13],[52,14,52,16],[52,17,52,21],[52,24,52,26],[52,27,52,31],[51,3,51,10],[51,11,51,13],[58,24,58,26],[58,27,58,31],[60,22,60,23],[59,22,59,23],[58,22,58,23],[54,3,54,10],[54,11,54,13],[54,14,54,16],[54,17,54,21],[54,24,54,26],[54,27,54,31],[55,22,55,23],[54,22,54,23],[57,3,57,10],[57,11,57,13],[57,14,57,16],[57,17,57,21],[57,24,57,26],[57,27,57,31],[56,3,56,10],[56,11,56,13],[56,14,56,16],[56,17,56,21],[56,24,56,26],[62,22,62,23],[61,22,61,23],[60,24,60,26],[60,27,60,31],[59,3,59,10],[59,11,59,13],[59,14,59,16],[59,17,59,21],[59,24,59,26],[59,27,59,31],[60,3,60,10],[60,11,60,13],[60,14,60,16],[60,17,60,21],[61,3,61,10],[61,11,61,13],[61,14,61,16],[61,17,61,21],[84,27,84,31],[65,3,65,10],[65,11,65,13],[65,14,65,16],[65,17,65,21],[65,24,65,26],[65,27,65,31],[77,30,79,31],[88,3,88,10],[88,11,88,13],[88,14,88,16],[88,17,88,21],[88,24,88,26],[88,27,88,31],[87,3,87,10],[87,11,87,13],[87,14,87,16],[87,17,87,21],[87,24,87,26],[87,27,87,31],[88,22,88,23],[67,27,67,31],[68,1,68,16],[68,17,68,21],[90,3,90,10],[90,11,90,13],[90,14,90,16],[90,17,90,21],[90,24,90,26],[90,27,90,31],[89,3,89,10],[89,11,89,13],[89,14,89,16],[89,17,89,21],[89,24,89,26],[89,27,89,31],[90,22,90,23],[89,22,89,23],[92,3,92,10],[92,11,92,13],[92,14,92,16],[92,17,92,21],[92,24,92,26],[92,27,92,31],[91,3,91,10],[91,11,91,13],[91,14,91,16],[91,17,91,21],[91,24,91,26],[91,27,91,31],[91,22,91,23],[94,3,94,10],[94,11,94,13],[94,14,94,16],[94,17,94,21],[94,24,94,26],[94,27,94,31],[93,3,93,10],[93,11,93,13],[93,14,93,16],[93,17,93,21],[93,24,93,26],[93,27,93,31],[97,17,97,21],[97,24,97,26],[97,27,97,31],[95,3,95,10],[95,11,95,13],[95,14,95,16],[95,17,95,21],[95,24,95,26],[95,27,95,31],[101,17,101,21],[101,27,101,31],[100,3,100,10],[100,11,100,13],[100,14,100,16],[100,17,100,21],[100,24,100,26],[100,27,100,31],[73,17,73,18],[99,3,99,10],[99,11,99,13],[99,14,99,16],[99,17,99,21],[99,24,99,26],[99,27,99,31],[98,3,98,10],[98,11,98,13],[98,14,98,16],[98,17,98,21],[98,24,98,26],[98,27,98,31],[97,3,97,10],[97,11,97,13],[97,14,97,16],[0,9,2,22],[35,9,37,22],[70,9,72,22],[38,17,38,18],[58,17,58,21],[51,14,51,16],[51,17,51,21],[28,3,28,10],[28,11,28,13],[28,14,28,16],[28,17,28,21],[26,3,26,10],[26,11,26,13],[26,14,26,16],[26,17,26,21],[62,3,62,10],[62,11,62,13],[62,14,62,16],[62,17,62,21],[67,17,67,21],[63,3,63,10],[63,11,63,13],[63,14,63,16],[63,17,63,21],[74,9,75,11],[74,6,75,8],[73,9,73,11],[73,6,73,8],[7,20,9,29],[42,20,44,29],[77,20,79,29],[58,3,58,10],[58,11,58,13],[58,14,58,16],[64,24,64,26],[64,27,64,31],[68,27,68,31],[63,24,63,26],[63,27,63,31],[62,24,62,26],[62,27,62,31],[64,3,64,10],[64,11,64,13],[64,14,64,16],[64,17,64,21],[61,24,61,26],[61,27,61,31],[63,22,63,23]]}
[null,null,null,null,"業者コード",null,null,null,null,"請求内訳明細書"]
[null,null,null,null,{"$f":"IF(内訳明細書1枚目!E2=\"\",\"\",内訳明細書1枚目!E2)","v":""}]
[null,null,null,null,"登録番号"]
[null,null,null,null,{"$f":"IF(内訳明細書1枚目!E4=\"\",\"\",内訳明細書1枚目!E4)","v":""}]
[null," (業者控)",null,null,null,null,null,null,null,null,null,null,null,null,null,null,null,"住所",null,null,{"$f":"IF(内訳明細書1枚目!U5=\"\",\"\",内訳明細書1枚目!U5)","v":""}]
[]
[null,"西暦",null,{"$f":"IF(内訳明細書1枚目!D7=\"\",\"\",内訳明細書1枚目!D7)","v":""},null,null,"年",{"$f":"IF(内訳明細書1枚目!H7=\"\",\"\",内訳明細書1枚目!H7)","v":""},null,"月",{"$f":"IF(内訳明細書1枚目!K7=\"\",\"\",内訳明細書1枚目!K7)","v":""},null,"日"]
[null,"工事番号",null,null,{"$f":"IF(内訳明細書1枚目!E8=\"\",\"\",内訳明細書1枚目!E8)","v":""},null,"―",{"$f":"IF(内訳明細書1枚目!H8=\"\",\"\",内訳明細書1枚目!H8)","v":""},null,null,null,null,null,null,null,null,null,"会社名",null,null,{"$f":"IF(内訳明細書1枚目!U8=\"\",\"\",内訳明細書1枚目!U8)","v":""},null,null,null,null,null,null,null,null,null,"印"]
[]
[null,"工事名",null,{"$f":"IF(内訳明細書1枚目!D10=\"\",\"\",内訳明細書1枚目!D10)","v":""}]
[null,null,null,null,null,null,null,null,null,null,null,null,null,null,null,null,null,"TEL",null,null,{"$f":"IF(内訳明細書1枚目!U11=\"\",\"\",内訳明細書1枚目!U11)","v":""}]
[]
[]
[null,"月","日","名称",null,null,null,null,null,null,null,"契約",null,null,null,null,null,null,null,null,null,null,"税率",null,"出来高"]
[null,null,null,null,null,null,null,null,null,null,null,"数量",null,null,"単価",null,null,"金額",null,null,null,null,null,null,"数量(％)",null,null,"金額"]
[null,null,null,null,null,null,null,null,null,null,null,null,null,null,null,null,null,{"$f":"IF(ROUND(L16*O16,0)=0,\"\",ROUND(L16*O16,0))","v":""},null,null,null,null,null,null,null,null,null,{"$f":"IFERROR(R16*Y16/100,\"\")","v":""},null,null,null,null,{"$f":"IF(W16=\"\",AB16*0.1,AB16*W16)","v":{"$error":"#VALUE!"}},{"$f":"IF(W16=\"\",R16*0.1,R16*W16)","v":{"$error":"#VALUE!"}}]
[null,null,null,null,null,null,null,null,null,null,null,null,null,null,null,null,null,{"$f":"IF(ROUND(L17*O17,0)=0,\"\",ROUND(L17*O17,0))","v":""},null,null,null,null,null,null,null,null,null,{"$f":"IFERROR(R17*Y17/100,\"\")","v":""},null,null,null,null,{"$f":"IF(W17=\"\",AB17*0.1,AB17*W17)","v":{"$error":"#VALUE!"}},{"$f":"IF(W17=\"\",R17*0.1,R17*W17)","v":{"$error":"#VALUE!"}}]
[null,null,null,null,null,null,null,null,null,null,null,null,null,null,null,null,null,"",null,null,null,null,null,null,null,null,null,"",null,null,null,null,{"$error":"#VALUE!"},{"$error":"#VALUE!"}]
[null,null,null,null,null,null,null,null,null,null,null,null,null,null,null,null,null,"",null,null,null,null,null,null,null,null,null,"",null,null,null,null,{"$error":"#VALUE!"},{"$error":"#VALUE!"}]
[null,null,null,null,null,null,null,null,null,null,null,null,null,null,null,null,null,"",null,null,null,null,null,null,null,null,null,"",null,null,null,null,{"$error":"#VALUE!"},{"$f":"IF(W20=\"\",R20*0.1,R20*W20)","v":{"$error":"#VALUE!"}}]
[null,null,null,null,null,null,null,null,null,null,null,null,null,null,null,null,null,"",null,null,null,null,null,null,null,null,null,"",null,null,null,null,{"$error":"#VALUE!"},{"$error":"#VALUE!"}]
[null,null,null,null,null,null,null,null,null,null,null,null,null,null,null,null,null,"",null,null,null,null,null,null,null,null,null,"",null,null,null,null,{"$error":"#VALUE!"},{"$error":"#VALUE!"}]
[null,null,null,null,null,null,null,null,null,null,null,null,null,null,null,null,null,"",null,null,null,null,null,null,null,null,null,"",null,null,null,null,{"$error":"#VALUE!"},{"$error":"#VALUE!"}]
[null,null,null,null,null,null,null,null,null,null,null,null,null,null,null,null,null,"",null,null,null,null,null,null,null,null,null,"",null,null,null,null,{"$error":"#VALUE!"},{"$error":"#VALUE!"}]
[null,null,null,null,null,null,null,null,null,null,null,null,null,null,null,null,null,"",null,null,null,null,null,null,null,null,null,"",null,null,null,null,{"$error":"#VALUE!"},{"$error":"#VALUE!"}]
[null,null,null,null,null,null,null,null,null,null,null,null,null,null,null,null,null,"",null,null,null,null,null,null,null,null,null,"",null,null,null,null,{"$error":"#VALUE!"},{"$error":"#VALUE!"}]
[null,null,null,null,null,null,null,null,null,null,null,null,null,null,null,null,null,"",null,null,null,null,null,null,null,null,null,"",null,null,null,null,{"$error":"#VALUE!"},{"$error":"#VALUE!"}]
[null,null,null,null,null,null,null,null,null,null,null,null,null,null,null,null,null,"",null,null,null,null,null,null,null,null,null,"",null,null,null,null,{"$error":"#VALUE!"},{"$error":"#VALUE!"}]
[null,null,null,null,null,null,null,null,null,null,null,null,null,null,null,null,null,"",null,null,null,null,null,null,null,null,null,"",null,null,null,null,{"$error":"#VALUE!"},{"$error":"#VALUE!"}]
[null,null,null,null,null,null,null,null,null,null,null,null,null,null,null,null,null,"",null,null,null,null,null,null,null,null,null,"",null,null,null,null,{"$error":"#VALUE!"},{"$error":"#VALUE!"}]
[null,null,null,null,null,null,null,null,null,null,null,null,null,null,null,null,null,"",null,null,null,null,null,null,null,null,null,"",null,null,null,null,{"$error":"#VALUE!"},{"$error":"#VALUE!"}]
[null,"小計Ⓐ(税抜)",null,null,null,null,null,null,null,null,null,null,null,null,null,null,null,{"$f":"IF(内訳明細書5枚目!R16=\"\",SUM(R16:V31,内訳明細書1枚目!R16:V31,内訳明細書2枚目!R16:V31,内訳明細書3枚目!R16:V31),\"\")","v":0},null,null,null,null,null,null,null,null,null,{"$f":"IF(内訳明細書5枚目!R16=\"\",SUM(AB16:AF31,内訳明細書1枚目!AB16:AF31,内訳明細書2枚目!AB16:AF31,内訳明細書3枚目!AB16:AF31),\"\")","v":0}]
[null,"消費税額Ⓑ",null,null,null,null,null,null,null,null,null,null,null,null,null,null,null,{"$f":"IF(内訳明細書5枚目!R16=\"\",ROUND(_xlfn.AGGREGATE(9,6,内訳明細書1枚目!AH16:AH31,内訳明細書2枚目!AH16:AH31,内訳明細書3枚目!AH16:AH31,AH16:AH31),0),\"\")","v":0},null,null,null,null,null,null,null,null,null,{"$f":"IF(内訳明細書5枚目!R16=\"\",ROUND(_xlfn.AGGREGATE(9,6,内訳明細書1枚目!AG16:AG31,内訳明細書2枚目!AG16:AG31,内訳明細書3枚目!AG16:AG31,AG16:AG31),0),\"\")","v":0}]
[null,"合計Ⓒ(1-4枚目)",null,null,null,null,null,null,null,null,null,null,null,null,null,null,null,{"$f":"IF(内訳明細書5枚目!R16=\"\",_xlfn.AGGREGATE(9,6,内訳明細書1枚目!R16:V31,内訳明細書1枚目!AH16:AH31,内訳明細書2枚目!R16:V31,内訳明細書2枚目!AH16:AH31,内訳明細書3枚目!R16:V31,内訳明細書3枚目!AH16:AH31,R16:V31,AH16:AH31),\"\")","v":0},null,null,null,null,null,null,null,null,null,{"$f":"IF(内訳明細書5枚目!R16=\"\",_xlfn.AGGREGATE(9,6,内訳明細書1枚目!AB16:AF31,内訳明細書1枚目!AG16:AG31,内訳明細書2枚目!AB16:AF31,内訳明細書2枚目!AG16:AG31,内訳明細書3枚目!AB16:AF31,内訳明細書3枚目!AG16:AG31,AB16:AF31,AG16:AG31),\"\")","v":0}]
[]
[null,null,null,null,null,null,null,null,null,"請求内訳明細書"]
[]
[]
[null,null,null,null,null,null,"所属長",null,null,"担当",null,null,null,null,null,null,null,"西暦",null,{"$f":"IF(D7=\"\",\"\",D7)","v":""},null,null,"年",{"$f":"IF(H7=\"\",\"\",H7)","v":""},null,"月",{"$f":"IF(K7=\"\",\"\",K7)","v":""},null,"日"]
[null," (現場控)",null,null,null,null,null,null,null,null,null,null,null,null,null,null,null,"住所",null,null,{"$f":"IF(U5=\"\",\"\",U5)","v":""}]
[]
[]
[null,"工事番号",null,null,{"$f":"IF(E8=\"\",\"\",E8)","v":""},null,"―",{"$f":"IF(H8=\"\",\"\",H8)","v":""},null,null,null,null,null,null,null,null,null,"会社名",null,null,{"$f":"IF(U8=\"\",\"\",U8)","v":""},null,null,null,null,null,null,null,null,null,"印"]
[]
[null,"工事名",null,{"$f":"IF(D10=\"\",\"\",D10)","v":""}]
[null,null,null,null,null,null,null,null,null,null,null,null,null,null,null,null,null,"TEL",null,null,{"$f":"IF(U11=\"\",\"\",U11)","v":""}]
[]
[]
[null,"月","日","名称",null,null,null,null,null,null,null,"契約",null,null,null,null,null,null,null,null,null,null,"税率",null,"出来高"]
[null,null,null,null,null,null,null,null,null,null,null,"数量",null,null,"単価",null,null,"金額",null,null,null,null,null,null,"数量(％)",null,null,"金額"]
[null,{"$f":"IF(B16=\"\",\"\",B16)","v":""},{"$f":"IF(C16=\"\",\"\",C16)","v":""},{"$f":"IF(D16=\"\",\"\",D16)","v":""},null,null,null,null,null,null,null,{"$f":"IF(L16=\"\",\"\",L16)","v":""},null,null,{"$f":"IF(O16=\"\",\"\",O16)","v":""},null,null,{"$f":"IF(R16=\"\",\"\",R16)","v":""},null,null,null,null,{"$f":"IF(W16=\"\",\"\",W16)","v":""},null,{"$f":"IF(Y16=\"\",\"\",Y16)","v":""},null,null,{"$f":"IF(AB16=\"\",\"\",AB16)","v":""}]
[null,{"$f":"IF(B17=\"\",\"\",B17)","v":""},"","",null,null,null,null,null,null,null,{"$f":"IF(L17=\"\",\"\",L17)","v":""},null,null,{"$f":"IF(O17=\"\",\"\",O17)","v":""},null,null,{"$f":"IF(R17=\"\",\"\",R17)","v":""},null,null,null,null,{"$f":"IF(W17=\"\",\"\",W17)","v":""},null,{"$f":"IF(Y17=\"\",\"\",Y17)","v":""},null,null,{"$f":"IF(AB17=\"\",\"\",AB17)","v":""}]
[null,"","","",null,null,null,null,null,null,null,"",null,null,"",null,null,"",null,null,null,null,"",null,"",null,null,""]
[null,"","","",null,null,null,null,null,null,null,"",null,null,"",null,null,"",null,null,null,null,"",null,"",null,null,""]
[null,"","","",null,null,null,null,null,null,null,"",null,null,"",null,null,"",null,null,null,null,"",null,"",null,null,""]
[null,"","","",null,null,null,null,null,null,null,"",null,null,"",null,null,"",null,null,null,null,"",null,"",null,null,""]
[null,{"$f":"IF(B22=\"\",\"\",B22)","v":""},"","",null,null,null,null,null,null,null,"",null,null,"",null,null,"",null,null,null,null,"",null,"",null,null,""]
[null,{"$f":"IF(B23=\"\",\"\",B23)","v":""},"","",null,null,null,null,null,null,null,"",null,null,"",null,null,"",null,null,null,null,"",null,"",null,null,""]
[null,{"$f":"IF(B24=\"\",\"\",B24)","v":""},"","",null,null,null,null,null,null,null,"",null,null,"",null,null,"",null,null,null,null,"",null,"",null,null,""]
[null,{"$f":"IF(B25=\"\",\"\",B25)","v":""},"","",null,null,null,null,null,null,null,"",null,null,"",null,null,"",null,null,null,null,"",null,"",null,null,""]
[null,{"$f":"IF(B26=\"\",\"\",B26)","v":""},"","",null,null,null,null,null,null,null,"",null,null,"",null,null,"",null,null,null,null,"",null,"",null,null,""]
[null,{"$f":"IF(B27=\"\",\"\",B27)","v":""},"","",null,null,null,null,null,null,null,"",null,null,"",null,null,"",null,null,null,null,"",null,"",null,null,""]
[null,{"$f":"IF(B28=\"\",\"\",B28)","v":""},"","",null,null,null,null,null,null,null,"",null,null,"",null,null,"",null,null,null,null,"",null,"",null,null,""]
[null,{"$f":"IF(B29=\"\",\"\",B29)","v":""},"","",null,null,null,null,null,null,null,"",null,null,"",null,null,"",null,null,null,null,"",null,"",null,null,""]
[null,{"$f":"IF(B30=\"\",\"\",B30)","v":""},"","",null,null,null,null,null,null,null,"",null,null,"",null,null,"",null,null,null,null,"",null,"",null,null,""]
[null,{"$f":"IF(B31=\"\",\"\",B31)","v":""},"","",null,null,null,null,null,null,null,"",null,null,"",null,null,"",null,null,null,null,"",null,"",null,null,""]
[null,"小計Ⓐ(税抜)",null,null,null,null,null,null,null,null,null,null,null,null,null,null,null,{"$f":"IF(R32=\"\",\"\",R32)","v":0},null,null,null,null,{"$f":"IF(Y33=\"\",\"\",Y33)","v":""},null,null,null,null,{"$f":"IF(AB32=\"\",\"\",AB32)","v":0}]
[null,"消費税額Ⓑ",null,null,null,null,null,null,null,null,null,null,null,null,null,null,null,{"$f":"IF(R33=\"\",\"\",R33)","v":0},null,null,null,null,null,null,null,null,null,{"$f":"IF(AB33=\"\",\"\",AB33)","v":0}]
[null,"合計Ⓒ(1-4枚目)",null,null,null,null,null,null,null,null,null,null,null,null,null,null,null,{"$f":"IF(R34=\"\",\"\",R34)","v":0},null,null,null,null,null,null,null,null,null,{"$f":"IF(AB34=\"\",\"\",AB34)","v":0}]
[]
[null,null,null,null,null,null,null,null,null,"請求内訳明細書"]
[]
[]
[null,null,null,null,null,null,"所属長",null,null,"担当",null,null,null,null,null,null,null,"西暦",null,{"$f":"IF(D7=\"\",\"\",D7)","v":""},null,null,"年",{"$f":"IF(H7=\"\",\"\",H7)","v":""},null,"月",{"$f":"IF(K7=\"\",\"\",K7)","v":""},null,"日"]
[null," (経理控)",null,null,null,null,null,null,null,null,null,null,null,null,null,null,null,"住所",null,null,{"$f":"IF(U5=\"\",\"\",U5)","v":""}]
[]
[]
[null,"工事番号",null,null,{"$f":"IF(E8=\"\",\"\",E8)","v":""},null,"―",{"$f":"IF(H8=\"\",\"\",H8)","v":""},null,null,null,null,null,null,null,null,null,"会社名",null,null,{"$f":"IF(U8=\"\",\"\",U8)","v":""},null,null,null,null,null,null,null,null,null,"印"]
[]
[null,"工事名",null,{"$f":"IF(D10=\"\",\"\",D10)","v":""}]
[null,null,null,null,null,null,null,null,null,null,null,null,null,null,null,null,null,"TEL",null,null,{"$f":"IF(U11=\"\",\"\",U11)","v":""}]
[]
[]
[null,"月","日","名称",null,null,null,null,null,null,null,"契約",null,null,null,null,null,null,null,null,null,null,"税率",null,"出来高"]
[null,null,null,null,null,null,null,null,null,null,null,"数量",null,null,"単価",null,null,"金額",null,null,null,null,null,null,"数量(％)",null,null,"金額"]
[null,{"$f":"IF(B16=\"\",\"\",B16)","v":""},{"$f":"IF(C16=\"\",\"\",C16)","v":""},{"$f":"IF(D16=\"\",\"\",D16)","v":""},null,null,null,null,null,null,null,{"$f":"IF(L16=\"\",\"\",L16)","v":""},null,null,{"$f":"IF(O16=\"\",\"\",O16)","v":""},null,null,{"$f":"IF(R16=\"\",\"\",R16)","v":""},null,null,null,null,{"$f":"IF(W16=\"\",\"\",W16)","v":""},null,{"$f":"IF(Y16=\"\",\"\",Y16)","v":""},null,null,{"$f":"IF(AB16=\"\",\"\",AB16)","v":""}]
[null,{"$f":"IF(B17=\"\",\"\",B17)","v":""},"","",null,null,null,null,null,null,null,"",null,null,{"$f":"IF(O17=\"\",\"\",O17)","v":""},null,null,{"$f":"IF(R17=\"\",\"\",R17)","v":""},null,null,null,null,{"$f":"IF(W17=\"\",\"\",W17)","v":""},null,{"$f":"IF(Y17=\"\",\"\",Y17)","v":""},null,null,{"$f":"IF(AB17=\"\",\"\",AB17)","v":""}]
[null,"","","",null,null,null,null,null,null,null,"",null,null,"",null,null,"",null,null,null,null,"",null,"",null,null,""]
[null,"","","",null,null,null,null,null,null,null,"",null,null,"",null,null,"",null,null,null,null,"",null,"",null,null,""]
[null,"","","",null,null,null,null,null,null,null,"",null,null,"",null,null,"",null,null,null,null,"",null,"",null,null,""]
[null,"","","",null,null,null,null,null,null,null,"",null,null,"",null,null,"",null,null,null,null,"",null,"",null,null,""]
[null,"","","",null,null,null,null,null,null,null,"",null,null,"",null,null,"",null,null,null,null,"",null,"",null,null,""]
[null,"","","",null,null,null,null,null,null,null,"",null,null,"",null,null,"",null,null,null,null,"",null,"",null,null,""]
[null,"","","",null,null,null,null,null,null,null,"",null,null,"",null,null,"",null,null,null,null,"",null,"",null,null,""]
[null,"","","",null,null,null,null,null,null,null,"",null,null,"",null,null,"",null,null,null,null,"",null,"",null,null,""]
[null,"","","",null,null,null,null,null,null,null,"",null,null,"",null,null,"",null,null,null,null,"",null,"",null,null,""]
[null,"","","",null,null,null,null,null,null,null,"",null,null,"",null,null,"",null,null,null,null,"",null,"",null,null,""]
[null,"","","",null,null,null,null,null,null,null,"",null,null,"",null,null,"",null,null,null,null,"",null,"",null,null,""]
[null,"","","",null,null,null,null,null,null,null,"",null,null,"",null,null,"",null,null,null,null,"",null,"",null,null,""]
[null,"","","",null,null,null,null,null,null,null,"",null,null,"",null,null,"",null,null,null,null,"",null,"",null,null,""]
[null,"","","",null,null,null,null,null,null,null,"",null,null,"",null,null,"",null,null,null,null,"",null,"",null,null,""]
[null,"小計Ⓐ(税抜)",null,null,null,null,null,null,null,null,null,null,null,null,null,null,null,{"$f":"IF(R32=\"\",\"\",R32)","v":0},null,null,null,null,null,null,null,null,null,{"$f":"IF(AB32=\"\",\"\",AB32)","v":0}]
[null,"消費税額Ⓑ",null,null,null,null,null,null,null,null,null,null,null,null,null,null,null,{"$f":"IF(R33=\"\",\"\",R33)","v":0},null,null,null,null,null,null,null,null,null,{"$f":"IF(AB33=\"\",\"\",AB33)","v":0}]
[null,"合計Ⓒ(1-4枚目)",null,null,null,null,null,null,null,null,null,null,null,null,null,null,null,{"$f":"IF(R34=\"\",\"\",R34)","v":0},null,null,null,null,null,null,null,null,null,{"$f":"IF(AB34=\"\",\"\",AB34)","v":0}]

{"sheet":"内訳明細書5枚目","index":6,"n_rows":104,"n_cols":34,"rows_kept":104,"cut":false,"hidden":true,"merged":[[0,4,0,7],[1,4,1,7],[2,4,2,7],[3,4,3,14],[7,1,8,3],[6,1,6,2],[10,17,11,19],[10,20,11,31],[42,30,44,31],[31,27,31,31],[15,27,15,31],[7,4,8,5],[7,6,8,6],[7,7,8,8],[7,17,9,19],[9,1,11,2],[9,3,11,15],[4,17,6,19],[4,20,6,31],[4,1,4,3],[14,17,14,21],[6,3,6,5],[6,7,6,8],[6,10,6,11],[53,22,53,23],[52,22,52,23],[51,22,51,23],[38,19,38,21],[38,23,38,24],[48,22,49,23],[50,22,50,23],[31,1,31,16],[32,1,32,16],[31,22,33,26],[39,9,40,11],[39,6,40,8],[38,9,38,11],[38,6,38,8],[16,11,16,13],[16,14,16,16],[15,24,15,26],[48,3,49,10],[48,11,48,21],[48,24,48,31],[49,11,49,13],[49,14,49,16],[49,17,49,21],[49,24,49,26],[16,3,16,10],[18,3,18,10],[18,11,18,13],[18,14,18,16],[18,17,18,21],[17,3,17,10],[17,11,17,13],[17,14,17,16],[17,17,17,21],[16,17,16,21],[15,3,15,10],[15,11,15,13],[15,14,15,16],[15,17,15,21],[14,24,14,26],[14,27,14,31],[7,30,9,31],[100,22,100,23],[99,22,99,23],[98,22,98,23],[97,22,97,23],[96,22,96,23],[95,22,95,23],[94,22,94,23],[93,22,93,23],[92,22,92,23],[13,24,13,31],[13,22,14,23],[16,22,16,23],[15,22,15,23],[18,24,18,26],[18,27,18,31],[17,24,17,26],[17,27,17,31],[18,22,18,23],[17,22,17,23],[16,24,16,26],[16,27,16,31],[73,19,73,21],[73,26,73,27],[73,23,73,24],[66,17,66,21],[66,27,66,31],[66,1,66,16],[49,27,49,31],[42,1,43,3],[42,4,43,5],[42,6,43,6],[42,7,43,8],[51,27,51,31],[50,3,50,10],[50,11,50,13],[50,14,50,16],[50,17,50,21],[55,3,55,10],[55,11,55,13],[55,14,55,16],[55,17,55,21],[55,24,55,26],[55,27,55,31],[51,24,51,26],[44,3,46,15],[101,22,103,26],[67,1,67,16],[101,1,101,16],[74,1,74,3],[39,1,39,3],[44,1,46,2],[13,1,14,1],[13,2,14,2],[13,3,14,10],[13,11,13,21],[14,11,14,13],[14,14,14,16],[80,17,81,19],[80,20,81,31],[45,17,46,19],[45,20,46,31],[39,17,41,19],[39,20,41,31],[74,17,76,19],[74,20,76,31],[42,17,44,19],[31,17,31,21],[79,1,81,2],[38,26,38,27],[102,27,102,31],[86,3,86,10],[77,1,78,3],[77,4,78,5],[77,6,78,6],[77,7,78,8],[79,3,81,15],[48,1,49,1],[48,2,49,2],[87,22,87,23],[86,22,86,23],[85,22,85,23],[83,22,84,23],[96,3,96,10],[96,11,96,13],[96,14,96,16],[96,17,96,21],[96,24,96,26],[96,27,96,31],[66,22,68,26],[65,22,65,23],[64,22,64,23],[77,17,79,19],[102,1,102,16],[103,1,103,16],[103,17,103,21],[103,27,103,31],[83,1,84,1],[83,2,84,2],[83,3,84,10],[83,11,83,21],[83,24,83,31],[85,3,85,10],[85,11,85,13],[85,14,85,16],[85,17,85,21],[85,24,85,26],[85,27,85,31],[84,11,84,13],[84,14,84,16],[84,17,84,21],[102,17,102,21],[86,11,86,13],[86,14,86,16],[86,17,86,21],[86,24,86,26],[86,27,86,31],[84,24,84,26],[20,3,20,10],[20,11,20,13],[20,14,20,16],[20,17,20,21],[20,24,20,26],[20,27,20,31],[19,3,19,10],[19,11,19,13],[19,14,19,16],[19,17,19,21],[19,24,19,26],[19,27,19,31],[20,22,20,23],[19,22,19,23],[22,3,22,10],[22,11,22,13],[22,14,22,16],[22,17,22,21],[22,24,22,26],[22,27,22,31],[21,3,21,10],[21,11,21,13],[21,14,21,16],[21,17,21,21],[21,24,21,26],[21,27,21,31],[22,22,22,23],[21,22,21,23],[24,17,24,21],[24,24,24,26],[24,27,24,31],[23,3,23,10],[23,11,23,13],[23,14,23,16],[23,17,23,21],[23,24,23,26],[23,27,23,31],[24,22,24,23],[23,22,23,23],[24,3,24,10],[24,11,24,13],[24,14,24,16],[26,24,26,26],[26,27,26,31],[25,3,25,10],[25,11,25,13],[25,14,25,16],[25,17,25,21],[25,24,25,26],[25,27,25,31],[26,22,26,23],[25,22,25,23],[28,24,28,26],[28,27,28,31],[27,3,27,10],[27,11,27,13],[27,14,27,16],[27,17,27,21],[27,24,27,26],[27,27,27,31],[28,22,28,23],[27,22,27,23],[30,3,30,10],[30,11,30,13],[30,14,30,16],[30,17,30,21],[30,24,30,26],[30,27,30,31],[29,3,29,10],[29,11,29,13],[29,14,29,16],[29,17,29,21],[29,24,29,26],[29,27,29,31],[30,22,30,23],[29,22,29,23],[56,27,56,31],[57,22,57,23],[56,22,56,23],[32,27,32,31],[33,1,33,16],[33,17,33,21],[33,27,33,31],[32,17,32,21],[50,24,50,26],[50,27,50,31],[53,3,53,10],[53,11,53,13],[53,14,53,16],[53,17,53,21],[53,24,53,26],[53,27,53,31],[52,3,52,10],[52,11,52,13],[52,14,52,16],[52,17,52,21],[52,24,52,26],[52,27,52,31],[51,3,51,10],[51,11,51,13],[58,24,58,26],[58,27,58,31],[60,22,60,23],[59,22,59,23],[58,22,58,23],[54,3,54,10],[54,11,54,13],[54,14,54,16],[54,17,54,21],[54,24,54,26],[54,27,54,31],[55,22,55,23],[54,22,54,23],[57,3,57,10],[57,11,57,13],[57,14,57,16],[57,17,57,21],[57,24,57,26],[57,27,57,31],[56,3,56,10],[56,11,56,13],[56,14,56,16],[56,17,56,21],[56,24,56,26],[62,22,62,23],[61,22,61,23],[60,24,60,26],[60,27,60,31],[59,3,59,10],[59,11,59,13],[59,14,59,16],[59,17,59,21],[59,24,59,26],[59,27,59,31],[60,3,60,10],[60,11,60,13],[60,14,60,16],[60,17,60,21],[61,3,61,10],[61,11,61,13],[61,14,61,16],[61,17,61,21],[84,27,84,31],[65,3,65,10],[65,11,65,13],[65,14,65,16],[65,17,65,21],[65,24,65,26],[65,27,65,31],[77,30,79,31],[88,3,88,10],[88,11,88,13],[88,14,88,16],[88,17,88,21],[88,24,88,26],[88,27,88,31],[87,3,87,10],[87,11,87,13],[87,14,87,16],[87,17,87,21],[87,24,87,26],[87,27,87,31],[88,22,88,23],[67,27,67,31],[68,1,68,16],[68,17,68,21],[90,3,90,10],[90,11,90,13],[90,14,90,16],[90,17,90,21],[90,24,90,26],[90,27,90,31],[89,3,89,10],[89,11,89,13],[89,14,89,16],[89,17,89,21],[89,24,89,26],[89,27,89,31],[90,22,90,23],[89,22,89,23],[92,3,92,10],[92,11,92,13],[92,14,92,16],[92,17,92,21],[92,24,92,26],[92,27,92,31],[91,3,91,10],[91,11,91,13],[91,14,91,16],[91,17,91,21],[91,24,91,26],[91,27,91,31],[91,22,91,23],[94,3,94,10],[94,11,94,13],[94,14,94,16],[94,17,94,21],[94,24,94,26],[94,27,94,31],[93,3,93,10],[93,11,93,13],[93,14,93,16],[93,17,93,21],[93,24,93,26],[93,27,93,31],[97,17,97,21],[97,24,97,26],[97,27,97,31],[95,3,95,10],[95,11,95,13],[95,14,95,16],[95,17,95,21],[95,24,95,26],[95,27,95,31],[101,17,101,21],[101,27,101,31],[100,3,100,10],[100,11,100,13],[100,14,100,16],[100,17,100,21],[100,24,100,26],[100,27,100,31],[73,17,73,18],[99,3,99,10],[99,11,99,13],[99,14,99,16],[99,17,99,21],[99,24,99,26],[99,27,99,31],[98,3,98,10],[98,11,98,13],[98,14,98,16],[98,17,98,21],[98,24,98,26],[98,27,98,31],[97,3,97,10],[97,11,97,13],[97,14,97,16],[0,9,2,22],[35,9,37,22],[70,9,72,22],[38,17,38,18],[58,17,58,21],[51,14,51,16],[51,17,51,21],[28,3,28,10],[28,11,28,13],[28,14,28,16],[28,17,28,21],[26,3,26,10],[26,11,26,13],[26,14,26,16],[26,17,26,21],[62,3,62,10],[62,11,62,13],[62,14,62,16],[62,17,62,21],[67,17,67,21],[63,3,63,10],[63,11,63,13],[63,14,63,16],[63,17,63,21],[74,9,75,11],[74,6,75,8],[73,9,73,11],[73,6,73,8],[7,20,9,29],[42,20,44,29],[77,20,79,29],[58,3,58,10],[58,11,58,13],[58,14,58,16],[64,24,64,26],[64,27,64,31],[68,27,68,31],[63,24,63,26],[63,27,63,31],[62,24,62,26],[62,27,62,31],[64,3,64,10],[64,11,64,13],[64,14,64,16],[64,17,64,21],[61,24,61,26],[61,27,61,31],[63,22,63,23]]}
[null,null,null,null,"業者コード",null,null,null,null,"請求内訳明細書"]
[null,null,null,null,{"$f":"IF(内訳明細書1枚目!E2=\"\",\"\",内訳明細書1枚目!E2)","v":""}]
[null,null,null,null,"登録番号"]
[null,null,null,null,{"$f":"IF(内訳明細書1枚目!E4=\"\",\"\",内訳明細書1枚目!E4)","v":""}]
[null," (業者控)",null,null,null,null,null,null,null,null,null,null,null,null,null,null,null,"住所",null,null,{"$f":"IF(内訳明細書1枚目!U5=\"\",\"\",内訳明細書1枚目!U5)","v":""}]
[]
[null,"西暦",null,{"$f":"IF(内訳明細書1枚目!D7=\"\",\"\",内訳明細書1枚目!D7)","v":""},null,null,"年",{"$f":"IF(内訳明細書1枚目!H7=\"\",\"\",内訳明細書1枚目!H7)","v":""},null,"月",{"$f":"IF(内訳明細書1枚目!K7=\"\",\"\",内訳明細書1枚目!K7)","v":""},null,"日"]
[null,"工事番号",null,null,{"$f":"IF(内訳明細書1枚目!E8=\"\",\"\",内訳明細書1枚目!E8)","v":""},null,"―",{"$f":"IF(内訳明細書1枚目!H8=\"\",\"\",内訳明細書1枚目!H8)","v":""},null,null,null,null,null,null,null,null,null,"会社名",null,null,{"$f":"IF(内訳明細書1枚目!U8=\"\",\"\",内訳明細書1枚目!U8)","v":""},null,null,null,null,null,null,null,null,null,"印"]
[]
[null,"工事名",null,{"$f":"IF(内訳明細書1枚目!D10=\"\",\"\",内訳明細書1枚目!D10)","v":""}]
[null,null,null,null,null,null,null,null,null,null,null,null,null,null,null,null,null,"TEL",null,null,{"$f":"IF(内訳明細書1枚目!U11=\"\",\"\",内訳明細書1枚目!U11)","v":""}]
[]
[]
[null,"月","日","名称",null,null,null,null,null,null,null,"契約",null,null,null,null,null,null,null,null,null,null,"税率",null,"出来高"]
[null,null,null,null,null,null,null,null,null,null,null,"数量",null,null,"単価",null,null,"金額",null,null,null,null,null,null,"数量(％)",null,null,"金額"]
[null,null,null,null,null,null,null,null,null,null,null,null,null,null,null,null,null,{"$f":"IF(ROUND(L16*O16,0)=0,\"\",ROUND(L16*O16,0))","v":""},null,null,null,null,null,null,null,null,null,{"$f":"IFERROR(R16*Y16/100,\"\")","v":""},null,null,null,null,{"$f":"IF(W16=\"\",AB16*0.1,AB16*W16)","v":{"$error":"#VALUE!"}},{"$f":"IF(W16=\"\",R16*0.1,R16*W16)","v":{"$error":"#VALUE!"}}]
[null,null,null,null,null,null,null,null,null,null,null,null,null,null,null,null,null,{"$f":"IF(ROUND(L17*O17,0)=0,\"\",ROUND(L17*O17,0))","v":""},null,null,null,null,null,null,null,null,null,{"$f":"IFERROR(R17*Y17/100,\"\")","v":""},null,null,null,null,{"$f":"IF(W17=\"\",AB17*0.1,AB17*W17)","v":{"$error":"#VALUE!"}},{"$f":"IF(W17=\"\",R17*0.1,R17*W17)","v":{"$error":"#VALUE!"}}]
[null,null,null,null,null,null,null,null,null,null,null,null,null,null,null,null,null,"",null,null,null,null,null,null,null,null,null,"",null,null,null,null,{"$error":"#VALUE!"},{"$error":"#VALUE!"}]
[null,null,null,null,null,null,null,null,null,null,null,null,null,null,null,null,null,"",null,null,null,null,null,null,null,null,null,"",null,null,null,null,{"$error":"#VALUE!"},{"$error":"#VALUE!"}]
[null,null,null,null,null,null,null,null,null,null,null,null,null,null,null,null,null,"",null,null,null,null,null,null,null,null,null,"",null,null,null,null,{"$error":"#VALUE!"},{"$error":"#VALUE!"}]
[null,null,null,null,null,null,null,null,null,null,null,null,null,null,null,null,null,"",null,null,null,null,null,null,null,null,null,"",null,null,null,null,{"$error":"#VALUE!"},{"$error":"#VALUE!"}]
[null,null,null,null,null,null,null,null,null,null,null,null,null,null,null,null,null,"",null,null,null,null,null,null,null,null,null,"",null,null,null,null,{"$error":"#VALUE!"},{"$error":"#VALUE!"}]
[null,null,null,null,null,null,null,null,null,null,null,null,null,null,null,null,null,"",null,null,null,null,null,null,null,null,null,"",null,null,null,null,{"$error":"#VALUE!"},{"$error":"#VALUE!"}]
[null,null,null,null,null,null,null,null,null,null,null,null,null,null,null,null,null,"",null,null,null,null,null,null,null,null,null,"",null,null,null,null,{"$error":"#VALUE!"},{"$error":"#VALUE!"}]
[null,null,null,null,null,null,null,null,null,null,null,null,null,null,null,null,null,"",null,null,null,null,null,null,null,null,null,"",null,null,null,null,{"$error":"#VALUE!"},{"$error":"#VALUE!"}]
[null,null,null,null,null,null,null,null,null,null,null,null,null,null,null,null,null,"",null,null,null,null,null,null,null,null,null,"",null,null,null,null,{"$error":"#VALUE!"},{"$error":"#VALUE!"}]
[null,null,null,null,null,null,null,null,null,null,null,null,null,null,null,null,null,"",null,null,null,null,null,null,null,null,null,"",null,null,null,null,{"$error":"#VALUE!"},{"$error":"#VALUE!"}]
[null,null,null,null,null,null,null,null,null,null,null,null,null,null,null,null,null,"",null,null,null,null,null,null,null,null,null,"",null,null,null,null,{"$error":"#VALUE!"},{"$error":"#VALUE!"}]
[null,null,null,null,null,null,null,null,null,null,null,null,null,null,null,null,null,"",null,null,null,null,null,null,null,null,null,"",null,null,null,null,{"$error":"#VALUE!"},{"$error":"#VALUE!"}]
[null,null,null,null,null,null,null,null,null,null,null,null,null,null,null,null,null,"",null,null,null,null,null,null,null,null,null,"",null,null,null,null,{"$error":"#VALUE!"},{"$error":"#VALUE!"}]
[null,null,null,null,null,null,null,null,null,null,null,null,null,null,null,null,null,"",null,null,null,null,null,null,null,null,null,"",null,null,null,null,{"$error":"#VALUE!"},{"$error":"#VALUE!"}]
[null,"小計Ⓐ(税抜)",null,null,null,null,null,null,null,null,null,null,null,null,null,null,null,{"$f":"IF(内訳明細書6枚目!R16=\"\",SUM(R16:V31,内訳明細書1枚目!R16:V31,内訳明細書2枚目!R16:V31,内訳明細書3枚目!R16:V31,内訳明細書4枚目!R16:V31),\"\")","v":0},null,null,null,null,null,null,null,null,null,{"$f":"IF(内訳明細書6枚目!R16=\"\",SUM(AB16:AF31,内訳明細書1枚目!AB16:AF31,内訳明細書2枚目!AB16:AF31,内訳明細書3枚目!AB16:AF31,内訳明細書4枚目!AB16:AF31),\"\")","v":0}]
[null,"消費税額Ⓑ",null,null,null,null,null,null,null,null,null,null,null,null,null,null,null,{"$f":"IF(内訳明細書6枚目!R16=\"\",ROUND(_xlfn.AGGREGATE(9,6,内訳明細書1枚目!AH16:AH31,内訳明細書2枚目!AH16:AH31,内訳明細書3枚目!AH16:AH31,内訳明細書4枚目!AH16:AH31,AH16:AH31),0),\"\")","v":0},null,null,null,null,null,null,null,null,null,{"$f":"IF(内訳明細書6枚目!R16=\"\",ROUND(_xlfn.AGGREGATE(9,6,内訳明細書1枚目!AG16:AG31,内訳明細書2枚目!AG16:AG31,内訳明細書3枚目!AG16:AG31,内訳明細書4枚目!AG16:AG31,AG16:AG31),0),\"\")","v":0}]
[null,"合計Ⓒ(1-5枚目)",null,null,null,null,null,null,null,null,null,null,null,null,null,null,null,{"$f":"IF(内訳明細書6枚目!R16=\"\",_xlfn.AGGREGATE(9,6,内訳明細書1枚目!R16:V31,内訳明細書1枚目!AH16:AH31,内訳明細書2枚目!R16:V31,内訳明細書2枚目!AH16:AH31,内訳明細書3枚目!R16:V31,内訳明細書3枚目!AH16:AH31,内訳明細書4枚目!R16:V31,内訳明細書4枚目!AH16:AH31,R16:V31,AH16:AH31),\"\")","v":0},null,null,null,null,null,null,null,null,null,{"$f":"IF(内訳明細書6枚目!R16=\"\",_xlfn.AGGREGATE(9,6,内訳明細書1枚目!AB16:AF31,内訳明細書1枚目!AG16:AG31,内訳明細書2枚目!AB16:AF31,内訳明細書2枚目!AG16:AG31,内訳明細書3枚目!AB16:AF31,内訳明細書3枚目!AG16:AG31,内訳明細書4枚目!AB16:AF31,内訳明細書4枚目!AG16:AG31,AB16:AF31,AG16:AG31),\"\")","v":0}]
[]
[null,null,null,null,null,null,null,null,null,"請求内訳明細書"]
[]
[]
[null,null,null,null,null,null,"所属長",null,null,"担当",null,null,null,null,null,null,null,"西暦",null,{"$f":"IF(D7=\"\",\"\",D7)","v":""},null,null,"年",{"$f":"IF(H7=\"\",\"\",H7)","v":""},null,"月",{"$f":"IF(K7=\"\",\"\",K7)","v":""},null,"日"]
[null," (現場控)",null,null,null,null,null,null,null,null,null,null,null,null,null,null,null,"住所",null,null,{"$f":"IF(U5=\"\",\"\",U5)","v":""}]
[]
[]
[null,"工事番号",null,null,{"$f":"IF(E8=\"\",\"\",E8)","v":""},null,"―",{"$f":"IF(H8=\"\",\"\",H8)","v":""},null,null,null,null,null,null,null,null,null,"会社名",null,null,{"$f":"IF(U8=\"\",\"\",U8)","v":""},null,null,null,null,null,null,null,null,null,"印"]
[]
[null,"工事名",null,{"$f":"IF(D10=\"\",\"\",D10)","v":""}]
[null,null,null,null,null,null,null,null,null,null,null,null,null,null,null,null,null,"TEL",null,null,{"$f":"IF(U11=\"\",\"\",U11)","v":""}]
[]
[]
[null,"月","日","名称",null,null,null,null,null,null,null,"契約",null,null,null,null,null,null,null,null,null,null,"税率",null,"出来高"]
[null,null,null,null,null,null,null,null,null,null,null,"数量",null,null,"単価",null,null,"金額",null,null,null,null,null,null,"数量(％)",null,null,"金額"]
[null,{"$f":"IF(B16=\"\",\"\",B16)","v":""},{"$f":"IF(C16=\"\",\"\",C16)","v":""},{"$f":"IF(D16=\"\",\"\",D16)","v":""},null,null,null,null,null,null,null,{"$f":"IF(L16=\"\",\"\",L16)","v":""},null,null,{"$f":"IF(O16=\"\",\"\",O16)","v":""},null,null,{"$f":"IF(R16=\"\",\"\",R16)","v":""},null,null,null,null,{"$f":"IF(W16=\"\",\"\",W16)","v":""},null,{"$f":"IF(Y16=\"\",\"\",Y16)","v":""},null,null,{"$f":"IF(AB16=\"\",\"\",AB16)","v":""}]
[null,{"$f":"IF(B17=\"\",\"\",B17)","v":""},"","",null,null,null,null,null,null,null,{"$f":"IF(L17=\"\",\"\",L17)","v":""},null,null,{"$f":"IF(O17=\"\",\"\",O17)","v":""},null,null,{"$f":"IF(R17=\"\",\"\",R17)","v":""},null,null,null,null,{"$f":"IF(W17=\"\",\"\",W17)","v":""},null,{"$f":"IF(Y17=\"\",\"\",Y17)","v":""},null,null,{"$f":"IF(AB17=\"\",\"\",AB17)","v":""}]
[null,"","","",null,null,null,null,null,null,null,"",null,null,"",null,null,"",null,null,null,null,"",null,"",null,null,""]
[null,"","","",null,null,null,null,null,null,null,"",null,null,"",null,null,"",null,null,null,null,"",null,"",null,null,""]
[null,"","","",null,null,null,null,null,null,null,"",null,null,"",null,null,"",null,null,null,null,"",null,"",null,null,""]
[null,"","","",null,null,null,null,null,null,null,"",null,null,"",null,null,"",null,null,null,null,"",null,"",null,null,""]
[null,{"$f":"IF(B22=\"\",\"\",B22)","v":""},"","",null,null,null,null,null,null,null,"",null,null,"",null,null,"",null,null,null,null,"",null,"",null,null,""]
[null,{"$f":"IF(B23=\"\",\"\",B23)","v":""},"","",null,null,null,null,null,null,null,"",null,null,"",null,null,"",null,null,null,null,"",null,"",null,null,""]
[null,{"$f":"IF(B24=\"\",\"\",B24)","v":""},"","",null,null,null,null,null,null,null,"",null,null,"",null,null,"",null,null,null,null,"",null,"",null,null,""]
[null,{"$f":"IF(B25=\"\",\"\",B25)","v":""},"","",null,null,null,null,null,null,null,"",null,null,"",null,null,"",null,null,null,null,"",null,"",null,null,""]
[null,{"$f":"IF(B26=\"\",\"\",B26)","v":""},"","",null,null,null,null,null,null,null,"",null,null,"",null,null,"",null,null,null,null,"",null,"",null,null,""]
[null,{"$f":"IF(B27=\"\",\"\",B27)","v":""},"","",null,null,null,null,null,null,null,"",null,null,"",null,null,"",null,null,null,null,"",null,"",null,null,""]
[null,{"$f":"IF(B28=\"\",\"\",B28)","v":""},"","",null,null,null,null,null,null,null,"",null,null,"",null,null,"",null,null,null,null,"",null,"",null,null,""]
[null,{"$f":"IF(B29=\"\",\"\",B29)","v":""},"","",null,null,null,null,null,null,null,"",null,null,"",null,null,"",null,null,null,null,"",null,"",null,null,""]
[null,{"$f":"IF(B30=\"\",\"\",B30)","v":""},"","",null,null,null,null,null,null,null,"",null,null,"",null,null,"",null,null,null,null,"",null,"",null,null,""]
[null,{"$f":"IF(B31=\"\",\"\",B31)","v":""},"","",null,null,null,null,null,null,null,"",null,null,"",null,null,"",null,null,null,null,"",null,"",null,null,""]
[null,"小計Ⓐ(税抜)",null,null,null,null,null,null,null,null,null,null,null,null,null,null,null,{"$f":"IF(R32=\"\",\"\",R32)","v":0},null,null,null,null,{"$f":"IF(Y33=\"\",\"\",Y33)","v":""},null,null,null,null,{"$f":"IF(AB32=\"\",\"\",AB32)","v":0}]
[null,"消費税額Ⓑ",null,null,null,null,null,null,null,null,null,null,null,null,null,null,null,{"$f":"IF(R33=\"\",\"\",R33)","v":0},null,null,null,null,null,null,null,null,null,{"$f":"IF(AB33=\"\",\"\",AB33)","v":0}]
[null,"合計Ⓒ(1-5枚目)",null,null,null,null,null,null,null,null,null,null,null,null,null,null,null,{"$f":"IF(R34=\"\",\"\",R34)","v":0},null,null,null,null,null,null,null,null,null,{"$f":"IF(AB34=\"\",\"\",AB34)","v":0}]
[]
[null,null,null,null,null,null,null,null,null,"請求内訳明細書"]
[]
[]
[null,null,null,null,null,null,"所属長",null,null,"担当",null,null,null,null,null,null,null,"西暦",null,{"$f":"IF(D7=\"\",\"\",D7)","v":""},null,null,"年",{"$f":"IF(H7=\"\",\"\",H7)","v":""},null,"月",{"$f":"IF(K7=\"\",\"\",K7)","v":""},null,"日"]
[null," (経理控)",null,null,null,null,null,null,null,null,null,null,null,null,null,null,null,"住所",null,null,{"$f":"IF(U5=\"\",\"\",U5)","v":""}]
[]
[]
[null,"工事番号",null,null,{"$f":"IF(E8=\"\",\"\",E8)","v":""},null,"―",{"$f":"IF(H8=\"\",\"\",H8)","v":""},null,null,null,null,null,null,null,null,null,"会社名",null,null,{"$f":"IF(U8=\"\",\"\",U8)","v":""},null,null,null,null,null,null,null,null,null,"印"]
[]
[null,"工事名",null,{"$f":"IF(D10=\"\",\"\",D10)","v":""}]
[null,null,null,null,null,null,null,null,null,null,null,null,null,null,null,null,null,"TEL",null,null,{"$f":"IF(U11=\"\",\"\",U11)","v":""}]
[]
[]
[null,"月","日","名称",null,null,null,null,null,null,null,"契約",null,null,null,null,null,null,null,null,null,null,"税率",null,"出来高"]
[null,null,null,null,null,null,null,null,null,null,null,"数量",null,null,"単価",null,null,"金額",null,null,null,null,null,null,"数量(％)",null,null,"金額"]
[null,{"$f":"IF(B16=\"\",\"\",B16)","v":""},{"$f":"IF(C16=\"\",\"\",C16)","v":""},{"$f":"IF(D16=\"\",\"\",D16)","v":""},null,null,null,null,null,null,null,{"$f":"IF(L16=\"\",\"\",L16)","v":""},null,null,{"$f":"IF(O16=\"\",\"\",O16)","v":""},null,null,{"$f":"IF(R16=\"\",\"\",R16)","v":""},null,null,null,null,{"$f":"IF(W16=\"\",\"\",W16)","v":""},null,{"$f":"IF(Y16=\"\",\"\",Y16)","v":""},null,null,{"$f":"IF(AB16=\"\",\"\",AB16)","v":""}]
[null,{"$f":"IF(B17=\"\",\"\",B17)","v":""},"","",null,null,null,null,null,null,null,"",null,null,{"$f":"IF(O17=\"\",\"\",O17)","v":""},null,null,{"$f":"IF(R17=\"\",\"\",R17)","v":""},null,null,null,null,{"$f":"IF(W17=\"\",\"\",W17)","v":""},null,{"$f":"IF(Y17=\"\",\"\",Y17)","v":""},null,null,{"$f":"IF(AB17=\"\",\"\",AB17)","v":""}]
[null,"","","",null,null,null,null,null,null,null,"",null,null,"",null,null,"",null,null,null,null,"",null,"",null,null,""]
[null,"","","",null,null,null,null,null,null,null,"",null,null,"",null,null,"",null,null,null,null,"",null,"",null,null,""]
[null,"","","",null,null,null,null,null,null,null,"",null,null,"",null,null,"",null,null,null,null,"",null,"",null,null,""]
[null,"","","",null,null,null,null,null,null,null,"",null,null,"",null,null,"",null,null,null,null,"",null,"",null,null,""]
[null,"","","",null,null,null,null,null,null,null,"",null,null,"",null,null,"",null,null,null,null,"",null,"",null,null,""]
[null,"","","",null,null,null,null,null,null,null,"",null,null,"",null,null,"",null,null,null,null,"",null,"",null,null,""]
[null,"","","",null,null,null,null,null,null,null,"",null,null,"",null,null,"",null,null,null,null,"",null,"",null,null,""]
[null,"","","",null,null,null,null,null,null,null,"",null,null,"",null,null,"",null,null,null,null,"",null,"",null,null,""]
[null,"","","",null,null,null,null,null,null,null,"",null,null,"",null,null,"",null,null,null,null,"",null,"",null,null,""]
[null,"","","",null,null,null,null,null,null,null,"",null,null,"",null,null,"",null,null,null,null,"",null,"",null,null,""]
[null,"","","",null,null,null,null,null,null,null,"",null,null,"",null,null,"",null,null,null,null,"",null,"",null,null,""]
[null,"","","",null,null,null,null,null,null,null,"",null,null,"",null,null,"",null,null,null,null,"",null,"",null,null,""]
[null,"","","",null,null,null,null,null,null,null,"",null,null,"",null,null,"",null,null,null,null,"",null,"",null,null,""]
[null,"","","",null,null,null,null,null,null,null,"",null,null,"",null,null,"",null,null,null,null,"",null,"",null,null,""]
[null,"小計Ⓐ(税抜)",null,null,null,null,null,null,null,null,null,null,null,null,null,null,null,{"$f":"IF(R32=\"\",\"\",R32)","v":0},null,null,null,null,null,null,null,null,null,{"$f":"IF(AB32=\"\",\"\",AB32)","v":0}]
[null,"消費税額Ⓑ",null,null,null,null,null,null,null,null,null,null,null,null,null,null,null,{"$f":"IF(R33=\"\",\"\",R33)","v":0},null,null,null,null,null,null,null,null,null,{"$f":"IF(AB33=\"\",\"\",AB33)","v":0}]
[null,"合計Ⓒ(1-5枚目)",null,null,null,null,null,null,null,null,null,null,null,null,null,null,null,{"$f":"IF(R34=\"\",\"\",R34)","v":0},null,null,null,null,null,null,null,null,null,{"$f":"IF(AB34=\"\",\"\",AB34)","v":0}]

{"sheet":"内訳明細書6枚目","index":7,"n_rows":104,"n_cols":34,"rows_kept":104,"cut":false,"hidden":true,"merged":[[0,4,0,7],[1,4,1,7],[2,4,2,7],[3,4,3,14],[7,1,8,3],[6,1,6,2],[10,17,11,19],[10,20,11,31],[42,30,44,31],[31,27,31,31],[15,27,15,31],[7,4,8,5],[7,6,8,6],[7,7,8,8],[7,17,9,19],[9,1,11,2],[9,3,11,15],[4,17,6,19],[4,20,6,31],[4,1,4,3],[14,17,14,21],[6,3,6,5],[6,7,6,8],[6,10,6,11],[53,22,53,23],[52,22,52,23],[51,22,51,23],[38,19,38,21],[38,23,38,24],[48,22,49,23],[50,22,50,23],[31,1,31,16],[32,1,32,16],[31,22,33,26],[39,9,40,11],[39,6,40,8],[38,9,38,11],[38,6,38,8],[16,11,16,13],[16,14,16,16],[15,24,15,26],[48,3,49,10],[48,11,48,21],[48,24,48,31],[49,11,49,13],[49,14,49,16],[49,17,49,21],[49,24,49,26],[16,3,16,10],[18,3,18,10],[18,11,18,13],[18,14,18,16],[18,17,18,21],[17,3,17,10],[17,11,17,13],[17,14,17,16],[17,17,17,21],[16,17,16,21],[15,3,15,10],[15,11,15,13],[15,14,15,16],[15,17,15,21],[14,24,14,26],[14,27,14,31],[7,30,9,31],[100,22,100,23],[99,22,99,23],[98,22,98,23],[97,22,97,23],[96,22,96,23],[95,22,95,23],[94,22,94,23],[93,22,93,23],[92,22,92,23],[13,24,13,31],[13,22,14,23],[16,22,16,23],[15,22,15,23],[18,24,18,26],[18,27,18,31],[17,24,17,26],[17,27,17,31],[18,22,18,23],[17,22,17,23],[16,24,16,26],[16,27,16,31],[73,19,73,21],[73,26,73,27],[73,23,73,24],[66,17,66,21],[66,27,66,31],[66,1,66,16],[49,27,49,31],[42,1,43,3],[42,4,43,5],[42,6,43,6],[42,7,43,8],[51,27,51,31],[50,3,50,10],[50,11,50,13],[50,14,50,16],[50,17,50,21],[55,3,55,10],[55,11,55,13],[55,14,55,16],[55,17,55,21],[55,24,55,26],[55,27,55,31],[51,24,51,26],[44,3,46,15],[101,22,103,26],[67,1,67,16],[101,1,101,16],[74,1,74,3],[39,1,39,3],[44,1,46,2],[13,1,14,1],[13,2,14,2],[13,3,14,10],[13,11,13,21],[14,11,14,13],[14,14,14,16],[80,17,81,19],[80,20,81,31],[45,17,46,19],[45,20,46,31],[39,17,41,19],[39,20,41,31],[74,17,76,19],[74,20,76,31],[42,17,44,19],[31,17,31,21],[79,1,81,2],[38,26,38,27],[102,27,102,31],[86,3,86,10],[77,1,78,3],[77,4,78,5],[77,6,78,6],[77,7,78,8],[79,3,81,15],[48,1,49,1],[48,2,49,2],[87,22,87,23],[86,22,86,23],[85,22,85,23],[83,22,84,23],[96,3,96,10],[96,11,96,13],[96,14,96,16],[96,17,96,21],[96,24,96,26],[96,27,96,31],[66,22,68,26],[65,22,65,23],[64,22,64,23],[77,17,79,19],[102,1,102,16],[103,1,103,16],[103,17,103,21],[103,27,103,31],[83,1,84,1],[83,2,84,2],[83,3,84,10],[83,11,83,21],[83,24,83,31],[85,3,85,10],[85,11,85,13],[85,14,85,16],[85,17,85,21],[85,24,85,26],[85,27,85,31],[84,11,84,13],[84,14,84,16],[84,17,84,21],[102,17,102,21],[86,11,86,13],[86,14,86,16],[86,17,86,21],[86,24,86,26],[86,27,86,31],[84,24,84,26],[20,3,20,10],[20,11,20,13],[20,14,20,16],[20,17,20,21],[20,24,20,26],[20,27,20,31],[19,3,19,10],[19,11,19,13],[19,14,19,16],[19,17,19,21],[19,24,19,26],[19,27,19,31],[20,22,20,23],[19,22,19,23],[22,3,22,10],[22,11,22,13],[22,14,22,16],[22,17,22,21],[22,24,22,26],[22,27,22,31],[21,3,21,10],[21,11,21,13],[21,14,21,16],[21,17,21,21],[21,24,21,26],[21,27,21,31],[22,22,22,23],[21,22,21,23],[24,17,24,21],[24,24,24,26],[24,27,24,31],[23,3,23,10],[23,11,23,13],[23,14,23,16],[23,17,23,21],[23,24,23,26],[23,27,23,31],[24,22,24,23],[23,22,23,23],[24,3,24,10],[24,11,24,13],[24,14,24,16],[26,24,26,26],[26,27,26,31],[25,3,25,10],[25,11,25,13],[25,14,25,16],[25,17,25,21],[25,24,25,26],[25,27,25,31],[26,22,26,23],[25,22,25,23],[28,24,28,26],[28,27,28,31],[27,3,27,10],[27,11,27,13],[27,14,27,16],[27,17,27,21],[27,24,27,26],[27,27,27,31],[28,22,28,23],[27,22,27,23],[30,3,30,10],[30,11,30,13],[30,14,30,16],[30,17,30,21],[30,24,30,26],[30,27,30,31],[29,3,29,10],[29,11,29,13],[29,14,29,16],[29,17,29,21],[29,24,29,26],[29,27,29,31],[30,22,30,23],[29,22,29,23],[56,27,56,31],[57,22,57,23],[56,22,56,23],[32,27,32,31],[33,1,33,16],[33,17,33,21],[33,27,33,31],[32,17,32,21],[50,24,50,26],[50,27,50,31],[53,3,53,10],[53,11,53,13],[53,14,53,16],[53,17,53,21],[53,24,53,26],[53,27,53,31],[52,3,52,10],[52,11,52,13],[52,14,52,16],[52,17,52,21],[52,24,52,26],[52,27,52,31],[51,3,51,10],[51,11,51,13],[58,24,58,26],[58,27,58,31],[60,22,60,23],[59,22,59,23],[58,22,58,23],[54,3,54,10],[54,11,54,13],[54,14,54,16],[54,17,54,21],[54,24,54,26],[54,27,54,31],[55,22,55,23],[54,22,54,23],[57,3,57,10],[57,11,57,13],[57,14,57,16],[57,17,57,21],[57,24,57,26],[57,27,57,31],[56,3,56,10],[56,11,56,13],[56,14,56,16],[56,17,56,21],[56,24,56,26],[62,22,62,23],[61,22,61,23],[60,24,60,26],[60,27,60,31],[59,3,59,10],[59,11,59,13],[59,14,59,16],[59,17,59,21],[59,24,59,26],[59,27,59,31],[60,3,60,10],[60,11,60,13],[60,14,60,16],[60,17,60,21],[61,3,61,10],[61,11,61,13],[61,14,61,16],[61,17,61,21],[84,27,84,31],[65,3,65,10],[65,11,65,13],[65,14,65,16],[65,17,65,21],[65,24,65,26],[65,27,65,31],[77,30,79,31],[88,3,88,10],[88,11,88,13],[88,14,88,16],[88,17,88,21],[88,24,88,26],[88,27,88,31],[87,3,87,10],[87,11,87,13],[87,14,87,16],[87,17,87,21],[87,24,87,26],[87,27,87,31],[88,22,88,23],[67,27,67,31],[68,1,68,16],[68,17,68,21],[90,3,90,10],[90,11,90,13],[90,14,90,16],[90,17,90,21],[90,24,90,26],[90,27,90,31],[89,3,89,10],[89,11,89,13],[89,14,89,16],[89,17,89,21],[89,24,89,26],[89,27,89,31],[90,22,90,23],[89,22,89,23],[92,3,92,10],[92,11,92,13],[92,14,92,16],[92,17,92,21],[92,24,92,26],[92,27,92,31],[91,3,91,10],[91,11,91,13],[91,14,91,16],[91,17,91,21],[91,24,91,26],[91,27,91,31],[91,22,91,23],[94,3,94,10],[94,11,94,13],[94,14,94,16],[94,17,94,21],[94,24,94,26],[94,27,94,31],[93,3,93,10],[93,11,93,13],[93,14,93,16],[93,17,93,21],[93,24,93,26],[93,27,93,31],[97,17,97,21],[97,24,97,26],[97,27,97,31],[95,3,95,10],[95,11,95,13],[95,14,95,16],[95,17,95,21],[95,24,95,26],[95,27,95,31],[101,17,101,21],[101,27,101,31],[100,3,100,10],[100,11,100,13],[100,14,100,16],[100,17,100,21],[100,24,100,26],[100,27,100,31],[73,17,73,18],[99,3,99,10],[99,11,99,13],[99,14,99,16],[99,17,99,21],[99,24,99,26],[99,27,99,31],[98,3,98,10],[98,11,98,13],[98,14,98,16],[98,17,98,21],[98,24,98,26],[98,27,98,31],[97,3,97,10],[97,11,97,13],[97,14,97,16],[0,9,2,22],[35,9,37,22],[70,9,72,22],[38,17,38,18],[58,17,58,21],[51,14,51,16],[51,17,51,21],[28,3,28,10],[28,11,28,13],[28,14,28,16],[28,17,28,21],[26,3,26,10],[26,11,26,13],[26,14,26,16],[26,17,26,21],[62,3,62,10],[62,11,62,13],[62,14,62,16],[62,17,62,21],[67,17,67,21],[63,3,63,10],[63,11,63,13],[63,14,63,16],[63,17,63,21],[74,9,75,11],[74,6,75,8],[73,9,73,11],[73,6,73,8],[7,20,9,29],[42,20,44,29],[77,20,79,29],[58,3,58,10],[58,11,58,13],[58,14,58,16],[64,24,64,26],[64,27,64,31],[68,27,68,31],[63,24,63,26],[63,27,63,31],[62,24,62,26],[62,27,62,31],[64,3,64,10],[64,11,64,13],[64,14,64,16],[64,17,64,21],[61,24,61,26],[61,27,61,31],[63,22,63,23]]}
[null,null,null,null,"業者コード",null,null,null,null,"請求内訳明細書"]
[null,null,null,null,{"$f":"IF(内訳明細書1枚目!E2=\"\",\"\",内訳明細書1枚目!E2)","v":""}]
[null,null,null,null,"登録番号"]
[null,null,null,null,{"$f":"IF(内訳明細書1枚目!E4=\"\",\"\",内訳明細書1枚目!E4)","v":""}]
[null," (業者控)",null,null,null,null,null,null,null,null,null,null,null,null,null,null,null,"住所",null,null,{"$f":"IF(内訳明細書1枚目!U5=\"\",\"\",内訳明細書1枚目!U5)","v":""}]
[]
[null,"西暦",null,{"$f":"IF(内訳明細書1枚目!D7=\"\",\"\",内訳明細書1枚目!D7)","v":""},null,null,"年",{"$f":"IF(内訳明細書1枚目!H7=\"\",\"\",内訳明細書1枚目!H7)","v":""},null,"月",{"$f":"IF(内訳明細書1枚目!K7=\"\",\"\",内訳明細書1枚目!K7)","v":""},null,"日"]
[null,"工事番号",null,null,{"$f":"IF(内訳明細書1枚目!E8=\"\",\"\",内訳明細書1枚目!E8)","v":""},null,"―",{"$f":"IF(内訳明細書1枚目!H8=\"\",\"\",内訳明細書1枚目!H8)","v":""},null,null,null,null,null,null,null,null,null,"会社名",null,null,{"$f":"IF(内訳明細書1枚目!U8=\"\",\"\",内訳明細書1枚目!U8)","v":""},null,null,null,null,null,null,null,null,null,"印"]
[]
[null,"工事名",null,{"$f":"IF(内訳明細書1枚目!D10=\"\",\"\",内訳明細書1枚目!D10)","v":""}]
[null,null,null,null,null,null,null,null,null,null,null,null,null,null,null,null,null,"TEL",null,null,{"$f":"IF(内訳明細書1枚目!U11=\"\",\"\",内訳明細書1枚目!U11)","v":""}]
[]
[]
[null,"月","日","名称",null,null,null,null,null,null,null,"契約",null,null,null,null,null,null,null,null,null,null,"税率",null,"出来高"]
[null,null,null,null,null,null,null,null,null,null,null,"数量",null,null,"単価",null,null,"金額",null,null,null,null,null,null,"数量(％)",null,null,"金額"]
[null,null,null,null,null,null,null,null,null,null,null,null,null,null,null,null,null,{"$f":"IF(ROUND(L16*O16,0)=0,\"\",ROUND(L16*O16,0))","v":""},null,null,null,null,null,null,null,null,null,{"$f":"IFERROR(R16*Y16/100,\"\")","v":""},null,null,null,null,{"$f":"IF(W16=\"\",AB16*0.1,AB16*W16)","v":{"$error":"#VALUE!"}},{"$f":"IF(W16=\"\",R16*0.1,R16*W16)","v":{"$error":"#VALUE!"}}]
[null,null,null,null,null,null,null,null,null,null,null,null,null,null,null,null,null,{"$f":"IF(ROUND(L17*O17,0)=0,\"\",ROUND(L17*O17,0))","v":""},null,null,null,null,null,null,null,null,null,{"$f":"IFERROR(R17*Y17/100,\"\")","v":""},null,null,null,null,{"$f":"IF(W17=\"\",AB17*0.1,AB17*W17)","v":{"$error":"#VALUE!"}},{"$f":"IF(W17=\"\",R17*0.1,R17*W17)","v":{"$error":"#VALUE!"}}]
[null,null,null,null,null,null,null,null,null,null,null,null,null,null,null,null,null,"",null,null,null,null,null,null,null,null,null,"",null,null,null,null,{"$error":"#VALUE!"},{"$error":"#VALUE!"}]
[null,null,null,null,null,null,null,null,null,null,null,null,null,null,null,null,null,"",null,null,null,null,null,null,null,null,null,"",null,null,null,null,{"$error":"#VALUE!"},{"$error":"#VALUE!"}]
[null,null,null,null,null,null,null,null,null,null,null,null,null,null,null,null,null,"",null,null,null,null,null,null,null,null,null,"",null,null,null,null,{"$error":"#VALUE!"},{"$error":"#VALUE!"}]
[null,null,null,null,null,null,null,null,null,null,null,null,null,null,null,null,null,"",null,null,null,null,null,null,null,null,null,"",null,null,null,null,{"$error":"#VALUE!"},{"$error":"#VALUE!"}]
[null,null,null,null,null,null,null,null,null,null,null,null,null,null,null,null,null,"",null,null,null,null,null,null,null,null,null,"",null,null,null,null,{"$error":"#VALUE!"},{"$error":"#VALUE!"}]
[null,null,null,null,null,null,null,null,null,null,null,null,null,null,null,null,null,"",null,null,null,null,null,null,null,null,null,"",null,null,null,null,{"$error":"#VALUE!"},{"$error":"#VALUE!"}]
[null,null,null,null,null,null,null,null,null,null,null,null,null,null,null,null,null,"",null,null,null,null,null,null,null,null,null,"",null,null,null,null,{"$error":"#VALUE!"},{"$error":"#VALUE!"}]
[null,null,null,null,null,null,null,null,null,null,null,null,null,null,null,null,null,"",null,null,null,null,null,null,null,null,null,"",null,null,null,null,{"$error":"#VALUE!"},{"$error":"#VALUE!"}]
[null,null,null,null,null,null,null,null,null,null,null,null,null,null,null,null,null,"",null,null,null,null,null,null,null,null,null,"",null,null,null,null,{"$error":"#VALUE!"},{"$error":"#VALUE!"}]
[null,null,null,null,null,null,null,null,null,null,null,null,null,null,null,null,null,"",null,null,null,null,null,null,null,null,null,"",null,null,null,null,{"$error":"#VALUE!"},{"$error":"#VALUE!"}]
[null,null,null,null,null,null,null,null,null,null,null,null,null,null,null,null,null,"",null,null,null,null,null,null,null,null,null,"",null,null,null,null,{"$error":"#VALUE!"},{"$error":"#VALUE!"}]
[null,null,null,null,null,null,null,null,null,null,null,null,null,null,null,null,null,"",null,null,null,null,null,null,null,null,null,"",null,null,null,null,{"$error":"#VALUE!"},{"$error":"#VALUE!"}]
[null,null,null,null,null,null,null,null,null,null,null,null,null,null,null,null,null,"",null,null,null,null,null,null,null,null,null,"",null,null,null,null,{"$error":"#VALUE!"},{"$error":"#VALUE!"}]
[null,null,null,null,null,null,null,null,null,null,null,null,null,null,null,null,null,"",null,null,null,null,null,null,null,null,null,"",null,null,null,null,{"$error":"#VALUE!"},{"$error":"#VALUE!"}]
[null,"小計Ⓐ(税抜)",null,null,null,null,null,null,null,null,null,null,null,null,null,null,null,{"$f":"IF(内訳明細書7枚目!R16=\"\",SUM(R16:V31,内訳明細書1枚目!R16:V31,内訳明細書2枚目!R16:V31,内訳明細書3枚目!R16:V31,内訳明細書4枚目!R16:V31,内訳明細書5枚目!R16:V31),\"\")","v":0},null,null,null,null,null,null,null,null,null,{"$f":"IF(内訳明細書7枚目!R16=\"\",SUM(AB16:AF31,内訳明細書1枚目!AB16:AF31,内訳明細書2枚目!AB16:AF31,内訳明細書3枚目!AB16:AF31,内訳明細書4枚目!AB16:AF31,内訳明細書5枚目!AB16:AF31),\"\")","v":0}]
[null,"消費税額Ⓑ",null,null,null,null,null,null,null,null,null,null,null,null,null,null,null,{"$f":"IF(内訳明細書7枚目!R16=\"\",ROUND(_xlfn.AGGREGATE(9,6,内訳明細書1枚目!AH16:AH31,内訳明細書2枚目!AH16:AH31,内訳明細書3枚目!AH16:AH31,内訳明細書4枚目!AH16:AH31,内訳明細書5枚目!AH16:AH31,AH16:AH31),0),\"\")","v":0},null,null,null,null,null,null,null,null,null,{"$f":"IF(内訳明細書7枚目!R16=\"\",ROUND(_xlfn.AGGREGATE(9,6,内訳明細書1枚目!AG16:AG31,内訳明細書2枚目!AG16:AG31,内訳明細書3枚目!AG16:AG31,内訳明細書4枚目!AG16:AG31,内訳明細書5枚目!AG16:AG31,AG16:AG31),0),\"\")","v":0}]
[null,"合計Ⓒ(1-6枚目)",null,null,null,null,null,null,null,null,null,null,null,null,null,null,null,{"$f":"IF(内訳明細書7枚目!R16=\"\",_xlfn.AGGREGATE(9,6,内訳明細書1枚目!R16:V31,内訳明細書1枚目!AH16:AH31,内訳明細書2枚目!R16:V31,内訳明細書2枚目!AH16:AH31,内訳明細書3枚目!R16:V31,内訳明細書3枚目!AH16:AH31,内訳明細書4枚目!R16:V31,内訳明細書4枚目!AH16:AH31,内訳明細書5枚目!R16:V31,内訳明細書5枚目!AH16:AH31,R16:V31,AH16:AH31),\"\")","v":0},null,null,null,null,null,null,null,null,null,{"$f":"IF(内訳明細書7枚目!R16=\"\",_xlfn.AGGREGATE(9,6,内訳明細書1枚目!AB16:AF31,内訳明細書1枚目!AG16:AG31,内訳明細書2枚目!AB16:AF31,内訳明細書2枚目!AG16:AG31,内訳明細書3枚目!AB16:AF31,内訳明細書3枚目!AG16:AG31,内訳明細書4枚目!AB16:AF31,内訳明細書4枚目!AG16:AG31,内訳明細書5枚目!AB16:AF31,内訳明細書5枚目!AG16:AG31,AB16:AF31,AG16:AG31),\"\")","v":0}]
[]
[null,null,null,null,null,null,null,null,null,"請求内訳明細書"]
[]
[]
[null,null,null,null,null,null,"所属長",null,null,"担当",null,null,null,null,null,null,null,"西暦",null,{"$f":"IF(D7=\"\",\"\",D7)","v":""},null,null,"年",{"$f":"IF(H7=\"\",\"\",H7)","v":""},null,"月",{"$f":"IF(K7=\"\",\"\",K7)","v":""},null,"日"]
[null," (現場控)",null,null,null,null,null,null,null,null,null,null,null,null,null,null,null,"住所",null,null,{"$f":"IF(U5=\"\",\"\",U5)","v":""}]
[]
[]
[null,"工事番号",null,null,{"$f":"IF(E8=\"\",\"\",E8)","v":""},null,"―",{"$f":"IF(H8=\"\",\"\",H8)","v":""},null,null,null,null,null,null,null,null,null,"会社名",null,null,{"$f":"IF(U8=\"\",\"\",U8)","v":""},null,null,null,null,null,null,null,null,null,"印"]
[]
[null,"工事名",null,{"$f":"IF(D10=\"\",\"\",D10)","v":""}]
[null,null,null,null,null,null,null,null,null,null,null,null,null,null,null,null,null,"TEL",null,null,{"$f":"IF(U11=\"\",\"\",U11)","v":""}]
[]
[]
[null,"月","日","名称",null,null,null,null,null,null,null,"契約",null,null,null,null,null,null,null,null,null,null,"税率",null,"出来高"]
[null,null,null,null,null,null,null,null,null,null,null,"数量",null,null,"単価",null,null,"金額",null,null,null,null,null,null,"数量(％)",null,null,"金額"]
[null,{"$f":"IF(B16=\"\",\"\",B16)","v":""},{"$f":"IF(C16=\"\",\"\",C16)","v":""},{"$f":"IF(D16=\"\",\"\",D16)","v":""},null,null,null,null,null,null,null,{"$f":"IF(L16=\"\",\"\",L16)","v":""},null,null,{"$f":"IF(O16=\"\",\"\",O16)","v":""},null,null,{"$f":"IF(R16=\"\",\"\",R16)","v":""},null,null,null,null,{"$f":"IF(W16=\"\",\"\",W16)","v":""},null,{"$f":"IF(Y16=\"\",\"\",Y16)","v":""},null,null,{"$f":"IF(AB16=\"\",\"\",AB16)","v":""}]
[null,{"$f":"IF(B17=\"\",\"\",B17)","v":""},"","",null,null,null,null,null,null,null,{"$f":"IF(L17=\"\",\"\",L17)","v":""},null,null,{"$f":"IF(O17=\"\",\"\",O17)","v":""},null,null,{"$f":"IF(R17=\"\",\"\",R17)","v":""},null,null,null,null,{"$f":"IF(W17=\"\",\"\",W17)","v":""},null,{"$f":"IF(Y17=\"\",\"\",Y17)","v":""},null,null,{"$f":"IF(AB17=\"\",\"\",AB17)","v":""}]
[null,"","","",null,null,null,null,null,null,null,"",null,null,"",null,null,"",null,null,null,null,"",null,"",null,null,""]
[null,"","","",null,null,null,null,null,null,null,"",null,null,"",null,null,"",null,null,null,null,"",null,"",null,null,""]
[null,"","","",null,null,null,null,null,null,null,"",null,null,"",null,null,"",null,null,null,null,"",null,"",null,null,""]
[null,"","","",null,null,null,null,null,null,null,"",null,null,"",null,null,"",null,null,null,null,"",null,"",null,null,""]
[null,{"$f":"IF(B22=\"\",\"\",B22)","v":""},"","",null,null,null,null,null,null,null,"",null,null,"",null,null,"",null,null,null,null,"",null,"",null,null,""]
[null,{"$f":"IF(B23=\"\",\"\",B23)","v":""},"","",null,null,null,null,null,null,null,"",null,null,"",null,null,"",null,null,null,null,"",null,"",null,null,""]
[null,{"$f":"IF(B24=\"\",\"\",B24)","v":""},"","",null,null,null,null,null,null,null,"",null,null,"",null,null,"",null,null,null,null,"",null,"",null,null,""]
[null,{"$f":"IF(B25=\"\",\"\",B25)","v":""},"","",null,null,null,null,null,null,null,"",null,null,"",null,null,"",null,null,null,null,"",null,"",null,null,""]
[null,{"$f":"IF(B26=\"\",\"\",B26)","v":""},"","",null,null,null,null,null,null,null,"",null,null,"",null,null,"",null,null,null,null,"",null,"",null,null,""]
[null,{"$f":"IF(B27=\"\",\"\",B27)","v":""},"","",null,null,null,null,null,null,null,"",null,null,"",null,null,"",null,null,null,null,"",null,"",null,null,""]
[null,{"$f":"IF(B28=\"\",\"\",B28)","v":""},"","",null,null,null,null,null,null,null,"",null,null,"",null,null,"",null,null,null,null,"",null,"",null,null,""]
[null,{"$f":"IF(B29=\"\",\"\",B29)","v":""},"","",null,null,null,null,null,null,null,"",null,null,"",null,null,"",null,null,null,null,"",null,"",null,null,""]
[null,{"$f":"IF(B30=\"\",\"\",B30)","v":""},"","",null,null,null,null,null,null,null,"",null,null,"",null,null,"",null,null,null,null,"",null,"",null,null,""]
[null,{"$f":"IF(B31=\"\",\"\",B31)","v":""},"","",null,null,null,null,null,null,null,"",null,null,"",null,null,"",null,null,null,null,"",null,"",null,null,""]
[null,"小計Ⓐ(税抜)",null,null,null,null,null,null,null,null,null,null,null,null,null,null,null,{"$f":"IF(R32=\"\",\"\",R32)","v":0},null,null,null,null,{"$f":"IF(Y33=\"\",\"\",Y33)","v":""},null,null,null,null,{"$f":"IF(AB32=\"\",\"\",AB32)","v":0}]
[null,"消費税額Ⓑ",null,null,null,null,null,null,null,null,null,null,null,null,null,null,null,{"$f":"IF(R33=\"\",\"\",R33)","v":0},null,null,null,null,null,null,null,null,null,{"$f":"IF(AB33=\"\",\"\",AB33)","v":0}]
[null,"合計Ⓒ(1-6枚目)",null,null,null,null,null,null,null,null,null,null,null,null,null,null,null,{"$f":"IF(R34=\"\",\"\",R34)","v":0},null,null,null,null,null,null,null,null,null,{"$f":"IF(AB34=\"\",\"\",AB34)","v":0}]
[]
[null,null,null,null,null,null,null,null,null,"請求内訳明細書"]
[]
[]
[null,null,null,null,null,null,"所属長",null,null,"担当",null,null,null,null,null,null,null,"西暦",null,{"$f":"IF(D7=\"\",\"\",D7)","v":""},null,null,"年",{"$f":"IF(H7=\"\",\"\",H7)","v":""},null,"月",{"$f":"IF(K7=\"\",\"\",K7)","v":""},null,"日"]
[null," (経理控)",null,null,null,null,null,null,null,null,null,null,null,null,null,null,null,"住所",null,null,{"$f":"IF(U5=\"\",\"\",U5)","v":""}]
[]
[]
[null,"工事番号",null,null,{"$f":"IF(E8=\"\",\"\",E8)","v":""},null,"―",{"$f":"IF(H8=\"\",\"\",H8)","v":""},null,null,null,null,null,null,null,null,null,"会社名",null,null,{"$f":"IF(U8=\"\",\"\",U8)","v":""},null,null,null,null,null,null,null,null,null,"印"]
[]
[null,"工事名",null,{"$f":"IF(D10=\"\",\"\",D10)","v":""}]
[null,null,null,null,null,null,null,null,null,null,null,null,null,null,null,null,null,"TEL",null,null,{"$f":"IF(U11=\"\",\"\",U11)","v":""}]
[]
[]
[null,"月","日","名称",null,null,null,null,null,null,null,"契約",null,null,null,null,null,null,null,null,null,null,"税率",null,"出来高"]
[null,null,null,null,null,null,null,null,null,null,null,"数量",null,null,"単価",null,null,"金額",null,null,null,null,null,null,"数量(％)",null,null,"金額"]
[null,{"$f":"IF(B16=\"\",\"\",B16)","v":""},{"$f":"IF(C16=\"\",\"\",C16)","v":""},{"$f":"IF(D16=\"\",\"\",D16)","v":""},null,null,null,null,null,null,null,{"$f":"IF(L16=\"\",\"\",L16)","v":""},null,null,{"$f":"IF(O16=\"\",\"\",O16)","v":""},null,null,{"$f":"IF(R16=\"\",\"\",R16)","v":""},null,null,null,null,{"$f":"IF(W16=\"\",\"\",W16)","v":""},null,{"$f":"IF(Y16=\"\",\"\",Y16)","v":""},null,null,{"$f":"IF(AB16=\"\",\"\",AB16)","v":""}]
[null,{"$f":"IF(B17=\"\",\"\",B17)","v":""},"","",null,null,null,null,null,null,null,"",null,null,{"$f":"IF(O17=\"\",\"\",O17)","v":""},null,null,{"$f":"IF(R17=\"\",\"\",R17)","v":""},null,null,null,null,{"$f":"IF(W17=\"\",\"\",W17)","v":""},null,{"$f":"IF(Y17=\"\",\"\",Y17)","v":""},null,null,{"$f":"IF(AB17=\"\",\"\",AB17)","v":""}]
[null,"","","",null,null,null,null,null,null,null,"",null,null,"",null,null,"",null,null,null,null,"",null,"",null,null,""]
[null,"","","",null,null,null,null,null,null,null,"",null,null,"",null,null,"",null,null,null,null,"",null,"",null,null,""]
[null,"","","",null,null,null,null,null,null,null,"",null,null,"",null,null,"",null,null,null,null,"",null,"",null,null,""]
[null,"","","",null,null,null,null,null,null,null,"",null,null,"",null,null,"",null,null,null,null,"",null,"",null,null,""]
[null,"","","",null,null,null,null,null,null,null,"",null,null,"",null,null,"",null,null,null,null,"",null,"",null,null,""]
[null,"","","",null,null,null,null,null,null,null,"",null,null,"",null,null,"",null,null,null,null,"",null,"",null,null,""]
[null,"","","",null,null,null,null,null,null,null,"",null,null,"",null,null,"",null,null,null,null,"",null,"",null,null,""]
[null,"","","",null,null,null,null,null,null,null,"",null,null,"",null,null,"",null,null,null,null,"",null,"",null,null,""]
[null,"","","",null,null,null,null,null,null,null,"",null,null,"",null,null,"",null,null,null,null,"",null,"",null,null,""]
[null,"","","",null,null,null,null,null,null,null,"",null,null,"",null,null,"",null,null,null,null,"",null,"",null,null,""]
[null,"","","",null,null,null,null,null,null,null,"",null,null,"",null,null,"",null,null,null,null,"",null,"",null,null,""]
[null,"","","",null,null,null,null,null,null,null,"",null,null,"",null,null,"",null,null,null,null,"",null,"",null,null,""]
[null,"","","",null,null,null,null,null,null,null,"",null,null,"",null,null,"",null,null,null,null,"",null,"",null,null,""]
[null,"","","",null,null,null,null,null,null,null,"",null,null,"",null,null,"",null,null,null,null,"",null,"",null,null,""]
[null,"小計Ⓐ(税抜)",null,null,null,null,null,null,null,null,null,null,null,null,null,null,null,{"$f":"IF(R32=\"\",\"\",R32)","v":0},null,null,null,null,null,null,null,null,null,{"$f":"IF(AB32=\"\",\"\",AB32)","v":0}]
[null,"消費税額Ⓑ",null,null,null,null,null,null,null,null,null,null,null,null,null,null,null,{"$f":"IF(R33=\"\",\"\",R33)","v":0},null,null,null,null,null,null,null,null,null,{"$f":"IF(AB33=\"\",\"\",AB33)","v":0}]
[null,"合計Ⓒ(1-6枚目)",null,null,null,null,null,null,null,null,null,null,null,null,null,null,null,{"$f":"IF(R34=\"\",\"\",R34)","v":0},null,null,null,null,null,null,null,null,null,{"$f":"IF(AB34=\"\",\"\",AB34)","v":0}]

{"sheet":"内訳明細書7枚目","index":8,"n_rows":104,"n_cols":34,"rows_kept":104,"cut":false,"hidden":true,"merged":[[0,4,0,7],[1,4,1,7],[2,4,2,7],[3,4,3,14],[7,1,8,3],[6,1,6,2],[10,17,11,19],[10,20,11,31],[42,30,44,31],[31,27,31,31],[15,27,15,31],[7,4,8,5],[7,6,8,6],[7,7,8,8],[7,17,9,19],[9,1,11,2],[9,3,11,15],[4,17,6,19],[4,20,6,31],[4,1,4,3],[14,17,14,21],[6,3,6,5],[6,7,6,8],[6,10,6,11],[53,22,53,23],[52,22,52,23],[51,22,51,23],[38,19,38,21],[38,23,38,24],[48,22,49,23],[50,22,50,23],[31,1,31,16],[32,1,32,16],[31,22,33,26],[39,9,40,11],[39,6,40,8],[38,9,38,11],[38,6,38,8],[16,11,16,13],[16,14,16,16],[15,24,15,26],[48,3,49,10],[48,11,48,21],[48,24,48,31],[49,11,49,13],[49,14,49,16],[49,17,49,21],[49,24,49,26],[16,3,16,10],[18,3,18,10],[18,11,18,13],[18,14,18,16],[18,17,18,21],[17,3,17,10],[17,11,17,13],[17,14,17,16],[17,17,17,21],[16,17,16,21],[15,3,15,10],[15,11,15,13],[15,14,15,16],[15,17,15,21],[14,24,14,26],[14,27,14,31],[7,30,9,31],[100,22,100,23],[99,22,99,23],[98,22,98,23],[97,22,97,23],[96,22,96,23],[95,22,95,23],[94,22,94,23],[93,22,93,23],[92,22,92,23],[13,24,13,31],[13,22,14,23],[16,22,16,23],[15,22,15,23],[18,24,18,26],[18,27,18,31],[17,24,17,26],[17,27,17,31],[18,22,18,23],[17,22,17,23],[16,24,16,26],[16,27,16,31],[73,19,73,21],[73,26,73,27],[73,23,73,24],[66,17,66,21],[66,27,66,31],[66,1,66,16],[49,27,49,31],[42,1,43,3],[42,4,43,5],[42,6,43,6],[42,7,43,8],[51,27,51,31],[50,3,50,10],[50,11,50,13],[50,14,50,16],[50,17,50,21],[55,3,55,10],[55,11,55,13],[55,14,55,16],[55,17,55,21],[55,24,55,26],[55,27,55,31],[51,24,51,26],[44,3,46,15],[101,22,103,26],[67,1,67,16],[101,1,101,16],[74,1,74,3],[39,1,39,3],[44,1,46,2],[13,1,14,1],[13,2,14,2],[13,3,14,10],[13,11,13,21],[14,11,14,13],[14,14,14,16],[80,17,81,19],[80,20,81,31],[45,17,46,19],[45,20,46,31],[39,17,41,19],[39,20,41,31],[74,17,76,19],[74,20,76,31],[42,17,44,19],[31,17,31,21],[79,1,81,2],[38,26,38,27],[102,27,102,31],[86,3,86,10],[77,1,78,3],[77,4,78,5],[77,6,78,6],[77,7,78,8],[79,3,81,15],[48,1,49,1],[48,2,49,2],[87,22,87,23],[86,22,86,23],[85,22,85,23],[83,22,84,23],[96,3,96,10],[96,11,96,13],[96,14,96,16],[96,17,96,21],[96,24,96,26],[96,27,96,31],[66,22,68,26],[65,22,65,23],[64,22,64,23],[77,17,79,19],[102,1,102,16],[103,1,103,16],[103,17,103,21],[103,27,103,31],[83,1,84,1],[83,2,84,2],[83,3,84,10],[83,11,83,21],[83,24,83,31],[85,3,85,10],[85,11,85,13],[85,14,85,16],[85,17,85,21],[85,24,85,26],[85,27,85,31],[84,11,84,13],[84,14,84,16],[84,17,84,21],[102,17,102,21],[86,11,86,13],[86,14,86,16],[86,17,86,21],[86,24,86,26],[86,27,86,31],[84,24,84,26],[20,3,20,10],[20,11,20,13],[20,14,20,16],[20,17,20,21],[20,24,20,26],[20,27,20,31],[19,3,19,10],[19,11,19,13],[19,14,19,16],[19,17,19,21],[19,24,19,26],[19,27,19,31],[20,22,20,23],[19,22,19,23],[22,3,22,10],[22,11,22,13],[22,14,22,16],[22,17,22,21],[22,24,22,26],[22,27,22,31],[21,3,21,10],[21,11,21,13],[21,14,21,16],[21,17,21,21],[21,24,21,26],[21,27,21,31],[22,22,22,23],[21,22,21,23],[24,17,24,21],[24,24,24,26],[24,27,24,31],[23,3,23,10],[23,11,23,13],[23,14,23,16],[23,17,23,21],[23,24,23,26],[23,27,23,31],[24,22,24,23],[23,22,23,23],[24,3,24,10],[24,11,24,13],[24,14,24,16],[26,24,26,26],[26,27,26,31],[25,3,25,10],[25,11,25,13],[25,14,25,16],[25,17,25,21],[25,24,25,26],[25,27,25,31],[26,22,26,23],[25,22,25,23],[28,24,28,26],[28,27,28,31],[27,3,27,10],[27,11,27,13],[27,14,27,16],[27,17,27,21],[27,24,27,26],[27,27,27,31],[28,22,28,23],[27,22,27,23],[30,3,30,10],[30,11,30,13],[30,14,30,16],[30,17,30,21],[30,24,30,26],[30,27,30,31],[29,3,29,10],[29,11,29,13],[29,14,29,16],[29,17,29,21],[29,24,29,26],[29,27,29,31],[30,22,30,23],[29,22,29,23],[56,27,56,31],[57,22,57,23],[56,22,56,23],[32,27,32,31],[33,1,33,16],[33,17,33,21],[33,27,33,31],[32,17,32,21],[50,24,50,26],[50,27,50,31],[53,3,53,10],[53,11,53,13],[53,14,53,16],[53,17,53,21],[53,24,53,26],[53,27,53,31],[52,3,52,10],[52,11,52,13],[52,14,52,16],[52,17,52,21],[52,24,52,26],[52,27,52,31],[51,3,51,10],[51,11,51,13],[58,24,58,26],[58,27,58,31],[60,22,60,23],[59,22,59,23],[58,22,58,23],[54,3,54,10],[54,11,54,13],[54,14,54,16],[54,17,54,21],[54,24,54,26],[54,27,54,31],[55,22,55,23],[54,22,54,23],[57,3,57,10],[57,11,57,13],[57,14,57,16],[57,17,57,21],[57,24,57,26],[57,27,57,31],[56,3,56,10],[56,11,56,13],[56,14,56,16],[56,17,56,21],[56,24,56,26],[62,22,62,23],[61,22,61,23],[60,24,60,26],[60,27,60,31],[59,3,59,10],[59,11,59,13],[59,14,59,16],[59,17,59,21],[59,24,59,26],[59,27,59,31],[60,3,60,10],[60,11,60,13],[60,14,60,16],[60,17,60,21],[61,3,61,10],[61,11,61,13],[61,14,61,16],[61,17,61,21],[84,27,84,31],[65,3,65,10],[65,11,65,13],[65,14,65,16],[65,17,65,21],[65,24,65,26],[65,27,65,31],[77,30,79,31],[88,3,88,10],[88,11,88,13],[88,14,88,16],[88,17,88,21],[88,24,88,26],[88,27,88,31],[87,3,87,10],[87,11,87,13],[87,14,87,16],[87,17,87,21],[87,24,87,26],[87,27,87,31],[88,22,88,23],[67,27,67,31],[68,1,68,16],[68,17,68,21],[90,3,90,10],[90,11,90,13],[90,14,90,16],[90,17,90,21],[90,24,90,26],[90,27,90,31],[89,3,89,10],[89,11,89,13],[89,14,89,16],[89,17,89,21],[89,24,89,26],[89,27,89,31],[90,22,90,23],[89,22,89,23],[92,3,92,10],[92,11,92,13],[92,14,92,16],[92,17,92,21],[92,24,92,26],[92,27,92,31],[91,3,91,10],[91,11,91,13],[91,14,91,16],[91,17,91,21],[91,24,91,26],[91,27,91,31],[91,22,91,23],[94,3,94,10],[94,11,94,13],[94,14,94,16],[94,17,94,21],[94,24,94,26],[94,27,94,31],[93,3,93,10],[93,11,93,13],[93,14,93,16],[93,17,93,21],[93,24,93,26],[93,27,93,31],[97,17,97,21],[97,24,97,26],[97,27,97,31],[95,3,95,10],[95,11,95,13],[95,14,95,16],[95,17,95,21],[95,24,95,26],[95,27,95,31],[101,17,101,21],[101,27,101,31],[100,3,100,10],[100,11,100,13],[100,14,100,16],[100,17,100,21],[100,24,100,26],[100,27,100,31],[73,17,73,18],[99,3,99,10],[99,11,99,13],[99,14,99,16],[99,17,99,21],[99,24,99,26],[99,27,99,31],[98,3,98,10],[98,11,98,13],[98,14,98,16],[98,17,98,21],[98,24,98,26],[98,27,98,31],[97,3,97,10],[97,11,97,13],[97,14,97,16],[0,9,2,22],[35,9,37,22],[70,9,72,22],[38,17,38,18],[58,17,58,21],[51,14,51,16],[51,17,51,21],[28,3,28,10],[28,11,28,13],[28,14,28,16],[28,17,28,21],[26,3,26,10],[26,11,26,13],[26,14,26,16],[26,17,26,21],[62,3,62,10],[62,11,62,13],[62,14,62,16],[62,17,62,21],[67,17,67,21],[63,3,63,10],[63,11,63,13],[63,14,63,16],[63,17,63,21],[74,9,75,11],[74,6,75,8],[73,9,73,11],[73,6,73,8],[7,20,9,29],[42,20,44,29],[77,20,79,29],[58,3,58,10],[58,11,58,13],[58,14,58,16],[64,24,64,26],[64,27,64,31],[68,27,68,31],[63,24,63,26],[63,27,63,31],[62,24,62,26],[62,27,62,31],[64,3,64,10],[64,11,64,13],[64,14,64,16],[64,17,64,21],[61,24,61,26],[61,27,61,31],[63,22,63,23]]}
[null,null,null,null,"業者コード",null,null,null,null,"請求内訳明細書"]
[null,null,null,null,{"$f":"IF(内訳明細書1枚目!E2=\"\",\"\",内訳明細書1枚目!E2)","v":""}]
[null,null,null,null,"登録番号"]
[null,null,null,null,{"$f":"IF(内訳明細書1枚目!E4=\"\",\"\",内訳明細書1枚目!E4)","v":""}]
[null," (業者控)",null,null,null,null,null,null,null,null,null,null,null,null,null,null,null,"住所",null,null,{"$f":"IF(内訳明細書1枚目!U5=\"\",\"\",内訳明細書1枚目!U5)","v":""}]
[]
[null,"西暦",null,{"$f":"IF(内訳明細書1枚目!D7=\"\",\"\",内訳明細書1枚目!D7)","v":""},null,null,"年",{"$f":"IF(内訳明細書1枚目!H7=\"\",\"\",内訳明細書1枚目!H7)","v":""},null,"月",{"$f":"IF(内訳明細書1枚目!K7=\"\",\"\",内訳明細書1枚目!K7)","v":""},null,"日"]
[null,"工事番号",null,null,{"$f":"IF(内訳明細書1枚目!E8=\"\",\"\",内訳明細書1枚目!E8)","v":""},null,"―",{"$f":"IF(内訳明細書1枚目!H8=\"\",\"\",内訳明細書1枚目!H8)","v":""},null,null,null,null,null,null,null,null,null,"会社名",null,null,{"$f":"IF(内訳明細書1枚目!U8=\"\",\"\",内訳明細書1枚目!U8)","v":""},null,null,null,null,null,null,null,null,null,"印"]
[]
[null,"工事名",null,{"$f":"IF(内訳明細書1枚目!D10=\"\",\"\",内訳明細書1枚目!D10)","v":""}]
[null,null,null,null,null,null,null,null,null,null,null,null,null,null,null,null,null,"TEL",null,null,{"$f":"IF(内訳明細書1枚目!U11=\"\",\"\",内訳明細書1枚目!U11)","v":""}]
[]
[]
[null,"月","日","名称",null,null,null,null,null,null,null,"契約",null,null,null,null,null,null,null,null,null,null,"税率",null,"出来高"]
[null,null,null,null,null,null,null,null,null,null,null,"数量",null,null,"単価",null,null,"金額",null,null,null,null,null,null,"数量(％)",null,null,"金額"]
[null,null,null,null,null,null,null,null,null,null,null,null,null,null,null,null,null,{"$f":"IF(ROUND(L16*O16,0)=0,\"\",ROUND(L16*O16,0))","v":""},null,null,null,null,null,null,null,null,null,{"$f":"IFERROR(R16*Y16/100,\"\")","v":""},null,null,null,null,{"$f":"IF(W16=\"\",AB16*0.1,AB16*W16)","v":{"$error":"#VALUE!"}},{"$f":"IF(W16=\"\",R16*0.1,R16*W16)","v":{"$error":"#VALUE!"}}]
[null,null,null,null,null,null,null,null,null,null,null,null,null,null,null,null,null,{"$f":"IF(ROUND(L17*O17,0)=0,\"\",ROUND(L17*O17,0))","v":""},null,null,null,null,null,null,null,null,null,{"$f":"IFERROR(R17*Y17/100,\"\")","v":""},null,null,null,null,{"$f":"IF(W17=\"\",AB17*0.1,AB17*W17)","v":{"$error":"#VALUE!"}},{"$f":"IF(W17=\"\",R17*0.1,R17*W17)","v":{"$error":"#VALUE!"}}]
[null,null,null,null,null,null,null,null,null,null,null,null,null,null,null,null,null,"",null,null,null,null,null,null,null,null,null,"",null,null,null,null,{"$error":"#VALUE!"},{"$error":"#VALUE!"}]
[null,null,null,null,null,null,null,null,null,null,null,null,null,null,null,null,null,"",null,null,null,null,null,null,null,null,null,"",null,null,null,null,{"$error":"#VALUE!"},{"$error":"#VALUE!"}]
[null,null,null,null,null,null,null,null,null,null,null,null,null,null,null,null,null,"",null,null,null,null,null,null,null,null,null,"",null,null,null,null,{"$error":"#VALUE!"},{"$error":"#VALUE!"}]
[null,null,null,null,null,null,null,null,null,null,null,null,null,null,null,null,null,"",null,null,null,null,null,null,null,null,null,"",null,null,null,null,{"$error":"#VALUE!"},{"$error":"#VALUE!"}]
[null,null,null,null,null,null,null,null,null,null,null,null,null,null,null,null,null,"",null,null,null,null,null,null,null,null,null,"",null,null,null,null,{"$error":"#VALUE!"},{"$error":"#VALUE!"}]
[null,null,null,null,null,null,null,null,null,null,null,null,null,null,null,null,null,"",null,null,null,null,null,null,null,null,null,"",null,null,null,null,{"$error":"#VALUE!"},{"$error":"#VALUE!"}]
[null,null,null,null,null,null,null,null,null,null,null,null,null,null,null,null,null,"",null,null,null,null,null,null,null,null,null,"",null,null,null,null,{"$error":"#VALUE!"},{"$error":"#VALUE!"}]
[null,null,null,null,null,null,null,null,null,null,null,null,null,null,null,null,null,"",null,null,null,null,null,null,null,null,null,"",null,null,null,null,{"$error":"#VALUE!"},{"$error":"#VALUE!"}]
[null,null,null,null,null,null,null,null,null,null,null,null,null,null,null,null,null,"",null,null,null,null,null,null,null,null,null,"",null,null,null,null,{"$error":"#VALUE!"},{"$error":"#VALUE!"}]
[null,null,null,null,null,null,null,null,null,null,null,null,null,null,null,null,null,"",null,null,null,null,null,null,null,null,null,"",null,null,null,null,{"$error":"#VALUE!"},{"$error":"#VALUE!"}]
[null,null,null,null,null,null,null,null,null,null,null,null,null,null,null,null,null,"",null,null,null,null,null,null,null,null,null,"",null,null,null,null,{"$error":"#VALUE!"},{"$error":"#VALUE!"}]
[null,null,null,null,null,null,null,null,null,null,null,null,null,null,null,null,null,"",null,null,null,null,null,null,null,null,null,"",null,null,null,null,{"$error":"#VALUE!"},{"$error":"#VALUE!"}]
[null,null,null,null,null,null,null,null,null,null,null,null,null,null,null,null,null,"",null,null,null,null,null,null,null,null,null,"",null,null,null,null,{"$error":"#VALUE!"},{"$error":"#VALUE!"}]
[null,null,null,null,null,null,null,null,null,null,null,null,null,null,null,null,null,"",null,null,null,null,null,null,null,null,null,"",null,null,null,null,{"$error":"#VALUE!"},{"$error":"#VALUE!"}]
[null,"小計Ⓐ(税抜)",null,null,null,null,null,null,null,null,null,null,null,null,null,null,null,{"$f":"IF(内訳明細書8枚目!R16=\"\",SUM(R16:V31,内訳明細書1枚目!R16:V31,内訳明細書2枚目!R16:V31,内訳明細書3枚目!R16:V31,内訳明細書4枚目!R16:V31,内訳明細書5枚目!R16:V31,内訳明細書6枚目!R16:V31),\"\")","v":0},null,null,null,null,null,null,null,null,null,{"$f":"IF(内訳明細書8枚目!R16=\"\",SUM(AB16:AF31,内訳明細書1枚目!AB16:AF31,内訳明細書2枚目!AB16:AF31,内訳明細書3枚目!AB16:AF31,内訳明細書4枚目!AB16:AF31,内訳明細書5枚目!AB16:AF31,内訳明細書6枚目!AB16:AF31),\"\")","v":0}]
[null,"消費税額Ⓑ",null,null,null,null,null,null,null,null,null,null,null,null,null,null,null,{"$f":"IF(内訳明細書8枚目!R16=\"\",ROUND(_xlfn.AGGREGATE(9,6,内訳明細書1枚目!AH16:AH31,内訳明細書2枚目!AH16:AH31,内訳明細書3枚目!AH16:AH31,内訳明細書4枚目!AH16:AH31,内訳明細書5枚目!AH16:AH31,内訳明細書6枚目!AH16:AH31,AH16:AH31),0),\"\")","v":0},null,null,null,null,null,null,null,null,null,{"$f":"IF(内訳明細書8枚目!R16=\"\",ROUND(_xlfn.AGGREGATE(9,6,内訳明細書1枚目!AG16:AG31,内訳明細書2枚目!AG16:AG31,内訳明細書3枚目!AG16:AG31,内訳明細書4枚目!AG16:AG31,内訳明細書5枚目!AG16:AG31,内訳明細書6枚目!AG16:AG31,AG16:AG31),0),\"\")","v":0}]
[null,"合計Ⓒ(1-7枚目)",null,null,null,null,null,null,null,null,null,null,null,null,null,null,null,{"$f":"IF(内訳明細書8枚目!R16=\"\",_xlfn.AGGREGATE(9,6,内訳明細書1枚目!R16:V31,内訳明細書1枚目!AH16:AH31,内訳明細書2枚目!R16:V31,内訳明細書2枚目!AH16:AH31,内訳明細書3枚目!R16:V31,内訳明細書3枚目!AH16:AH31,内訳明細書4枚目!R16:V31,内訳明細書4枚目!AH16:AH31,内訳明細書5枚目!R16:V31,内訳明細書5枚目!AH16:AH31,内訳明細書6枚目!R16:V31,内訳明細書6枚目!AH16:AH31,R16:V31,AH16:AH31),\"\")","v":0},null,null,null,null,null,null,null,null,null,{"$f":"IF(内訳明細書8枚目!R16=\"\",_xlfn.AGGREGATE(9,6,内訳明細書1枚目!AB16:AF31,内訳明細書1枚目!AG16:AG31,内訳明細書2枚目!AB16:AF31,内訳明細書2枚目!AG16:AG31,内訳明細書3枚目!AB16:AF31,内訳明細書3枚目!AG16:AG31,内訳明細書4枚目!AB16:AF31,内訳明細書4枚目!AG16:AG31,内訳明細書5枚目!AB16:AF31,内訳明細書5枚目!AG16:AG31,内訳明細書6枚目!AB16:AF31,内訳明細書6枚目!AG16:AG31,AB16:AF31,AG16:AG31),\"\")","v":0}]
[]
[null,null,null,null,null,null,null,null,null,"請求内訳明細書"]
[]
[]
[null,null,null,null,null,null,"所属長",null,null,"担当",null,null,null,null,null,null,null,"西暦",null,{"$f":"IF(D7=\"\",\"\",D7)","v":""},null,null,"年",{"$f":"IF(H7=\"\",\"\",H7)","v":""},null,"月",{"$f":"IF(K7=\"\",\"\",K7)","v":""},null,"日"]
[null," (現場控)",null,null,null,null,null,null,null,null,null,null,null,null,null,null,null,"住所",null,null,{"$f":"IF(U5=\"\",\"\",U5)","v":""}]
[]
[]
[null,"工事番号",null,null,{"$f":"IF(E8=\"\",\"\",E8)","v":""},null,"―",{"$f":"IF(H8=\"\",\"\",H8)","v":""},null,null,null,null,null,null,null,null,null,"会社名",null,null,{"$f":"IF(U8=\"\",\"\",U8)","v":""},null,null,null,null,null,null,null,null,null,"印"]
[]
[null,"工事名",null,{"$f":"IF(D10=\"\",\"\",D10)","v":""}]
[null,null,null,null,null,null,null,null,null,null,null,null,null,null,null,null,null,"TEL",null,null,{"$f":"IF(U11=\"\",\"\",U11)","v":""}]
[]
[]
[null,"月","日","名称",null,null,null,null,null,null,null,"契約",null,null,null,null,null,null,null,null,null,null,"税率",null,"出来高"]
[null,null,null,null,null,null,null,null,null,null,null,"数量",null,null,"単価",null,null,"金額",null,null,null,null,null,null,"数量(％)",null,null,"金額"]
[null,{"$f":"IF(B16=\"\",\"\",B16)","v":""},{"$f":"IF(C16=\"\",\"\",C16)","v":""},{"$f":"IF(D16=\"\",\"\",D16)","v":""},null,null,null,null,null,null,null,{"$f":"IF(L16=\"\",\"\",L16)","v":""},null,null,{"$f":"IF(O16=\"\",\"\",O16)","v":""},null,null,{"$f":"IF(R16=\"\",\"\",R16)","v":""},null,null,null,null,{"$f":"IF(W16=\"\",\"\",W16)","v":""},null,{"$f":"IF(Y16=\"\",\"\",Y16)","v":""},null,null,{"$f":"IF(AB16=\"\",\"\",AB16)","v":""}]
[null,{"$f":"IF(B17=\"\",\"\",B17)","v":""},"","",null,null,null,null,null,null,null,{"$f":"IF(L17=\"\",\"\",L17)","v":""},null,null,{"$f":"IF(O17=\"\",\"\",O17)","v":""},null,null,{"$f":"IF(R17=\"\",\"\",R17)","v":""},null,null,null,null,{"$f":"IF(W17=\"\",\"\",W17)","v":""},null,{"$f":"IF(Y17=\"\",\"\",Y17)","v":""},null,null,{"$f":"IF(AB17=\"\",\"\",AB17)","v":""}]
[null,"","","",null,null,null,null,null,null,null,"",null,null,"",null,null,"",null,null,null,null,"",null,"",null,null,""]
[null,"","","",null,null,null,null,null,null,null,"",null,null,"",null,null,"",null,null,null,null,"",null,"",null,null,""]
[null,"","","",null,null,null,null,null,null,null,"",null,null,"",null,null,"",null,null,null,null,"",null,"",null,null,""]
[null,"","","",null,null,null,null,null,null,null,"",null,null,"",null,null,"",null,null,null,null,"",null,"",null,null,""]
[null,{"$f":"IF(B22=\"\",\"\",B22)","v":""},"","",null,null,null,null,null,null,null,"",null,null,"",null,null,"",null,null,null,null,"",null,"",null,null,""]
[null,{"$f":"IF(B23=\"\",\"\",B23)","v":""},"","",null,null,null,null,null,null,null,"",null,null,"",null,null,"",null,null,null,null,"",null,"",null,null,""]
[null,{"$f":"IF(B24=\"\",\"\",B24)","v":""},"","",null,null,null,null,null,null,null,"",null,null,"",null,null,"",null,null,null,null,"",null,"",null,null,""]
[null,{"$f":"IF(B25=\"\",\"\",B25)","v":""},"","",null,null,null,null,null,null,null,"",null,null,"",null,null,"",null,null,null,null,"",null,"",null,null,""]
[null,{"$f":"IF(B26=\"\",\"\",B26)","v":""},"","",null,null,null,null,null,null,null,"",null,null,"",null,null,"",null,null,null,null,"",null,"",null,null,""]
[null,{"$f":"IF(B27=\"\",\"\",B27)","v":""},"","",null,null,null,null,null,null,null,"",null,null,"",null,null,"",null,null,null,null,"",null,"",null,null,""]
[null,{"$f":"IF(B28=\"\",\"\",B28)","v":""},"","",null,null,null,null,null,null,null,"",null,null,"",null,null,"",null,null,null,null,"",null,"",null,null,""]
[null,{"$f":"IF(B29=\"\",\"\",B29)","v":""},"","",null,null,null,null,null,null,null,"",null,null,"",null,null,"",null,null,null,null,"",null,"",null,null,""]
[null,{"$f":"IF(B30=\"\",\"\",B30)","v":""},"","",null,null,null,null,null,null,null,"",null,null,"",null,null,"",null,null,null,null,"",null,"",null,null,""]
[null,{"$f":"IF(B31=\"\",\"\",B31)","v":""},"","",null,null,null,null,null,null,null,"",null,null,"",null,null,"",null,null,null,null,"",null,"",null,null,""]
[null,"小計Ⓐ(税抜)",null,null,null,null,null,null,null,null,null,null,null,null,null,null,null,{"$f":"IF(R32=\"\",\"\",R32)","v":0},null,null,null,null,{"$f":"IF(Y33=\"\",\"\",Y33)","v":""},null,null,null,null,{"$f":"IF(AB32=\"\",\"\",AB32)","v":0}]
[null,"消費税額Ⓑ",null,null,null,null,null,null,null,null,null,null,null,null,null,null,null,{"$f":"IF(R33=\"\",\"\",R33)","v":0},null,null,null,null,null,null,null,null,null,{"$f":"IF(AB33=\"\",\"\",AB33)","v":0}]
[null,"合計Ⓒ(1-7枚目)",null,null,null,null,null,null,null,null,null,null,null,null,null,null,null,{"$f":"IF(R34=\"\",\"\",R34)","v":0},null,null,null,null,null,null,null,null,null,{"$f":"IF(AB34=\"\",\"\",AB34)","v":0}]
[]
[null,null,null,null,null,null,null,null,null,"請求内訳明細書"]
[]
[]
[null,null,null,null,null,null,"所属長",null,null,"担当",null,null,null,null,null,null,null,"西暦",null,{"$f":"IF(D7=\"\",\"\",D7)","v":""},null,null,"年",{"$f":"IF(H7=\"\",\"\",H7)","v":""},null,"月",{"$f":"IF(K7=\"\",\"\",K7)","v":""},null,"日"]
[null," (経理控)",null,null,null,null,null,null,null,null,null,null,null,null,null,null,null,"住所",null,null,{"$f":"IF(U5=\"\",\"\",U5)","v":""}]
[]
[]
[null,"工事番号",null,null,{"$f":"IF(E8=\"\",\"\",E8)","v":""},null,"―",{"$f":"IF(H8=\"\",\"\",H8)","v":""},null,null,null,null,null,null,null,null,null,"会社名",null,null,{"$f":"IF(U8=\"\",\"\",U8)","v":""},null,null,null,null,null,null,null,null,null,"印"]
[]
[null,"工事名",null,{"$f":"IF(D10=\"\",\"\",D10)","v":""}]
[null,null,null,null,null,null,null,null,null,null,null,null,null,null,null,null,null,"TEL",null,null,{"$f":"IF(U11=\"\",\"\",U11)","v":""}]
[]
[]
[null,"月","日","名称",null,null,null,null,null,null,null,"契約",null,null,null,null,null,null,null,null,null,null,"税率",null,"出来高"]
[null,null,null,null,null,null,null,null,null,null,null,"数量",null,null,"単価",null,null,"金額",null,null,null,null,null,null,"数量(％)",null,null,"金額"]
[null,{"$f":"IF(B16=\"\",\"\",B16)","v":""},{"$f":"IF(C16=\"\",\"\",C16)","v":""},{"$f":"IF(D16=\"\",\"\",D16)","v":""},null,null,null,null,null,null,null,{"$f":"IF(L16=\"\",\"\",L16)","v":""},null,null,{"$f":"IF(O16=\"\",\"\",O16)","v":""},null,null,{"$f":"IF(R16=\"\",\"\",R16)","v":""},null,null,null,null,{"$f":"IF(W16=\"\",\"\",W16)","v":""},null,{"$f":"IF(Y16=\"\",\"\",Y16)","v":""},null,null,{"$f":"IF(AB16=\"\",\"\",AB16)","v":""}]
[null,{"$f":"IF(B17=\"\",\"\",B17)","v":""},"","",null,null,null,null,null,null,null,"",null,null,{"$f":"IF(O17=\"\",\"\",O17)","v":""},null,null,{"$f":"IF(R17=\"\",\"\",R17)","v":""},null,null,null,null,{"$f":"IF(W17=\"\",\"\",W17)","v":""},null,{"$f":"IF(Y17=\"\",\"\",Y17)","v":""},null,null,{"$f":"IF(AB17=\"\",\"\",AB17)","v":""}]
[null,"","","",null,null,null,null,null,null,null,"",null,null,"",null,null,"",null,null,null,null,"",null,"",null,null,""]
[null,"","","",null,null,null,null,null,null,null,"",null,null,"",null,null,"",null,null,null,null,"",null,"",null,null,""]
[null,"","","",null,null,null,null,null,null,null,"",null,null,"",null,null,"",null,null,null,null,"",null,"",null,null,""]
[null,"","","",null,null,null,null,null,null,null,"",null,null,"",null,null,"",null,null,null,null,"",null,"",null,null,""]
[null,"","","",null,null,null,null,null,null,null,"",null,null,"",null,null,"",null,null,null,null,"",null,"",null,null,""]
[null,"","","",null,null,null,null,null,null,null,"",null,null,"",null,null,"",null,null,null,null,"",null,"",null,null,""]
[null,"","","",null,null,null,null,null,null,null,"",null,null,"",null,null,"",null,null,null,null,"",null,"",null,null,""]
[null,"","","",null,null,null,null,null,null,null,"",null,null,"",null,null,"",null,null,null,null,"",null,"",null,null,""]
[null,"","","",null,null,null,null,null,null,null,"",null,null,"",null,null,"",null,null,null,null,"",null,"",null,null,""]
[null,"","","",null,null,null,null,null,null,null,"",null,null,"",null,null,"",null,null,null,null,"",null,"",null,null,""]
[null,"","","",null,null,null,null,null,null,null,"",null,null,"",null,null,"",null,null,null,null,"",null,"",null,null,""]
[null,"","","",null,null,null,null,null,null,null,"",null,null,"",null,null,"",null,null,null,null,"",null,"",null,null,""]
[null,"","","",null,null,null,null,null,null,null,"",null,null,"",null,null,"",null,null,null,null,"",null,"",null,null,""]
[null,"","","",null,null,null,null,null,null,null,"",null,null,"",null,null,"",null,null,null,null,"",null,"",null,null,""]
[null,"小計Ⓐ(税抜)",null,null,null,null,null,null,null,null,null,null,null,null,null,null,null,{"$f":"IF(R32=\"\",\"\",R32)","v":0},null,null,null,null,null,null,null,null,null,{"$f":"IF(AB32=\"\",\"\",AB32)","v":0}]
[null,"消費税額Ⓑ",null,null,null,null,null,null,null,null,null,null,null,null,null,null,null,{"$f":"IF(R33=\"\",\"\",R33)","v":0},null,null,null,null,null,null,null,null,null,{"$f":"IF(AB33=\"\",\"\",AB33)","v":0}]
[null,"合計Ⓒ(1-7枚目)",null,null,null,null,null,null,null,null,null,null,null,null,null,null,null,{"$f":"IF(R34=\"\",\"\",R34)","v":0},null,null,null,null,null,null,null,null,null,{"$f":"IF(AB34=\"\",\"\",AB34)","v":0}]

{"sheet":"内訳明細書8枚目","index":9,"n_rows":104,"n_cols":34,"rows_kept":104,"cut":false,"hidden":true,"merged":[[0,4,0,7],[1,4,1,7],[2,4,2,7],[3,4,3,14],[7,1,8,3],[6,1,6,2],[10,17,11,19],[10,20,11,31],[42,30,44,31],[31,27,31,31],[15,27,15,31],[7,4,8,5],[7,6,8,6],[7,7,8,8],[7,17,9,19],[9,1,11,2],[9,3,11,15],[4,17,6,19],[4,20,6,31],[4,1,4,3],[14,17,14,21],[6,3,6,5],[6,7,6,8],[6,10,6,11],[53,22,53,23],[52,22,52,23],[51,22,51,23],[38,19,38,21],[38,23,38,24],[48,22,49,23],[50,22,50,23],[31,1,31,16],[32,1,32,16],[31,22,33,26],[39,9,40,11],[39,6,40,8],[38,9,38,11],[38,6,38,8],[16,11,16,13],[16,14,16,16],[15,24,15,26],[48,3,49,10],[48,11,48,21],[48,24,48,31],[49,11,49,13],[49,14,49,16],[49,17,49,21],[49,24,49,26],[16,3,16,10],[18,3,18,10],[18,11,18,13],[18,14,18,16],[18,17,18,21],[17,3,17,10],[17,11,17,13],[17,14,17,16],[17,17,17,21],[16,17,16,21],[15,3,15,10],[15,11,15,13],[15,14,15,16],[15,17,15,21],[14,24,14,26],[14,27,14,31],[7,30,9,31],[100,22,100,23],[99,22,99,23],[98,22,98,23],[97,22,97,23],[96,22,96,23],[95,22,95,23],[94,22,94,23],[93,22,93,23],[92,22,92,23],[13,24,13,31],[13,22,14,23],[16,22,16,23],[15,22,15,23],[18,24,18,26],[18,27,18,31],[17,24,17,26],[17,27,17,31],[18,22,18,23],[17,22,17,23],[16,24,16,26],[16,27,16,31],[73,19,73,21],[73,26,73,27],[73,23,73,24],[66,17,66,21],[66,27,66,31],[66,1,66,16],[49,27,49,31],[42,1,43,3],[42,4,43,5],[42,6,43,6],[42,7,43,8],[51,27,51,31],[50,3,50,10],[50,11,50,13],[50,14,50,16],[50,17,50,21],[55,3,55,10],[55,11,55,13],[55,14,55,16],[55,17,55,21],[55,24,55,26],[55,27,55,31],[51,24,51,26],[44,3,46,15],[101,22,103,26],[67,1,67,16],[101,1,101,16],[74,1,74,3],[39,1,39,3],[44,1,46,2],[13,1,14,1],[13,2,14,2],[13,3,14,10],[13,11,13,21],[14,11,14,13],[14,14,14,16],[80,17,81,19],[80,20,81,31],[45,17,46,19],[45,20,46,31],[39,17,41,19],[39,20,41,31],[74,17,76,19],[74,20,76,31],[42,17,44,19],[31,17,31,21],[79,1,81,2],[38,26,38,27],[102,27,102,31],[86,3,86,10],[77,1,78,3],[77,4,78,5],[77,6,78,6],[77,7,78,8],[79,3,81,15],[48,1,49,1],[48,2,49,2],[87,22,87,23],[86,22,86,23],[85,22,85,23],[83,22,84,23],[96,3,96,10],[96,11,96,13],[96,14,96,16],[96,17,96,21],[96,24,96,26],[96,27,96,31],[66,22,68,26],[65,22,65,23],[64,22,64,23],[77,17,79,19],[102,1,102,16],[103,1,103,16],[103,17,103,21],[103,27,103,31],[83,1,84,1],[83,2,84,2],[83,3,84,10],[83,11,83,21],[83,24,83,31],[85,3,85,10],[85,11,85,13],[85,14,85,16],[85,17,85,21],[85,24,85,26],[85,27,85,31],[84,11,84,13],[84,14,84,16],[84,17,84,21],[102,17,102,21],[86,11,86,13],[86,14,86,16],[86,17,86,21],[86,24,86,26],[86,27,86,31],[84,24,84,26],[20,3,20,10],[20,11,20,13],[20,14,20,16],[20,17,20,21],[20,24,20,26],[20,27,20,31],[19,3,19,10],[19,11,19,13],[19,14,19,16],[19,17,19,21],[19,24,19,26],[19,27,19,31],[20,22,20,23],[19,22,19,23],[22,3,22,10],[22,11,22,13],[22,14,22,16],[22,17,22,21],[22,24,22,26],[22,27,22,31],[21,3,21,10],[21,11,21,13],[21,14,21,16],[21,17,21,21],[21,24,21,26],[21,27,21,31],[22,22,22,23],[21,22,21,23],[24,17,24,21],[24,24,24,26],[24,27,24,31],[23,3,23,10],[23,11,23,13],[23,14,23,16],[23,17,23,21],[23,24,23,26],[23,27,23,31],[24,22,24,23],[23,22,23,23],[24,3,24,10],[24,11,24,13],[24,14,24,16],[26,24,26,26],[26,27,26,31],[25,3,25,10],[25,11,25,13],[25,14,25,16],[25,17,25,21],[25,24,25,26],[25,27,25,31],[26,22,26,23],[25,22,25,23],[28,24,28,26],[28,27,28,31],[27,3,27,10],[27,11,27,13],[27,14,27,16],[27,17,27,21],[27,24,27,26],[27,27,27,31],[28,22,28,23],[27,22,27,23],[30,3,30,10],[30,11,30,13],[30,14,30,16],[30,17,30,21],[30,24,30,26],[30,27,30,31],[29,3,29,10],[29,11,29,13],[29,14,29,16],[29,17,29,21],[29,24,29,26],[29,27,29,31],[30,22,30,23],[29,22,29,23],[56,27,56,31],[57,22,57,23],[56,22,56,23],[32,27,32,31],[33,1,33,16],[33,17,33,21],[33,27,33,31],[32,17,32,21],[50,24,50,26],[50,27,50,31],[53,3,53,10],[53,11,53,13],[53,14,53,16],[53,17,53,21],[53,24,53,26],[53,27,53,31],[52,3,52,10],[52,11,52,13],[52,14,52,16],[52,17,52,21],[52,24,52,26],[52,27,52,31],[51,3,51,10],[51,11,51,13],[58,24,58,26],[58,27,58,31],[60,22,60,23],[59,22,59,23],[58,22,58,23],[54,3,54,10],[54,11,54,13],[54,14,54,16],[54,17,54,21],[54,24,54,26],[54,27,54,31],[55,22,55,23],[54,22,54,23],[57,3,57,10],[57,11,57,13],[57,14,57,16],[57,17,57,21],[57,24,57,26],[57,27,57,31],[56,3,56,10],[56,11,56,13],[56,14,56,16],[56,17,56,21],[56,24,56,26],[62,22,62,23],[61,22,61,23],[60,24,60,26],[60,27,60,31],[59,3,59,10],[59,11,59,13],[59,14,59,16],[59,17,59,21],[59,24,59,26],[59,27,59,31],[60,3,60,10],[60,11,60,13],[60,14,60,16],[60,17,60,21],[61,3,61,10],[61,11,61,13],[61,14,61,16],[61,17,61,21],[84,27,84,31],[65,3,65,10],[65,11,65,13],[65,14,65,16],[65,17,65,21],[65,24,65,26],[65,27,65,31],[77,30,79,31],[88,3,88,10],[88,11,88,13],[88,14,88,16],[88,17,88,21],[88,24,88,26],[88,27,88,31],[87,3,87,10],[87,11,87,13],[87,14,87,16],[87,17,87,21],[87,24,87,26],[87,27,87,31],[88,22,88,23],[67,27,67,31],[68,1,68,16],[68,17,68,21],[90,3,90,10],[90,11,90,13],[90,14,90,16],[90,17,90,21],[90,24,90,26],[90,27,90,31],[89,3,89,10],[89,11,89,13],[89,14,89,16],[89,17,89,21],[89,24,89,26],[89,27,89,31],[90,22,90,23],[89,22,89,23],[92,3,92,10],[92,11,92,13],[92,14,92,16],[92,17,92,21],[92,24,92,26],[92,27,92,31],[91,3,91,10],[91,11,91,13],[91,14,91,16],[91,17,91,21],[91,24,91,26],[91,27,91,31],[91,22,91,23],[94,3,94,10],[94,11,94,13],[94,14,94,16],[94,17,94,21],[94,24,94,26],[94,27,94,31],[93,3,93,10],[93,11,93,13],[93,14,93,16],[93,17,93,21],[93,24,93,26],[93,27,93,31],[97,17,97,21],[97,24,97,26],[97,27,97,31],[95,3,95,10],[95,11,95,13],[95,14,95,16],[95,17,95,21],[95,24,95,26],[95,27,95,31],[101,17,101,21],[101,27,101,31],[100,3,100,10],[100,11,100,13],[100,14,100,16],[100,17,100,21],[100,24,100,26],[100,27,100,31],[73,17,73,18],[99,3,99,10],[99,11,99,13],[99,14,99,16],[99,17,99,21],[99,24,99,26],[99,27,99,31],[98,3,98,10],[98,11,98,13],[98,14,98,16],[98,17,98,21],[98,24,98,26],[98,27,98,31],[97,3,97,10],[97,11,97,13],[97,14,97,16],[0,9,2,22],[35,9,37,22],[70,9,72,22],[38,17,38,18],[58,17,58,21],[51,14,51,16],[51,17,51,21],[28,3,28,10],[28,11,28,13],[28,14,28,16],[28,17,28,21],[26,3,26,10],[26,11,26,13],[26,14,26,16],[26,17,26,21],[62,3,62,10],[62,11,62,13],[62,14,62,16],[62,17,62,21],[67,17,67,21],[63,3,63,10],[63,11,63,13],[63,14,63,16],[63,17,63,21],[74,9,75,11],[74,6,75,8],[73,9,73,11],[73,6,73,8],[7,20,9,29],[42,20,44,29],[77,20,79,29],[58,3,58,10],[58,11,58,13],[58,14,58,16],[64,24,64,26],[64,27,64,31],[68,27,68,31],[63,24,63,26],[63,27,63,31],[62,24,62,26],[62,27,62,31],[64,3,64,10],[64,11,64,13],[64,14,64,16],[64,17,64,21],[61,24,61,26],[61,27,61,31],[63,22,63,23]]}
[null,null,null,null,"業者コード",null,null,null,null,"請求内訳明細書"]
[null,null,null,null,{"$f":"IF(内訳明細書1枚目!E2=\"\",\"\",内訳明細書1枚目!E2)","v":""}]
[null,null,null,null,"登録番号"]
[null,null,null,null,{"$f":"IF(内訳明細書1枚目!E4=\"\",\"\",内訳明細書1枚目!E4)","v":""}]
[null," (業者控)",null,null,null,null,null,null,null,null,null,null,null,null,null,null,null,"住所",null,null,{"$f":"IF(内訳明細書1枚目!U5=\"\",\"\",内訳明細書1枚目!U5)","v":""}]
[]
[null,"西暦",null,{"$f":"IF(内訳明細書1枚目!D7=\"\",\"\",内訳明細書1枚目!D7)","v":""},null,null,"年",{"$f":"IF(内訳明細書1枚目!H7=\"\",\"\",内訳明細書1枚目!H7)","v":""},null,"月",{"$f":"IF(内訳明細書1枚目!K7=\"\",\"\",内訳明細書1枚目!K7)","v":""},null,"日"]
[null,"工事番号",null,null,{"$f":"IF(内訳明細書1枚目!E8=\"\",\"\",内訳明細書1枚目!E8)","v":""},null,"―",{"$f":"IF(内訳明細書1枚目!H8=\"\",\"\",内訳明細書1枚目!H8)","v":""},null,null,null,null,null,null,null,null,null,"会社名",null,null,{"$f":"IF(内訳明細書1枚目!U8=\"\",\"\",内訳明細書1枚目!U8)","v":""},null,null,null,null,null,null,null,null,null,"印"]
[]
[null,"工事名",null,{"$f":"IF(内訳明細書1枚目!D10=\"\",\"\",内訳明細書1枚目!D10)","v":""}]
[null,null,null,null,null,null,null,null,null,null,null,null,null,null,null,null,null,"TEL",null,null,{"$f":"IF(内訳明細書1枚目!U11=\"\",\"\",内訳明細書1枚目!U11)","v":""}]
[]
[]
[null,"月","日","名称",null,null,null,null,null,null,null,"契約",null,null,null,null,null,null,null,null,null,null,"税率",null,"出来高"]
[null,null,null,null,null,null,null,null,null,null,null,"数量",null,null,"単価",null,null,"金額",null,null,null,null,null,null,"数量(％)",null,null,"金額"]
[null,null,null,null,null,null,null,null,null,null,null,null,null,null,null,null,null,{"$f":"IF(ROUND(L16*O16,0)=0,\"\",ROUND(L16*O16,0))","v":""},null,null,null,null,null,null,null,null,null,{"$f":"IFERROR(R16*Y16/100,\"\")","v":""},null,null,null,null,{"$f":"IF(W16=\"\",AB16*0.1,AB16*W16)","v":{"$error":"#VALUE!"}},{"$f":"IF(W16=\"\",R16*0.1,R16*W16)","v":{"$error":"#VALUE!"}}]
[null,null,null,null,null,null,null,null,null,null,null,null,null,null,null,null,null,{"$f":"IF(ROUND(L17*O17,0)=0,\"\",ROUND(L17*O17,0))","v":""},null,null,null,null,null,null,null,null,null,{"$f":"IFERROR(R17*Y17/100,\"\")","v":""},null,null,null,null,{"$f":"IF(W17=\"\",AB17*0.1,AB17*W17)","v":{"$error":"#VALUE!"}},{"$f":"IF(W17=\"\",R17*0.1,R17*W17)","v":{"$error":"#VALUE!"}}]
[null,null,null,null,null,null,null,null,null,null,null,null,null,null,null,null,null,"",null,null,null,null,null,null,null,null,null,"",null,null,null,null,{"$error":"#VALUE!"},{"$error":"#VALUE!"}]
[null,null,null,null,null,null,null,null,null,null,null,null,null,null,null,null,null,"",null,null,null,null,null,null,null,null,null,"",null,null,null,null,{"$error":"#VALUE!"},{"$error":"#VALUE!"}]
[null,null,null,null,null,null,null,null,null,null,null,null,null,null,null,null,null,"",null,null,null,null,null,null,null,null,null,"",null,null,null,null,{"$error":"#VALUE!"},{"$error":"#VALUE!"}]
[null,null,null,null,null,null,null,null,null,null,null,null,null,null,null,null,null,"",null,null,null,null,null,null,null,null,null,"",null,null,null,null,{"$error":"#VALUE!"},{"$error":"#VALUE!"}]
[null,null,null,null,null,null,null,null,null,null,null,null,null,null,null,null,null,"",null,null,null,null,null,null,null,null,null,"",null,null,null,null,{"$error":"#VALUE!"},{"$error":"#VALUE!"}]
[null,null,null,null,null,null,null,null,null,null,null,null,null,null,null,null,null,"",null,null,null,null,null,null,null,null,null,"",null,null,null,null,{"$error":"#VALUE!"},{"$error":"#VALUE!"}]
[null,null,null,null,null,null,null,null,null,null,null,null,null,null,null,null,null,"",null,null,null,null,null,null,null,null,null,"",null,null,null,null,{"$error":"#VALUE!"},{"$error":"#VALUE!"}]
[null,null,null,null,null,null,null,null,null,null,null,null,null,null,null,null,null,"",null,null,null,null,null,null,null,null,null,"",null,null,null,null,{"$error":"#VALUE!"},{"$error":"#VALUE!"}]
[null,null,null,null,null,null,null,null,null,null,null,null,null,null,null,null,null,"",null,null,null,null,null,null,null,null,null,"",null,null,null,null,{"$error":"#VALUE!"},{"$error":"#VALUE!"}]
[null,null,null,null,null,null,null,null,null,null,null,null,null,null,null,null,null,"",null,null,null,null,null,null,null,null,null,"",null,null,null,null,{"$error":"#VALUE!"},{"$error":"#VALUE!"}]
[null,null,null,null,null,null,null,null,null,null,null,null,null,null,null,null,null,"",null,null,null,null,null,null,null,null,null,"",null,null,null,null,{"$error":"#VALUE!"},{"$error":"#VALUE!"}]
[null,null,null,null,null,null,null,null,null,null,null,null,null,null,null,null,null,"",null,null,null,null,null,null,null,null,null,"",null,null,null,null,{"$error":"#VALUE!"},{"$error":"#VALUE!"}]
[null,null,null,null,null,null,null,null,null,null,null,null,null,null,null,null,null,"",null,null,null,null,null,null,null,null,null,"",null,null,null,null,{"$error":"#VALUE!"},{"$error":"#VALUE!"}]
[null,null,null,null,null,null,null,null,null,null,null,null,null,null,null,null,null,"",null,null,null,null,null,null,null,null,null,"",null,null,null,null,{"$error":"#VALUE!"},{"$error":"#VALUE!"}]
[null,"小計Ⓐ(税抜)",null,null,null,null,null,null,null,null,null,null,null,null,null,null,null,{"$f":"IF(内訳明細書9枚目!R16=\"\",SUM(R16:V31,内訳明細書1枚目!R16:V31,内訳明細書2枚目!R16:V31,内訳明細書3枚目!R16:V31,内訳明細書4枚目!R16:V31,内訳明細書5枚目!R16:V31,内訳明細書6枚目!R16:V31,内訳明細書7枚目!R16:V31),\"\")","v":0},null,null,null,null,null,null,null,null,null,{"$f":"IF(内訳明細書9枚目!R16=\"\",SUM(AB16:AF31,内訳明細書1枚目!AB16:AF31,内訳明細書2枚目!AB16:AF31,内訳明細書3枚目!AB16:AF31,内訳明細書4枚目!AB16:AF31,内訳明細書5枚目!AB16:AF31,内訳明細書6枚目!AB16:AF31,内訳明細書7枚目!AB16:AF31),\"\")","v":0}]
[null,"消費税額Ⓑ",null,null,null,null,null,null,null,null,null,null,null,null,null,null,null,{"$f":"IF(内訳明細書9枚目!R16=\"\",ROUND(_xlfn.AGGREGATE(9,6,内訳明細書1枚目!AH16:AH31,内訳明細書2枚目!AH16:AH31,内訳明細書3枚目!AH16:AH31,内訳明細書4枚目!AH16:AH31,内訳明細書5枚目!AH16:AH31,内訳明細書6枚目!AH16:AH31,内訳明細書7枚目!AH16:AH31,AH16:AH31),0),\"\")","v":0},null,null,null,null,null,null,null,null,null,{"$f":"IF(内訳明細書9枚目!R16=\"\",ROUND(_xlfn.AGGREGATE(9,6,内訳明細書1枚目!AG16:AG31,内訳明細書2枚目!AG16:AG31,内訳明細書3枚目!AG16:AG31,内訳明細書4枚目!AG16:AG31,内訳明細書5枚目!AG16:AG31,内訳明細書6枚目!AG16:AG31,内訳明細書7枚目!AG16:AG31,AG16:AG31),0),\"\")","v":0}]
[null,"合計Ⓒ(1-8枚目)",null,null,null,null,null,null,null,null,null,null,null,null,null,null,null,{"$f":"IF(内訳明細書9枚目!R16=\"\",_xlfn.AGGREGATE(9,6,内訳明細書1枚目!R16:V31,内訳明細書1枚目!AH16:AH31,内訳明細書2枚目!R16:V31,内訳明細書2枚目!AH16:AH31,内訳明細書3枚目!R16:V31,内訳明細書3枚目!AH16:AH31,内訳明細書4枚目!R16:V31,内訳明細書4枚目!AH16:AH31,内訳明細書5枚目!R16:V31,内訳明細書5枚目!AH16:AH31,内訳明細書6枚目!R16:V31,内訳明細書6枚目!AH16:AH31,内訳明細書7枚目!R16:V31,内訳明細書7枚目!AH16:AH31,R16:V31,AH16:AH31),\"\")","v":0},null,null,null,null,null,null,null,null,null,{"$f":"IF(内訳明細書9枚目!R16=\"\",_xlfn.AGGREGATE(9,6,内訳明細書1枚目!AB16:AF31,内訳明細書1枚目!AG16:AG31,内訳明細書2枚目!AB16:AF31,内訳明細書2枚目!AG16:AG31,内訳明細書3枚目!AB16:AF31,内訳明細書3枚目!AG16:AG31,内訳明細書4枚目!AB16:AF31,内訳明細書4枚目!AG16:AG31,内訳明細書5枚目!AB16:AF31,内訳明細書5枚目!AG16:AG31,内訳明細書6枚目!AB16:AF31,内訳明細書6枚目!AG16:AG31,内訳明細書7枚目!AB16:AF31,内訳明細書7枚目!AG16:AG31,AB16:AF31,AG16:AG31),\"\")","v":0}]
[]
[null,null,null,null,null,null,null,null,null,"請求内訳明細書"]
[]
[]
[null,null,null,null,null,null,"所属長",null,null,"担当",null,null,null,null,null,null,null,"西暦",null,{"$f":"IF(D7=\"\",\"\",D7)","v":""},null,null,"年",{"$f":"IF(H7=\"\",\"\",H7)","v":""},null,"月",{"$f":"IF(K7=\"\",\"\",K7)","v":""},null,"日"]
[null," (現場控)",null,null,null,null,null,null,null,null,null,null,null,null,null,null,null,"住所",null,null,{"$f":"IF(U5=\"\",\"\",U5)","v":""}]
[]
[]
[null,"工事番号",null,null,{"$f":"IF(E8=\"\",\"\",E8)","v":""},null,"―",{"$f":"IF(H8=\"\",\"\",H8)","v":""},null,null,null,null,null,null,null,null,null,"会社名",null,null,{"$f":"IF(U8=\"\",\"\",U8)","v":""},null,null,null,null,null,null,null,null,null,"印"]
[]
[null,"工事名",null,{"$f":"IF(D10=\"\",\"\",D10)","v":""}]
[null,null,null,null,null,null,null,null,null,null,null,null,null,null,null,null,null,"TEL",null,null,{"$f":"IF(U11=\"\",\"\",U11)","v":""}]
[]
[]
[null,"月","日","名称",null,null,null,null,null,null,null,"契約",null,null,null,null,null,null,null,null,null,null,"税率",null,"出来高"]
[null,null,null,null,null,null,null,null,null,null,null,"数量",null,null,"単価",null,null,"金額",null,null,null,null,null,null,"数量(％)",null,null,"金額"]
[null,{"$f":"IF(B16=\"\",\"\",B16)","v":""},{"$f":"IF(C16=\"\",\"\",C16)","v":""},{"$f":"IF(D16=\"\",\"\",D16)","v":""},null,null,null,null,null,null,null,{"$f":"IF(L16=\"\",\"\",L16)","v":""},null,null,{"$f":"IF(O16=\"\",\"\",O16)","v":""},null,null,{"$f":"IF(R16=\"\",\"\",R16)","v":""},null,null,null,null,{"$f":"IF(W16=\"\",\"\",W16)","v":""},null,{"$f":"IF(Y16=\"\",\"\",Y16)","v":""},null,null,{"$f":"IF(AB16=\"\",\"\",AB16)","v":""}]
[null,{"$f":"IF(B17=\"\",\"\",B17)","v":""},"","",null,null,null,null,null,null,null,{"$f":"IF(L17=\"\",\"\",L17)","v":""},null,null,{"$f":"IF(O17=\"\",\"\",O17)","v":""},null,null,{"$f":"IF(R17=\"\",\"\",R17)","v":""},null,null,null,null,{"$f":"IF(W17=\"\",\"\",W17)","v":""},null,{"$f":"IF(Y17=\"\",\"\",Y17)","v":""},null,null,{"$f":"IF(AB17=\"\",\"\",AB17)","v":""}]
[null,"","","",null,null,null,null,null,null,null,"",null,null,"",null,null,"",null,null,null,null,"",null,"",null,null,""]
[null,"","","",null,null,null,null,null,null,null,"",null,null,"",null,null,"",null,null,null,null,"",null,"",null,null,""]
[null,"","","",null,null,null,null,null,null,null,"",null,null,"",null,null,"",null,null,null,null,"",null,"",null,null,""]
[null,"","","",null,null,null,null,null,null,null,"",null,null,"",null,null,"",null,null,null,null,"",null,"",null,null,""]
[null,{"$f":"IF(B22=\"\",\"\",B22)","v":""},"","",null,null,null,null,null,null,null,"",null,null,"",null,null,"",null,null,null,null,"",null,"",null,null,""]
[null,{"$f":"IF(B23=\"\",\"\",B23)","v":""},"","",null,null,null,null,null,null,null,"",null,null,"",null,null,"",null,null,null,null,"",null,"",null,null,""]
[null,{"$f":"IF(B24=\"\",\"\",B24)","v":""},"","",null,null,null,null,null,null,null,"",null,null,"",null,null,"",null,null,null,null,"",null,"",null,null,""]
[null,{"$f":"IF(B25=\"\",\"\",B25)","v":""},"","",null,null,null,null,null,null,null,"",null,null,"",null,null,"",null,null,null,null,"",null,"",null,null,""]
[null,{"$f":"IF(B26=\"\",\"\",B26)","v":""},"","",null,null,null,null,null,null,null,"",null,null,"",null,null,"",null,null,null,null,"",null,"",null,null,""]
[null,{"$f":"IF(B27=\"\",\"\",B27)","v":""},"","",null,null,null,null,null,null,null,"",null,null,"",null,null,"",null,null,null,null,"",null,"",null,null,""]
[null,{"$f":"IF(B28=\"\",\"\",B28)","v":""},"","",null,null,null,null,null,null,null,"",null,null,"",null,null,"",null,null,null,null,"",null,"",null,null,""]
[null,{"$f":"IF(B29=\"\",\"\",B29)","v":""},"","",null,null,null,null,null,null,null,"",null,null,"",null,null,"",null,null,null,null,"",null,"",null,null,""]
[null,{"$f":"IF(B30=\"\",\"\",B30)","v":""},"","",null,null,null,null,null,null,null,"",null,null,"",null,null,"",null,null,null,null,"",null,"",null,null,""]
[null,{"$f":"IF(B31=\"\",\"\",B31)","v":""},"","",null,null,null,null,null,null,null,"",null,null,"",null,null,"",null,null,null,null,"",null,"",null,null,""]
[null,"小計Ⓐ(税抜)",null,null,null,null,null,null,null,null,null,null,null,null,null,null,null,{"$f":"IF(R32=\"\",\"\",R32)","v":0},null,null,null,null,null,null,null,null,null,{"$f":"IF(AB32=\"\",\"\",AB32)","v":0}]
[null,"消費税額Ⓑ",null,null,null,null,null,null,null,null,null,null,null,null,null,null,null,{"$f":"IF(R33=\"\",\"\",R33)","v":0},null,null,null,null,null,null,null,null,null,{"$f":"IF(AB33=\"\",\"\",AB33)","v":0}]
[null,"合計Ⓒ(1-8枚目)",null,null,null,null,null,null,null,null,null,null,null,null,null,null,null,{"$f":"IF(R34=\"\",\"\",R34)","v":0},null,null,null,null,null,null,null,null,null,{"$f":"IF(AB34=\"\",\"\",AB34)","v":0}]
[]
[null,null,null,null,null,null,null,null,null,"請求内訳明細書"]
[]
[]
[null,null,null,null,null,null,"所属長",null,null,"担当",null,null,null,null,null,null,null,"西暦",null,{"$f":"IF(D7=\"\",\"\",D7)","v":""},null,null,"年",{"$f":"IF(H7=\"\",\"\",H7)","v":""},null,"月",{"$f":"IF(K7=\"\",\"\",K7)","v":""},null,"日"]
[null," (経理控)",null,null,null,null,null,null,null,null,null,null,null,null,null,null,null,"住所",null,null,{"$f":"IF(U5=\"\",\"\",U5)","v":""}]
[]
[]
[null,"工事番号",null,null,{"$f":"IF(E8=\"\",\"\",E8)","v":""},null,"―",{"$f":"IF(H8=\"\",\"\",H8)","v":""},null,null,null,null,null,null,null,null,null,"会社名",null,null,{"$f":"IF(U8=\"\",\"\",U8)","v":""},null,null,null,null,null,null,null,null,null,"印"]
[]
[null,"工事名",null,{"$f":"IF(D10=\"\",\"\",D10)","v":""}]
[null,null,null,null,null,null,null,null,null,null,null,null,null,null,null,null,null,"TEL",null,null,{"$f":"IF(U11=\"\",\"\",U11)","v":""}]
[]
[]
[null,"月","日","名称",null,null,null,null,null,null,null,"契約",null,null,null,null,null,null,null,null,null,null,"税率",null,"出来高"]
[null,null,null,null,null,null,null,null,null,null,null,"数量",null,null,"単価",null,null,"金額",null,null,null,null,null,null,"数量(％)",null,null,"金額"]
[null,{"$f":"IF(B16=\"\",\"\",B16)","v":""},{"$f":"IF(C16=\"\",\"\",C16)","v":""},{"$f":"IF(D16=\"\",\"\",D16)","v":""},null,null,null,null,null,null,null,{"$f":"IF(L16=\"\",\"\",L16)","v":""},null,null,{"$f":"IF(O16=\"\",\"\",O16)","v":""},null,null,{"$f":"IF(R16=\"\",\"\",R16)","v":""},null,null,null,null,{"$f":"IF(W16=\"\",\"\",W16)","v":""},null,{"$f":"IF(Y16=\"\",\"\",Y16)","v":""},null,null,{"$f":"IF(AB16=\"\",\"\",AB16)","v":""}]
[null,{"$f":"IF(B17=\"\",\"\",B17)","v":""},"","",null,null,null,null,null,null,null,"",null,null,{"$f":"IF(O17=\"\",\"\",O17)","v":""},null,null,{"$f":"IF(R17=\"\",\"\",R17)","v":""},null,null,null,null,{"$f":"IF(W17=\"\",\"\",W17)","v":""},null,{"$f":"IF(Y17=\"\",\"\",Y17)","v":""},null,null,{"$f":"IF(AB17=\"\",\"\",AB17)","v":""}]
[null,"","","",null,null,null,null,null,null,null,"",null,null,"",null,null,"",null,null,null,null,"",null,"",null,null,""]
[null,"","","",null,null,null,null,null,null,null,"",null,null,"",null,null,"",null,null,null,null,"",null,"",null,null,""]
[null,"","","",null,null,null,null,null,null,null,"",null,null,"",null,null,"",null,null,null,null,"",null,"",null,null,""]
[null,"","","",null,null,null,null,null,null,null,"",null,null,"",null,null,"",null,null,null,null,"",null,"",null,null,""]
[null,"","","",null,null,null,null,null,null,null,"",null,null,"",null,null,"",null,null,null,null,"",null,"",null,null,""]
[null,"","","",null,null,null,null,null,null,null,"",null,null,"",null,null,"",null,null,null,null,"",null,"",null,null,""]
[null,"","","",null,null,null,null,null,null,null,"",null,null,"",null,null,"",null,null,null,null,"",null,"",null,null,""]
[null,"","","",null,null,null,null,null,null,null,"",null,null,"",null,null,"",null,null,null,null,"",null,"",null,null,""]
[null,"","","",null,null,null,null,null,null,null,"",null,null,"",null,null,"",null,null,null,null,"",null,"",null,null,""]
[null,"","","",null,null,null,null,null,null,null,"",null,null,"",null,null,"",null,null,null,null,"",null,"",null,null,""]
[null,"","","",null,null,null,null,null,null,null,"",null,null,"",null,null,"",null,null,null,null,"",null,"",null,null,""]
[null,"","","",null,null,null,null,null,null,null,"",null,null,"",null,null,"",null,null,null,null,"",null,"",null,null,""]
[null,"","","",null,null,null,null,null,null,null,"",null,null,"",null,null,"",null,null,null,null,"",null,"",null,null,""]
[null,"","","",null,null,null,null,null,null,null,"",null,null,"",null,null,"",null,null,null,null,"",null,"",null,null,""]
[null,"小計Ⓐ(税抜)",null,null,null,null,null,null,null,null,null,null,null,null,null,null,null,{"$f":"IF(R32=\"\",\"\",R32)","v":0},null,null,null,null,null,null,null,null,null,{"$f":"IF(AB32=\"\",\"\",AB32)","v":0}]
[null,"消費税額Ⓑ",null,null,null,null,null,null,null,null,null,null,null,null,null,null,null,{"$f":"IF(R33=\"\",\"\",R33)","v":0},null,null,null,null,null,null,null,null,null,{"$f":"IF(AB33=\"\",\"\",AB33)","v":0}]
[null,"合計Ⓒ(1-8枚目)",null,null,null,null,null,null,null,null,null,null,null,null,null,null,null,{"$f":"IF(R34=\"\",\"\",R34)","v":0},null,null,null,null,null,null,null,null,null,{"$f":"IF(AB34=\"\",\"\",AB34)","v":0}]

{"sheet":"内訳明細書9枚目","index":10,"n_rows":104,"n_cols":34,"rows_kept":104,"cut":false,"hidden":true,"merged":[[0,4,0,7],[1,4,1,7],[2,4,2,7],[3,4,3,14],[4,1,4,3],[4,17,6,19],[4,20,6,31],[6,1,6,2],[6,3,6,5],[0,9,2,22],[7,17,9,19],[7,30,9,31],[9,1,11,2],[9,3,11,15],[10,17,11,19],[10,20,11,31],[6,7,6,8],[6,10,6,11],[7,1,8,3],[7,4,8,5],[7,6,8,6],[7,7,8,8],[7,20,9,29],[14,27,14,31],[15,3,15,10],[15,11,15,13],[15,14,15,16],[15,17,15,21],[15,22,15,23],[15,24,15,26],[15,27,15,31],[13,1,14,1],[13,2,14,2],[13,3,14,10],[13,11,13,21],[13,22,14,23],[13,24,13,31],[14,11,14,13],[14,14,14,16],[14,17,14,21],[14,24,14,26],[16,27,16,31],[17,3,17,10],[17,11,17,13],[17,14,17,16],[17,17,17,21],[17,22,17,23],[17,24,17,26],[17,27,17,31],[16,3,16,10],[16,11,16,13],[16,14,16,16],[16,17,16,21],[16,22,16,23],[16,24,16,26],[18,27,18,31],[19,3,19,10],[19,11,19,13],[19,14,19,16],[19,17,19,21],[19,22,19,23],[19,24,19,26],[19,27,19,31],[18,3,18,10],[18,11,18,13],[18,14,18,16],[18,17,18,21],[18,22,18,23],[18,24,18,26],[20,27,20,31],[21,3,21,10],[21,11,21,13],[21,14,21,16],[21,17,21,21],[21,22,21,23],[21,24,21,26],[21,27,21,31],[20,3,20,10],[20,11,20,13],[20,14,20,16],[20,17,20,21],[20,22,20,23],[20,24,20,26],[22,27,22,31],[23,3,23,10],[23,11,23,13],[23,14,23,16],[23,17,23,21],[23,22,23,23],[23,24,23,26],[23,27,23,31],[22,3,22,10],[22,11,22,13],[22,14,22,16],[22,17,22,21],[22,22,22,23],[22,24,22,26],[24,27,24,31],[25,3,25,10],[25,11,25,13],[25,14,25,16],[25,17,25,21],[25,22,25,23],[25,24,25,26],[25,27,25,31],[24,3,24,10],[24,11,24,13],[24,14,24,16],[24,17,24,21],[24,22,24,23],[24,24,24,26],[26,27,26,31],[27,3,27,10],[27,11,27,13],[27,14,27,16],[27,17,27,21],[27,22,27,23],[27,24,27,26],[27,27,27,31],[26,3,26,10],[26,11,26,13],[26,14,26,16],[26,17,26,21],[26,22,26,23],[26,24,26,26],[28,27,28,31],[29,3,29,10],[29,11,29,13],[29,14,29,16],[29,17,29,21],[29,22,29,23],[29,24,29,26],[29,27,29,31],[28,3,28,10],[28,11,28,13],[28,14,28,16],[28,17,28,21],[28,22,28,23],[28,24,28,26],[30,27,30,31],[31,1,31,16],[31,17,31,21],[31,22,33,26],[31,27,31,31],[32,1,32,16],[32,17,32,21],[32,27,32,31],[33,1,33,16],[33,17,33,21],[30,3,30,10],[30,11,30,13],[30,14,30,16],[30,17,30,21],[30,22,30,23],[30,24,30,26],[39,1,39,3],[39,17,41,19],[39,20,41,31],[33,27,33,31],[38,17,38,18],[38,19,38,21],[38,23,38,24],[38,26,38,27],[35,9,37,22],[39,9,40,11],[39,6,40,8],[38,9,38,11],[38,6,38,8],[48,24,48,31],[49,11,49,13],[49,14,49,16],[49,17,49,21],[49,24,49,26],[49,27,49,31],[42,30,44,31],[44,1,46,2],[44,3,46,15],[45,17,46,19],[45,20,46,31],[48,1,49,1],[48,2,49,2],[48,3,49,10],[48,11,48,21],[48,22,49,23],[42,1,43,3],[42,4,43,5],[42,6,43,6],[42,7,43,8],[42,17,44,19],[42,20,44,29],[50,27,50,31],[51,3,51,10],[51,11,51,13],[51,14,51,16],[51,17,51,21],[51,22,51,23],[51,24,51,26],[51,27,51,31],[50,3,50,10],[50,11,50,13],[50,14,50,16],[50,17,50,21],[50,22,50,23],[50,24,50,26],[52,27,52,31],[53,3,53,10],[53,11,53,13],[53,14,53,16],[53,17,53,21],[53,22,53,23],[53,24,53,26],[53,27,53,31],[52,3,52,10],[52,11,52,13],[52,14,52,16],[52,17,52,21],[52,22,52,23],[52,24,52,26],[54,27,54,31],[55,3,55,10],[55,11,55,13],[55,14,55,16],[55,17,55,21],[55,22,55,23],[55,24,55,26],[55,27,55,31],[54,3,54,10],[54,11,54,13],[54,14,54,16],[54,17,54,21],[54,22,54,23],[54,24,54,26],[56,27,56,31],[57,3,57,10],[57,11,57,13],[57,14,57,16],[57,17,57,21],[57,22,57,23],[57,24,57,26],[57,27,57,31],[56,3,56,10],[56,11,56,13],[56,14,56,16],[56,17,56,21],[56,22,56,23],[56,24,56,26],[58,27,58,31],[59,3,59,10],[59,11,59,13],[59,14,59,16],[59,17,59,21],[59,22,59,23],[59,24,59,26],[59,27,59,31],[58,3,58,10],[58,11,58,13],[58,14,58,16],[58,17,58,21],[58,22,58,23],[58,24,58,26],[60,27,60,31],[61,3,61,10],[61,11,61,13],[61,14,61,16],[61,17,61,21],[61,22,61,23],[61,24,61,26],[61,27,61,31],[60,3,60,10],[60,11,60,13],[60,14,60,16],[60,17,60,21],[60,22,60,23],[60,24,60,26],[62,27,62,31],[63,3,63,10],[63,11,63,13],[63,14,63,16],[63,17,63,21],[63,22,63,23],[63,24,63,26],[63,27,63,31],[62,3,62,10],[62,11,62,13],[62,14,62,16],[62,17,62,21],[62,22,62,23],[62,24,62,26],[64,27,64,31],[65,3,65,10],[65,11,65,13],[65,14,65,16],[65,17,65,21],[65,22,65,23],[65,24,65,26],[65,27,65,31],[64,3,64,10],[64,11,64,13],[64,14,64,16],[64,17,64,21],[64,22,64,23],[64,24,64,26],[70,9,72,22],[66,1,66,16],[66,17,66,21],[66,22,68,26],[66,27,66,31],[67,1,67,16],[67,17,67,21],[67,27,67,31],[68,1,68,16],[68,17,68,21],[68,27,68,31],[73,23,73,24],[73,26,73,27],[74,1,74,3],[74,17,76,19],[74,20,76,31],[73,17,73,18],[73,19,73,21],[74,9,75,11],[74,6,75,8],[73,9,73,11],[73,6,73,8],[83,24,83,31],[84,11,84,13],[84,14,84,16],[84,17,84,21],[84,24,84,26],[84,27,84,31],[77,30,79,31],[79,1,81,2],[79,3,81,15],[80,17,81,19],[80,20,81,31],[83,1,84,1],[83,2,84,2],[83,3,84,10],[83,11,83,21],[83,22,84,23],[77,1,78,3],[77,4,78,5],[77,6,78,6],[77,7,78,8],[77,17,79,19],[77,20,79,29],[85,27,85,31],[86,3,86,10],[86,11,86,13],[86,14,86,16],[86,17,86,21],[86,22,86,23],[86,24,86,26],[86,27,86,31],[85,3,85,10],[85,11,85,13],[85,14,85,16],[85,17,85,21],[85,22,85,23],[85,24,85,26],[87,27,87,31],[88,3,88,10],[88,11,88,13],[88,14,88,16],[88,17,88,21],[88,22,88,23],[88,24,88,26],[88,27,88,31],[87,3,87,10],[87,11,87,13],[87,14,87,16],[87,17,87,21],[87,22,87,23],[87,24,87,26],[89,27,89,31],[90,3,90,10],[90,11,90,13],[90,14,90,16],[90,17,90,21],[90,22,90,23],[90,24,90,26],[90,27,90,31],[89,3,89,10],[89,11,89,13],[89,14,89,16],[89,17,89,21],[89,22,89,23],[89,24,89,26],[91,27,91,31],[92,3,92,10],[92,11,92,13],[92,14,92,16],[92,17,92,21],[92,22,92,23],[92,24,92,26],[92,27,92,31],[91,3,91,10],[91,11,91,13],[91,14,91,16],[91,17,91,21],[91,22,91,23],[91,24,91,26],[93,27,93,31],[94,3,94,10],[94,11,94,13],[94,14,94,16],[94,17,94,21],[94,22,94,23],[94,24,94,26],[94,27,94,31],[93,3,93,10],[93,11,93,13],[93,14,93,16],[93,17,93,21],[93,22,93,23],[93,24,93,26],[95,27,95,31],[96,3,96,10],[96,11,96,13],[96,14,96,16],[96,17,96,21],[96,22,96,23],[96,24,96,26],[96,27,96,31],[95,3,95,10],[95,11,95,13],[95,14,95,16],[95,17,95,21],[95,22,95,23],[95,24,95,26],[97,27,97,31],[98,3,98,10],[98,11,98,13],[98,14,98,16],[98,17,98,21],[98,22,98,23],[98,24,98,26],[98,27,98,31],[97,3,97,10],[97,11,97,13],[97,14,97,16],[97,17,97,21],[97,22,97,23],[97,24,97,26],[99,27,99,31],[100,3,100,10],[100,11,100,13],[100,14,100,16],[100,17,100,21],[100,22,100,23],[100,24,100,26],[100,27,100,31],[99,3,99,10],[99,11,99,13],[99,14,99,16],[99,17,99,21],[99,22,99,23],[99,24,99,26],[101,1,101,16],[101,17,101,21],[101,22,103,26],[101,27,101,31],[102,1,102,16],[102,17,102,21],[102,27,102,31],[103,1,103,16],[103,17,103,21],[103,27,103,31]]}
[null,null,null,null,"業者コード",null,null,null,null,"請求内訳明細書"]
[null,null,null,null,{"$f":"IF(内訳明細書1枚目!E2=\"\",\"\",内訳明細書1枚目!E2)","v":""}]
[null,null,null,null,"登録番号"]
[null,null,null,null,{"$f":"IF(内訳明細書1枚目!E4=\"\",\"\",内訳明細書1枚目!E4)","v":""}]
[null," (業者控)",null,null,null,null,null,null,null,null,null,null,null,null,null,null,null,"住所",null,null,{"$f":"IF(内訳明細書1枚目!U5=\"\",\"\",内訳明細書1枚目!U5)","v":""}]
[]
[null,"西暦",null,{"$f":"IF(内訳明細書1枚目!D7=\"\",\"\",内訳明細書1枚目!D7)","v":""},null,null,"年",{"$f":"IF(内訳明細書1枚目!H7=\"\",\"\",内訳明細書1枚目!H7)","v":""},null,"月",{"$f":"IF(内訳明細書1枚目!K7=\"\",\"\",内訳明細書1枚目!K7)","v":""},null,"日"]
[null,"工事番号",null,null,{"$f":"IF(内訳明細書1枚目!E8=\"\",\"\",内訳明細書1枚目!E8)","v":""},null,"―",{"$f":"IF(内訳明細書1枚目!H8=\"\",\"\",内訳明細書1枚目!H8)","v":""},null,null,null,null,null,null,null,null,null,"会社名",null,null,{"$f":"IF(内訳明細書1枚目!U8=\"\",\"\",内訳明細書1枚目!U8)","v":""},null,null,null,null,null,null,null,null,null,"印"]
[]
[null,"工事名",null,{"$f":"IF(内訳明細書1枚目!D10=\"\",\"\",内訳明細書1枚目!D10)","v":""}]
[null,null,null,null,null,null,null,null,null,null,null,null,null,null,null,null,null,"TEL",null,null,{"$f":"IF(内訳明細書1枚目!U11=\"\",\"\",内訳明細書1枚目!U11)","v":""}]
[]
[]
[null,"月","日","名称",null,null,null,null,null,null,null,"契約",null,null,null,null,null,null,null,null,null,null,"税率",null,"出来高"]
[null,null,null,null,null,null,null,null,null,null,null,"数量",null,null,"単価",null,null,"金額",null,null,null,null,null,null,"数量(％)",null,null,"金額"]
[null,null,null,null,null,null,null,null,null,null,null,null,null,null,null,null,null,{"$f":"IF(ROUND(L16*O16,0)=0,\"\",ROUND(L16*O16,0))","v":""},null,null,null,null,null,null,null,null,null,{"$f":"IFERROR(R16*Y16/100,\"\")","v":""},null,null,null,null,{"$f":"IF(W16=\"\",AB16*0.1,AB16*W16)","v":{"$error":"#VALUE!"}},{"$f":"IF(W16=\"\",R16*0.1,R16*W16)","v":{"$error":"#VALUE!"}}]
[null,null,null,null,null,null,null,null,null,null,null,null,null,null,null,null,null,{"$f":"IF(ROUND(L17*O17,0)=0,\"\",ROUND(L17*O17,0))","v":""},null,null,null,null,null,null,null,null,null,{"$f":"IFERROR(R17*Y17/100,\"\")","v":""},null,null,null,null,{"$f":"IF(W17=\"\",AB17*0.1,AB17*W17)","v":{"$error":"#VALUE!"}},{"$f":"IF(W17=\"\",R17*0.1,R17*W17)","v":{"$error":"#VALUE!"}}]
[null,null,null,null,null,null,null,null,null,null,null,null,null,null,null,null,null,"",null,null,null,null,null,null,null,null,null,"",null,null,null,null,{"$error":"#VALUE!"},{"$error":"#VALUE!"}]
[null,null,null,null,null,null,null,null,null,null,null,null,null,null,null,null,null,"",null,null,null,null,null,null,null,null,null,"",null,null,null,null,{"$error":"#VALUE!"},{"$error":"#VALUE!"}]
[null,null,null,null,null,null,null,null,null,null,null,null,null,null,null,null,null,"",null,null,null,null,null,null,null,null,null,"",null,null,null,null,{"$error":"#VALUE!"},{"$error":"#VALUE!"}]
[null,null,null,null,null,null,null,null,null,null,null,null,null,null,null,null,null,"",null,null,null,null,null,null,null,null,null,"",null,null,null,null,{"$error":"#VALUE!"},{"$error":"#VALUE!"}]
[null,null,null,null,null,null,null,null,null,null,null,null,null,null,null,null,null,"",null,null,null,null,null,null,null,null,null,"",null,null,null,null,{"$error":"#VALUE!"},{"$error":"#VALUE!"}]
[null,null,null,null,null,null,null,null,null,null,null,null,null,null,null,null,null,"",null,null,null,null,null,null,null,null,null,"",null,null,null,null,{"$error":"#VALUE!"},{"$error":"#VALUE!"}]
[null,null,null,null,null,null,null,null,null,null,null,null,null,null,null,null,null,"",null,null,null,null,null,null,null,null,null,"",null,null,null,null,{"$error":"#VALUE!"},{"$error":"#VALUE!"}]
[null,null,null,null,null,null,null,null,null,null,null,null,null,null,null,null,null,"",null,null,null,null,null,null,null,null,null,"",null,null,null,null,{"$error":"#VALUE!"},{"$error":"#VALUE!"}]
[null,null,null,null,null,null,null,null,null,null,null,null,null,null,null,null,null,"",null,null,null,null,null,null,null,null,null,"",null,null,null,null,{"$error":"#VALUE!"},{"$error":"#VALUE!"}]
[null,null,null,null,null,null,null,null,null,null,null,null,null,null,null,null,null,"",null,null,null,null,null,null,null,null,null,"",null,null,null,null,{"$error":"#VALUE!"},{"$error":"#VALUE!"}]
[null,null,null,null,null,null,null,null,null,null,null,null,null,null,null,null,null,"",null,null,null,null,null,null,null,null,null,"",null,null,null,null,{"$error":"#VALUE!"},{"$error":"#VALUE!"}]
[null,null,null,null,null,null,null,null,null,null,null,null,null,null,null,null,null,"",null,null,null,null,null,null,null,null,null,"",null,null,null,null,{"$error":"#VALUE!"},{"$error":"#VALUE!"}]
[null,null,null,null,null,null,null,null,null,null,null,null,null,null,null,null,null,"",null,null,null,null,null,null,null,null,null,"",null,null,null,null,{"$error":"#VALUE!"},{"$error":"#VALUE!"}]
[null,null,null,null,null,null,null,null,null,null,null,null,null,null,null,null,null,"",null,null,null,null,null,null,null,null,null,"",null,null,null,null,{"$error":"#VALUE!"},{"$error":"#VALUE!"}]
[null,"小計Ⓐ(税抜)",null,null,null,null,null,null,null,null,null,null,null,null,null,null,null,{"$f":"IF(内訳明細書10枚目!R16=\"\",SUM(R16:V31,内訳明細書1枚目!R16:V31,内訳明細書2枚目!R16:V31,内訳明細書3枚目!R16:V31,内訳明細書4枚目!R16:V31,内訳明細書5枚目!R16:V31,内訳明細書6枚目!R16:V31,内訳明細書7枚目!R16:V31,内訳明細書8枚目!R16:V31),\"\")","v":0},null,null,null,null,null,null,null,null,null,{"$f":"IF(内訳明細書10枚目!R16=\"\",SUM(AB16:AF31,内訳明細書1枚目!AB16:AF31,内訳明細書2枚目!AB16:AF31,内訳明細書3枚目!AB16:AF31,内訳明細書4枚目!AB16:AF31,内訳明細書5枚目!AB16:AF31,内訳明細書6枚目!AB16:AF31,内訳明細書7枚目!AB16:AF31,内訳明細書8枚目!AB16:AF31),\"\")","v":0}]
[null,"消費税額Ⓑ",null,null,null,null,null,null,null,null,null,null,null,null,null,null,null,{"$f":"IF(内訳明細書10枚目!R16=\"\",ROUND(_xlfn.AGGREGATE(9,6,内訳明細書1枚目!AH16:AH31,内訳明細書2枚目!AH16:AH31,内訳明細書3枚目!AH16:AH31,内訳明細書4枚目!AH16:AH31,内訳明細書5枚目!AH16:AH31,内訳明細書6枚目!AH16:AH31,内訳明細書7枚目!AH16:AH31,内訳明細書8枚目!AH16:AH31,AH16:AH31),0),\"\")","v":0},null,null,null,null,null,null,null,null,null,{"$f":"IF(内訳明細書10枚目!R16=\"\",ROUND(_xlfn.AGGREGATE(9,6,内訳明細書1枚目!AG16:AG31,内訳明細書2枚目!AG16:AG31,内訳明細書3枚目!AG16:AG31,内訳明細書4枚目!AG16:AG31,内訳明細書5枚目!AG16:AG31,内訳明細書6枚目!AG16:AG31,内訳明細書7枚目!AG16:AG31,内訳明細書8枚目!AG16:AG31,AG16:AG31),0),\"\")","v":0}]
[null,"合計Ⓒ(1-9枚目)",null,null,null,null,null,null,null,null,null,null,null,null,null,null,null,{"$f":"IF(内訳明細書10枚目!R16=\"\",_xlfn.AGGREGATE(9,6,内訳明細書1枚目!R16:V31,内訳明細書1枚目!AH16:AH31,内訳明細書2枚目!R16:V31,内訳明細書2枚目!AH16:AH31,内訳明細書3枚目!R16:V31,内訳明細書3枚目!AH16:AH31,内訳明細書4枚目!R16:V31,内訳明細書4枚目!AH16:AH31,内訳明細書5枚目!R16:V31,内訳明細書5枚目!AH16:AH31,内訳明細書6枚目!R16:V31,内訳明細書6枚目!AH16:AH31,内訳明細書7枚目!R16:V31,内訳明細書7枚目!AH16:AH31,内訳明細書8枚目!R16:V31,内訳明細書8枚目!AH16:AH31,R16:V31,AH16:AH31),\"\")","v":0},null,null,null,null,null,null,null,null,null,{"$f":"IF(内訳明細書10枚目!R16=\"\",_xlfn.AGGREGATE(9,6,内訳明細書1枚目!AB16:AF31,内訳明細書1枚目!AG16:AG31,内訳明細書2枚目!AB16:AF31,内訳明細書2枚目!AG16:AG31,内訳明細書3枚目!AB16:AF31,内訳明細書3枚目!AG16:AG31,内訳明細書4枚目!AB16:AF31,内訳明細書4枚目!AG16:AG31,内訳明細書5枚目!AB16:AF31,内訳明細書5枚目!AG16:AG31,内訳明細書6枚目!AB16:AF31,内訳明細書6枚目!AG16:AG31,内訳明細書7枚目!AB16:AF31,内訳明細書7枚目!AG16:AG31,内訳明細書8枚目!AB16:AF31,内訳明細書8枚目!AG16:AG31,AB16:AF31,AG16:AG31),\"\")","v":0}]
[]
[null,null,null,null,null,null,null,null,null,"請求内訳明細書"]
[]
[]
[null,null,null,null,null,null,"所属長",null,null,"担当",null,null,null,null,null,null,null,"西暦",null,{"$f":"IF(D7=\"\",\"\",D7)","v":""},null,null,"年",{"$f":"IF(H7=\"\",\"\",H7)","v":""},null,"月",{"$f":"IF(K7=\"\",\"\",K7)","v":""},null,"日"]
[null," (現場控)",null,null,null,null,null,null,null,null,null,null,null,null,null,null,null,"住所",null,null,{"$f":"IF(U5=\"\",\"\",U5)","v":""}]
[]
[]
[null,"工事番号",null,null,{"$f":"IF(E8=\"\",\"\",E8)","v":""},null,"―",{"$f":"IF(H8=\"\",\"\",H8)","v":""},null,null,null,null,null,null,null,null,null,"会社名",null,null,{"$f":"IF(U8=\"\",\"\",U8)","v":""},null,null,null,null,null,null,null,null,null,"印"]
[]
[null,"工事名",null,{"$f":"IF(D10=\"\",\"\",D10)","v":""}]
[null,null,null,null,null,null,null,null,null,null,null,null,null,null,null,null,null,"TEL",null,null,{"$f":"IF(U11=\"\",\"\",U11)","v":""}]
[]
[]
[null,"月","日","名称",null,null,null,null,null,null,null,"契約",null,null,null,null,null,null,null,null,null,null,"税率",null,"出来高"]
[null,null,null,null,null,null,null,null,null,null,null,"数量",null,null,"単価",null,null,"金額",null,null,null,null,null,null,"数量(％)",null,null,"金額"]
[null,{"$f":"IF(B16=\"\",\"\",B16)","v":""},{"$f":"IF(C16=\"\",\"\",C16)","v":""},{"$f":"IF(D16=\"\",\"\",D16)","v":""},null,null,null,null,null,null,null,{"$f":"IF(L16=\"\",\"\",L16)","v":""},null,null,{"$f":"IF(O16=\"\",\"\",O16)","v":""},null,null,{"$f":"IF(R16=\"\",\"\",R16)","v":""},null,null,null,null,{"$f":"IF(W16=\"\",\"\",W16)","v":""},null,{"$f":"IF(Y16=\"\",\"\",Y16)","v":""},null,null,{"$f":"IF(AB16=\"\",\"\",AB16)","v":""}]
[null,{"$f":"IF(B17=\"\",\"\",B17)","v":""},"","",null,null,null,null,null,null,null,{"$f":"IF(L17=\"\",\"\",L17)","v":""},null,null,{"$f":"IF(O17=\"\",\"\",O17)","v":""},null,null,{"$f":"IF(R17=\"\",\"\",R17)","v":""},null,null,null,null,{"$f":"IF(W17=\"\",\"\",W17)","v":""},null,{"$f":"IF(Y17=\"\",\"\",Y17)","v":""},null,null,{"$f":"IF(AB17=\"\",\"\",AB17)","v":""}]
[null,"","","",null,null,null,null,null,null,null,"",null,null,"",null,null,"",null,null,null,null,"",null,"",null,null,""]
[null,"","","",null,null,null,null,null,null,null,"",null,null,"",null,null,"",null,null,null,null,"",null,"",null,null,""]
[null,"","","",null,null,null,null,null,null,null,"",null,null,"",null,null,"",null,null,null,null,"",null,"",null,null,""]
[null,"","","",null,null,null,null,null,null,null,"",null,null,"",null,null,"",null,null,null,null,"",null,"",null,null,""]
[null,"","","",null,null,null,null,null,null,null,"",null,null,"",null,null,"",null,null,null,null,"",null,"",null,null,""]
[null,"","","",null,null,null,null,null,null,null,"",null,null,"",null,null,"",null,null,null,null,"",null,"",null,null,""]
[null,"","","",null,null,null,null,null,null,null,"",null,null,"",null,null,"",null,null,null,null,"",null,"",null,null,""]
[null,"","","",null,null,null,null,null,null,null,"",null,null,"",null,null,"",null,null,null,null,"",null,"",null,null,""]
[null,"","","",null,null,null,null,null,null,null,"",null,null,"",null,null,"",null,null,null,null,"",null,"",null,null,""]
[null,"","","",null,null,null,null,null,null,null,"",null,null,"",null,null,"",null,null,null,null,"",null,"",null,null,""]
[null,"","","",null,null,null,null,null,null,null,"",null,null,"",null,null,"",null,null,null,null,"",null,"",null,null,""]
[null,"","","",null,null,null,null,null,null,null,"",null,null,"",null,null,"",null,null,null,null,"",null,"",null,null,""]
[null,"","","",null,null,null,null,null,null,null,"",null,null,"",null,null,"",null,null,null,null,"",null,"",null,null,""]
[null,"","","",null,null,null,null,null,null,null,"",null,null,"",null,null,"",null,null,null,null,"",null,"",null,null,""]
[null,"小計Ⓐ(税抜)",null,null,null,null,null,null,null,null,null,null,null,null,null,null,null,{"$f":"IF(R32=\"\",\"\",R32)","v":0},null,null,null,null,null,null,null,null,null,{"$f":"IF(AB32=\"\",\"\",AB32)","v":0}]
[null,"消費税額Ⓑ",null,null,null,null,null,null,null,null,null,null,null,null,null,null,null,{"$f":"IF(R33=\"\",\"\",R33)","v":0},null,null,null,null,null,null,null,null,null,{"$f":"IF(AB33=\"\",\"\",AB33)","v":0}]
[null,"合計Ⓒ(1-9枚目)",null,null,null,null,null,null,null,null,null,null,null,null,null,null,null,{"$f":"IF(R34=\"\",\"\",R34)","v":0},null,null,null,null,null,null,null,null,null,{"$f":"IF(AB34=\"\",\"\",AB34)","v":0}]
[]
[null,null,null,null,null,null,null,null,null,"請求内訳明細書"]
[]
[]
[null,null,null,null,null,null,"所属長",null,null,"担当",null,null,null,null,null,null,null,"西暦",null,{"$f":"IF(D7=\"\",\"\",D7)","v":""},null,null,"年",{"$f":"IF(H7=\"\",\"\",H7)","v":""},null,"月",{"$f":"IF(K7=\"\",\"\",K7)","v":""},null,"日"]
[null," (経理控)",null,null,null,null,null,null,null,null,null,null,null,null,null,null,null,"住所",null,null,{"$f":"IF(U5=\"\",\"\",U5)","v":""}]
[]
[]
[null,"工事番号",null,null,{"$f":"IF(E8=\"\",\"\",E8)","v":""},null,"―",{"$f":"IF(H8=\"\",\"\",H8)","v":""},null,null,null,null,null,null,null,null,null,"会社名",null,null,{"$f":"IF(U8=\"\",\"\",U8)","v":""},null,null,null,null,null,null,null,null,null,"印"]
[]
[null,"工事名",null,{"$f":"IF(D10=\"\",\"\",D10)","v":""}]
[null,null,null,null,null,null,null,null,null,null,null,null,null,null,null,null,null,"TEL",null,null,{"$f":"IF(U11=\"\",\"\",U11)","v":""}]
[]
[]
[null,"月","日","名称",null,null,null,null,null,null,null,"契約",null,null,null,null,null,null,null,null,null,null,"税率",null,"出来高"]
[null,null,null,null,null,null,null,null,null,null,null,"数量",null,null,"単価",null,null,"金額",null,null,null,null,null,null,"数量(％)",null,null,"金額"]
[null,{"$f":"IF(B16=\"\",\"\",B16)","v":""},{"$f":"IF(C16=\"\",\"\",C16)","v":""},{"$f":"IF(D16=\"\",\"\",D16)","v":""},null,null,null,null,null,null,null,{"$f":"IF(L16=\"\",\"\",L16)","v":""},null,null,{"$f":"IF(O16=\"\",\"\",O16)","v":""},null,null,{"$f":"IF(R16=\"\",\"\",R16)","v":""},null,null,null,null,{"$f":"IF(W16=\"\",\"\",W16)","v":""},null,{"$f":"IF(Y16=\"\",\"\",Y16)","v":""},null,null,{"$f":"IF(AB16=\"\",\"\",AB16)","v":""}]
[null,{"$f":"IF(B17=\"\",\"\",B17)","v":""},"","",null,null,null,null,null,null,null,"",null,null,{"$f":"IF(O17=\"\",\"\",O17)","v":""},null,null,{"$f":"IF(R17=\"\",\"\",R17)","v":""},null,null,null,null,{"$f":"IF(W17=\"\",\"\",W17)","v":""},null,{"$f":"IF(Y17=\"\",\"\",Y17)","v":""},null,null,{"$f":"IF(AB17=\"\",\"\",AB17)","v":""}]
[null,"","","",null,null,null,null,null,null,null,"",null,null,"",null,null,"",null,null,null,null,"",null,"",null,null,""]
[null,"","","",null,null,null,null,null,null,null,"",null,null,"",null,null,"",null,null,null,null,"",null,"",null,null,""]
[null,"","","",null,null,null,null,null,null,null,"",null,null,"",null,null,"",null,null,null,null,"",null,"",null,null,""]
[null,"","","",null,null,null,null,null,null,null,"",null,null,"",null,null,"",null,null,null,null,"",null,"",null,null,""]
[null,"","","",null,null,null,null,null,null,null,"",null,null,"",null,null,"",null,null,null,null,"",null,"",null,null,""]
[null,"","","",null,null,null,null,null,null,null,"",null,null,"",null,null,"",null,null,null,null,"",null,"",null,null,""]
[null,"","","",null,null,null,null,null,null,null,"",null,null,"",null,null,"",null,null,null,null,"",null,"",null,null,""]
[null,"","","",null,null,null,null,null,null,null,"",null,null,"",null,null,"",null,null,null,null,"",null,"",null,null,""]
[null,"","","",null,null,null,null,null,null,null,"",null,null,"",null,null,"",null,null,null,null,"",null,"",null,null,""]
[null,"","","",null,null,null,null,null,null,null,"",null,null,"",null,null,"",null,null,null,null,"",null,"",null,null,""]
[null,"","","",null,null,null,null,null,null,null,"",null,null,"",null,null,"",null,null,null,null,"",null,"",null,null,""]
[null,"","","",null,null,null,null,null,null,null,"",null,null,"",null,null,"",null,null,null,null,"",null,"",null,null,""]
[null,"","","",null,null,null,null,null,null,null,"",null,null,"",null,null,"",null,null,null,null,"",null,"",null,null,""]
[null,"","","",null,null,null,null,null,null,null,"",null,null,"",null,null,"",null,null,null,null,"",null,"",null,null,""]
[null,"小計Ⓐ(税抜)",null,null,null,null,null,null,null,null,null,null,null,null,null,null,null,{"$f":"IF(R32=\"\",\"\",R32)","v":0},null,null,null,null,null,null,null,null,null,{"$f":"IF(AB32=\"\",\"\",AB32)","v":0}]
[null,"消費税額Ⓑ",null,null,null,null,null,null,null,null,null,null,null,null,null,null,null,{"$f":"IF(R33=\"\",\"\",R33)","v":0},null,null,null,null,null,null,null,null,null,{"$f":"IF(AB33=\"\",\"\",AB33)","v":0}]
[null,"合計Ⓒ(1-9枚目)",null,null,null,null,null,null,null,null,null,null,null,null,null,null,null,{"$f":"IF(R34=\"\",\"\",R34)","v":0},null,null,null,null,null,null,null,null,null,{"$f":"IF(AB34=\"\",\"\",AB34)","v":0}]

{"sheet":"内訳明細書10枚目","index":11,"n_rows":104,"n_cols":34,"rows_kept":104,"cut":false,"hidden":true,"merged":[[0,4,0,7],[1,4,1,7],[2,4,2,7],[3,4,3,14],[4,1,4,3],[4,17,6,19],[4,20,6,31],[6,1,6,2],[6,3,6,5],[0,9,2,22],[7,17,9,19],[7,30,9,31],[9,1,11,2],[9,3,11,15],[10,17,11,19],[10,20,11,31],[6,7,6,8],[6,10,6,11],[7,1,8,3],[7,4,8,5],[7,6,8,6],[7,7,8,8],[7,20,9,29],[14,27,14,31],[15,3,15,10],[15,11,15,13],[15,14,15,16],[15,17,15,21],[15,22,15,23],[15,24,15,26],[15,27,15,31],[13,1,14,1],[13,2,14,2],[13,3,14,10],[13,11,13,21],[13,22,14,23],[13,24,13,31],[14,11,14,13],[14,14,14,16],[14,17,14,21],[14,24,14,26],[16,27,16,31],[17,3,17,10],[17,11,17,13],[17,14,17,16],[17,17,17,21],[17,22,17,23],[17,24,17,26],[17,27,17,31],[16,3,16,10],[16,11,16,13],[16,14,16,16],[16,17,16,21],[16,22,16,23],[16,24,16,26],[18,27,18,31],[19,3,19,10],[19,11,19,13],[19,14,19,16],[19,17,19,21],[19,22,19,23],[19,24,19,26],[19,27,19,31],[18,3,18,10],[18,11,18,13],[18,14,18,16],[18,17,18,21],[18,22,18,23],[18,24,18,26],[20,27,20,31],[21,3,21,10],[21,11,21,13],[21,14,21,16],[21,17,21,21],[21,22,21,23],[21,24,21,26],[21,27,21,31],[20,3,20,10],[20,11,20,13],[20,14,20,16],[20,17,20,21],[20,22,20,23],[20,24,20,26],[22,27,22,31],[23,3,23,10],[23,11,23,13],[23,14,23,16],[23,17,23,21],[23,22,23,23],[23,24,23,26],[23,27,23,31],[22,3,22,10],[22,11,22,13],[22,14,22,16],[22,17,22,21],[22,22,22,23],[22,24,22,26],[24,27,24,31],[25,3,25,10],[25,11,25,13],[25,14,25,16],[25,17,25,21],[25,22,25,23],[25,24,25,26],[25,27,25,31],[24,3,24,10],[24,11,24,13],[24,14,24,16],[24,17,24,21],[24,22,24,23],[24,24,24,26],[26,27,26,31],[27,3,27,10],[27,11,27,13],[27,14,27,16],[27,17,27,21],[27,22,27,23],[27,24,27,26],[27,27,27,31],[26,3,26,10],[26,11,26,13],[26,14,26,16],[26,17,26,21],[26,22,26,23],[26,24,26,26],[28,27,28,31],[29,3,29,10],[29,11,29,13],[29,14,29,16],[29,17,29,21],[29,22,29,23],[29,24,29,26],[29,27,29,31],[28,3,28,10],[28,11,28,13],[28,14,28,16],[28,17,28,21],[28,22,28,23],[28,24,28,26],[30,27,30,31],[31,1,31,16],[31,17,31,21],[31,22,33,26],[31,27,31,31],[32,1,32,16],[32,17,32,21],[32,27,32,31],[33,1,33,16],[33,17,33,21],[30,3,30,10],[30,11,30,13],[30,14,30,16],[30,17,30,21],[30,22,30,23],[30,24,30,26],[39,1,39,3],[39,17,41,19],[39,20,41,31],[33,27,33,31],[38,17,38,18],[38,19,38,21],[38,23,38,24],[38,26,38,27],[35,9,37,22],[39,9,40,11],[39,6,40,8],[38,9,38,11],[38,6,38,8],[48,24,48,31],[49,11,49,13],[49,14,49,16],[49,17,49,21],[49,24,49,26],[49,27,49,31],[42,30,44,31],[44,1,46,2],[44,3,46,15],[45,17,46,19],[45,20,46,31],[48,1,49,1],[48,2,49,2],[48,3,49,10],[48,11,48,21],[48,22,49,23],[42,1,43,3],[42,4,43,5],[42,6,43,6],[42,7,43,8],[42,17,44,19],[42,20,44,29],[50,27,50,31],[51,3,51,10],[51,11,51,13],[51,14,51,16],[51,17,51,21],[51,22,51,23],[51,24,51,26],[51,27,51,31],[50,3,50,10],[50,11,50,13],[50,14,50,16],[50,17,50,21],[50,22,50,23],[50,24,50,26],[52,27,52,31],[53,3,53,10],[53,11,53,13],[53,14,53,16],[53,17,53,21],[53,22,53,23],[53,24,53,26],[53,27,53,31],[52,3,52,10],[52,11,52,13],[52,14,52,16],[52,17,52,21],[52,22,52,23],[52,24,52,26],[54,27,54,31],[55,3,55,10],[55,11,55,13],[55,14,55,16],[55,17,55,21],[55,22,55,23],[55,24,55,26],[55,27,55,31],[54,3,54,10],[54,11,54,13],[54,14,54,16],[54,17,54,21],[54,22,54,23],[54,24,54,26],[56,27,56,31],[57,3,57,10],[57,11,57,13],[57,14,57,16],[57,17,57,21],[57,22,57,23],[57,24,57,26],[57,27,57,31],[56,3,56,10],[56,11,56,13],[56,14,56,16],[56,17,56,21],[56,22,56,23],[56,24,56,26],[58,27,58,31],[59,3,59,10],[59,11,59,13],[59,14,59,16],[59,17,59,21],[59,22,59,23],[59,24,59,26],[59,27,59,31],[58,3,58,10],[58,11,58,13],[58,14,58,16],[58,17,58,21],[58,22,58,23],[58,24,58,26],[60,27,60,31],[61,3,61,10],[61,11,61,13],[61,14,61,16],[61,17,61,21],[61,22,61,23],[61,24,61,26],[61,27,61,31],[60,3,60,10],[60,11,60,13],[60,14,60,16],[60,17,60,21],[60,22,60,23],[60,24,60,26],[62,27,62,31],[63,3,63,10],[63,11,63,13],[63,14,63,16],[63,17,63,21],[63,22,63,23],[63,24,63,26],[63,27,63,31],[62,3,62,10],[62,11,62,13],[62,14,62,16],[62,17,62,21],[62,22,62,23],[62,24,62,26],[64,27,64,31],[65,3,65,10],[65,11,65,13],[65,14,65,16],[65,17,65,21],[65,22,65,23],[65,24,65,26],[65,27,65,31],[64,3,64,10],[64,11,64,13],[64,14,64,16],[64,17,64,21],[64,22,64,23],[64,24,64,26],[70,9,72,22],[66,1,66,16],[66,17,66,21],[66,22,68,26],[66,27,66,31],[67,1,67,16],[67,17,67,21],[67,27,67,31],[68,1,68,16],[68,17,68,21],[68,27,68,31],[73,23,73,24],[73,26,73,27],[74,1,74,3],[74,17,76,19],[74,20,76,31],[73,17,73,18],[73,19,73,21],[74,9,75,11],[74,6,75,8],[73,9,73,11],[73,6,73,8],[83,24,83,31],[84,11,84,13],[84,14,84,16],[84,17,84,21],[84,24,84,26],[84,27,84,31],[77,30,79,31],[79,1,81,2],[79,3,81,15],[80,17,81,19],[80,20,81,31],[83,1,84,1],[83,2,84,2],[83,3,84,10],[83,11,83,21],[83,22,84,23],[77,1,78,3],[77,4,78,5],[77,6,78,6],[77,7,78,8],[77,17,79,19],[77,20,79,29],[85,27,85,31],[86,3,86,10],[86,11,86,13],[86,14,86,16],[86,17,86,21],[86,22,86,23],[86,24,86,26],[86,27,86,31],[85,3,85,10],[85,11,85,13],[85,14,85,16],[85,17,85,21],[85,22,85,23],[85,24,85,26],[87,27,87,31],[88,3,88,10],[88,11,88,13],[88,14,88,16],[88,17,88,21],[88,22,88,23],[88,24,88,26],[88,27,88,31],[87,3,87,10],[87,11,87,13],[87,14,87,16],[87,17,87,21],[87,22,87,23],[87,24,87,26],[89,27,89,31],[90,3,90,10],[90,11,90,13],[90,14,90,16],[90,17,90,21],[90,22,90,23],[90,24,90,26],[90,27,90,31],[89,3,89,10],[89,11,89,13],[89,14,89,16],[89,17,89,21],[89,22,89,23],[89,24,89,26],[91,27,91,31],[92,3,92,10],[92,11,92,13],[92,14,92,16],[92,17,92,21],[92,22,92,23],[92,24,92,26],[92,27,92,31],[91,3,91,10],[91,11,91,13],[91,14,91,16],[91,17,91,21],[91,22,91,23],[91,24,91,26],[93,27,93,31],[94,3,94,10],[94,11,94,13],[94,14,94,16],[94,17,94,21],[94,22,94,23],[94,24,94,26],[94,27,94,31],[93,3,93,10],[93,11,93,13],[93,14,93,16],[93,17,93,21],[93,22,93,23],[93,24,93,26],[95,27,95,31],[96,3,96,10],[96,11,96,13],[96,14,96,16],[96,17,96,21],[96,22,96,23],[96,24,96,26],[96,27,96,31],[95,3,95,10],[95,11,95,13],[95,14,95,16],[95,17,95,21],[95,22,95,23],[95,24,95,26],[97,27,97,31],[98,3,98,10],[98,11,98,13],[98,14,98,16],[98,17,98,21],[98,22,98,23],[98,24,98,26],[98,27,98,31],[97,3,97,10],[97,11,97,13],[97,14,97,16],[97,17,97,21],[97,22,97,23],[97,24,97,26],[99,27,99,31],[100,3,100,10],[100,11,100,13],[100,14,100,16],[100,17,100,21],[100,22,100,23],[100,24,100,26],[100,27,100,31],[99,3,99,10],[99,11,99,13],[99,14,99,16],[99,17,99,21],[99,22,99,23],[99,24,99,26],[101,1,101,16],[101,17,101,21],[101,22,103,26],[101,27,101,31],[102,1,102,16],[102,17,102,21],[102,27,102,31],[103,1,103,16],[103,17,103,21],[103,27,103,31]]}
[null,null,null,null,"業者コード",null,null,null,null,"請求内訳明細書"]
[null,null,null,null,{"$f":"IF(内訳明細書1枚目!E2=\"\",\"\",内訳明細書1枚目!E2)","v":""}]
[null,null,null,null,"登録番号"]
[null,null,null,null,{"$f":"IF(内訳明細書1枚目!E4=\"\",\"\",内訳明細書1枚目!E4)","v":""}]
[null," (業者控)",null,null,null,null,null,null,null,null,null,null,null,null,null,null,null,"住所",null,null,{"$f":"IF(内訳明細書1枚目!U5=\"\",\"\",内訳明細書1枚目!U5)","v":""}]
[]
[null,"西暦",null,{"$f":"IF(内訳明細書1枚目!D7=\"\",\"\",内訳明細書1枚目!D7)","v":""},null,null,"年",{"$f":"IF(内訳明細書1枚目!H7=\"\",\"\",内訳明細書1枚目!H7)","v":""},null,"月",{"$f":"IF(内訳明細書1枚目!K7=\"\",\"\",内訳明細書1枚目!K7)","v":""},null,"日"]
[null,"工事番号",null,null,{"$f":"IF(内訳明細書1枚目!E8=\"\",\"\",内訳明細書1枚目!E8)","v":""},null,"―",{"$f":"IF(内訳明細書1枚目!H8=\"\",\"\",内訳明細書1枚目!H8)","v":""},null,null,null,null,null,null,null,null,null,"会社名",null,null,{"$f":"IF(内訳明細書1枚目!U8=\"\",\"\",内訳明細書1枚目!U8)","v":""},null,null,null,null,null,null,null,null,null,"印"]
[]
[null,"工事名",null,{"$f":"IF(内訳明細書1枚目!D10=\"\",\"\",内訳明細書1枚目!D10)","v":""}]
[null,null,null,null,null,null,null,null,null,null,null,null,null,null,null,null,null,"TEL",null,null,{"$f":"IF(内訳明細書1枚目!U11=\"\",\"\",内訳明細書1枚目!U11)","v":""}]
[]
[]
[null,"月","日","名称",null,null,null,null,null,null,null,"契約",null,null,null,null,null,null,null,null,null,null,"税率",null,"出来高"]
[null,null,null,null,null,null,null,null,null,null,null,"数量",null,null,"単価",null,null,"金額",null,null,null,null,null,null,"数量(％)",null,null,"金額"]
[null,null,null,null,null,null,null,null,null,null,null,null,null,null,null,null,null,{"$f":"IF(ROUND(L16*O16,0)=0,\"\",ROUND(L16*O16,0))","v":""},null,null,null,null,null,null,null,null,null,{"$f":"IFERROR(R16*Y16/100,\"\")","v":""},null,null,null,null,{"$f":"IF(W16=\"\",AB16*0.1,AB16*W16)","v":{"$error":"#VALUE!"}},{"$f":"IF(W16=\"\",R16*0.1,R16*W16)","v":{"$error":"#VALUE!"}}]
[null,null,null,null,null,null,null,null,null,null,null,null,null,null,null,null,null,{"$f":"IF(ROUND(L17*O17,0)=0,\"\",ROUND(L17*O17,0))","v":""},null,null,null,null,null,null,null,null,null,{"$f":"IFERROR(R17*Y17/100,\"\")","v":""},null,null,null,null,{"$f":"IF(W17=\"\",AB17*0.1,AB17*W17)","v":{"$error":"#VALUE!"}},{"$f":"IF(W17=\"\",R17*0.1,R17*W17)","v":{"$error":"#VALUE!"}}]
[null,null,null,null,null,null,null,null,null,null,null,null,null,null,null,null,null,"",null,null,null,null,null,null,null,null,null,"",null,null,null,null,{"$error":"#VALUE!"},{"$error":"#VALUE!"}]
[null,null,null,null,null,null,null,null,null,null,null,null,null,null,null,null,null,"",null,null,null,null,null,null,null,null,null,"",null,null,null,null,{"$error":"#VALUE!"},{"$error":"#VALUE!"}]
[null,null,null,null,null,null,null,null,null,null,null,null,null,null,null,null,null,"",null,null,null,null,null,null,null,null,null,"",null,null,null,null,{"$error":"#VALUE!"},{"$error":"#VALUE!"}]
[null,null,null,null,null,null,null,null,null,null,null,null,null,null,null,null,null,"",null,null,null,null,null,null,null,null,null,"",null,null,null,null,{"$error":"#VALUE!"},{"$error":"#VALUE!"}]
[null,null,null,null,null,null,null,null,null,null,null,null,null,null,null,null,null,"",null,null,null,null,null,null,null,null,null,"",null,null,null,null,{"$error":"#VALUE!"},{"$error":"#VALUE!"}]
[null,null,null,null,null,null,null,null,null,null,null,null,null,null,null,null,null,"",null,null,null,null,null,null,null,null,null,"",null,null,null,null,{"$error":"#VALUE!"},{"$error":"#VALUE!"}]
[null,null,null,null,null,null,null,null,null,null,null,null,null,null,null,null,null,"",null,null,null,null,null,null,null,null,null,"",null,null,null,null,{"$error":"#VALUE!"},{"$error":"#VALUE!"}]
[null,null,null,null,null,null,null,null,null,null,null,null,null,null,null,null,null,"",null,null,null,null,null,null,null,null,null,"",null,null,null,null,{"$error":"#VALUE!"},{"$error":"#VALUE!"}]
[null,null,null,null,null,null,null,null,null,null,null,null,null,null,null,null,null,"",null,null,null,null,null,null,null,null,null,"",null,null,null,null,{"$error":"#VALUE!"},{"$error":"#VALUE!"}]
[null,null,null,null,null,null,null,null,null,null,null,null,null,null,null,null,null,"",null,null,null,null,null,null,null,null,null,"",null,null,null,null,{"$error":"#VALUE!"},{"$error":"#VALUE!"}]
[null,null,null,null,null,null,null,null,null,null,null,null,null,null,null,null,null,"",null,null,null,null,null,null,null,null,null,"",null,null,null,null,{"$error":"#VALUE!"},{"$error":"#VALUE!"}]
[null,null,null,null,null,null,null,null,null,null,null,null,null,null,null,null,null,"",null,null,null,null,null,null,null,null,null,"",null,null,null,null,{"$error":"#VALUE!"},{"$error":"#VALUE!"}]
[null,null,null,null,null,null,null,null,null,null,null,null,null,null,null,null,null,"",null,null,null,null,null,null,null,null,null,"",null,null,null,null,{"$error":"#VALUE!"},{"$error":"#VALUE!"}]
[null,null,null,null,null,null,null,null,null,null,null,null,null,null,null,null,null,"",null,null,null,null,null,null,null,null,null,"",null,null,null,null,{"$error":"#VALUE!"},{"$error":"#VALUE!"}]
[null,"小計Ⓐ(税抜)",null,null,null,null,null,null,null,null,null,null,null,null,null,null,null,{"$f":"SUM(R16:V31,内訳明細書1枚目!R16:V31,内訳明細書2枚目!R16:V31,内訳明細書3枚目!R16:V31,内訳明細書4枚目!R16:V31,内訳明細書5枚目!R16:V31,内訳明細書6枚目!R16:V31,内訳明細書7枚目!R16:V31,内訳明細書8枚目!R16:V31,内訳明細書9枚目!R16:V31)","v":0},null,null,null,null,null,null,null,null,null,{"$f":"SUM(AB16:AF31,内訳明細書1枚目!AB16:AF31,内訳明細書2枚目!AB16:AF31,内訳明細書3枚目!AB16:AF31,内訳明細書4枚目!AB16:AF31,内訳明細書5枚目!AB16:AF31,内訳明細書6枚目!AB16:AF31,内訳明細書7枚目!AB16:AF31,内訳明細書8枚目!AB16:AF31,内訳明細書9枚目!AB16:AF31)","v":0}]
[null,"消費税額Ⓑ",null,null,null,null,null,null,null,null,null,null,null,null,null,null,null,{"$f":"ROUND(_xlfn.AGGREGATE(9,6,内訳明細書1枚目!AH16:AH31,内訳明細書2枚目!AH16:AH31,内訳明細書3枚目!AH16:AH31,内訳明細書4枚目!AH16:AH31,内訳明細書5枚目!AH16:AH31,内訳明細書6枚目!AH16:AH31,内訳明細書7枚目!AH16:AH31,内訳明細書8枚目!AH16:AH31,内訳明細書9枚目!AH16:AH31,AH16:AH31),0)","v":0},null,null,null,null,null,null,null,null,null,{"$f":"ROUND(_xlfn.AGGREGATE(9,6,内訳明細書1枚目!AG16:AG31,内訳明細書2枚目!AG16:AG31,内訳明細書3枚目!AG16:AG31,内訳明細書4枚目!AG16:AG31,内訳明細書5枚目!AG16:AG31,内訳明細書6枚目!AG16:AG31,内訳明細書7枚目!AG16:AG31,内訳明細書8枚目!AG16:AG31,内訳明細書9枚目!AG16:AG31,AG16:AG31),0)","v":0}]
[null,"合計Ⓒ(1-10枚目)",null,null,null,null,null,null,null,null,null,null,null,null,null,null,null,{"$f":"_xlfn.AGGREGATE(9,6,内訳明細書1枚目!R16:V31,内訳明細書1枚目!AH16:AH31,内訳明細書2枚目!R16:V31,内訳明細書2枚目!AH16:AH31,内訳明細書3枚目!R16:V31,内訳明細書3枚目!AH16:AH31,内訳明細書4枚目!R16:V31,内訳明細書4枚目!AH16:AH31,内訳明細書5枚目!R16:V31,内訳明細書5枚目!AH16:AH31,内訳明細書6枚目!R16:V31,内訳明細書6枚目!AH16:AH31,内訳明細書7枚目!R16:V31,内訳明細書7枚目!AH16:AH31,内訳明細書8枚目!R16:V31,内訳明細書8枚目!AH16:AH31,内訳明細書9枚目!R16:V31,内訳明細書9枚目!AH16:AH31,R16:V31,AH16:AH31)","v":0},null,null,null,null,null,null,null,null,null,{"$f":"_xlfn.AGGREGATE(9,6,内訳明細書1枚目!AB16:AF31,内訳明細書1枚目!AG16:AG31,内訳明細書2枚目!AB16:AF31,内訳明細書2枚目!AG16:AG31,内訳明細書3枚目!AB16:AF31,内訳明細書3枚目!AG16:AG31,内訳明細書4枚目!AB16:AF31,内訳明細書4枚目!AG16:AG31,内訳明細書5枚目!AB16:AF31,内訳明細書5枚目!AG16:AG31,内訳明細書6枚目!AB16:AF31,内訳明細書6枚目!AG16:AG31,内訳明細書7枚目!AB16:AF31,内訳明細書7枚目!AG16:AG31,内訳明細書8枚目!AB16:AF31,内訳明細書8枚目!AG16:AG31,内訳明細書9枚目!AB16:AF31,内訳明細書9枚目!AG16:AG31,AB16:AF31,AG16:AG31)","v":0}]
[]
[null,null,null,null,null,null,null,null,null,"請求内訳明細書"]
[]
[]
[null,null,null,null,null,null,"所属長",null,null,"担当",null,null,null,null,null,null,null,"西暦",null,{"$f":"IF(D7=\"\",\"\",D7)","v":""},null,null,"年",{"$f":"IF(H7=\"\",\"\",H7)","v":""},null,"月",{"$f":"IF(K7=\"\",\"\",K7)","v":""},null,"日"]
[null," (現場控)",null,null,null,null,null,null,null,null,null,null,null,null,null,null,null,"住所",null,null,{"$f":"IF(U5=\"\",\"\",U5)","v":""}]
[]
[]
[null,"工事番号",null,null,{"$f":"IF(E8=\"\",\"\",E8)","v":""},null,"―",{"$f":"IF(H8=\"\",\"\",H8)","v":""},null,null,null,null,null,null,null,null,null,"会社名",null,null,{"$f":"IF(U8=\"\",\"\",U8)","v":""},null,null,null,null,null,null,null,null,null,"印"]
[]
[null,"工事名",null,{"$f":"IF(D10=\"\",\"\",D10)","v":""}]
[null,null,null,null,null,null,null,null,null,null,null,null,null,null,null,null,null,"TEL",null,null,{"$f":"IF(U11=\"\",\"\",U11)","v":""}]
[]
[]
[null,"月","日","名称",null,null,null,null,null,null,null,"契約",null,null,null,null,null,null,null,null,null,null,"税率",null,"出来高"]
[null,null,null,null,null,null,null,null,null,null,null,"数量",null,null,"単価",null,null,"金額",null,null,null,null,null,null,"数量(％)",null,null,"金額"]
[null,{"$f":"IF(B16=\"\",\"\",B16)","v":""},{"$f":"IF(C16=\"\",\"\",C16)","v":""},{"$f":"IF(D16=\"\",\"\",D16)","v":""},null,null,null,null,null,null,null,{"$f":"IF(L16=\"\",\"\",L16)","v":""},null,null,{"$f":"IF(O16=\"\",\"\",O16)","v":""},null,null,{"$f":"IF(R16=\"\",\"\",R16)","v":""},null,null,null,null,{"$f":"IF(W16=\"\",\"\",W16)","v":""},null,{"$f":"IF(Y16=\"\",\"\",Y16)","v":""},null,null,{"$f":"IF(AB16=\"\",\"\",AB16)","v":""}]
[null,{"$f":"IF(B17=\"\",\"\",B17)","v":""},"","",null,null,null,null,null,null,null,{"$f":"IF(L17=\"\",\"\",L17)","v":""},null,null,{"$f":"IF(O17=\"\",\"\",O17)","v":""},null,null,{"$f":"IF(R17=\"\",\"\",R17)","v":""},null,null,null,null,{"$f":"IF(W17=\"\",\"\",W17)","v":""},null,{"$f":"IF(Y17=\"\",\"\",Y17)","v":""},null,null,{"$f":"IF(AB17=\"\",\"\",AB17)","v":""}]
[null,"","","",null,null,null,null,null,null,null,"",null,null,"",null,null,"",null,null,null,null,"",null,"",null,null,""]
[null,"","","",null,null,null,null,null,null,null,"",null,null,"",null,null,"",null,null,null,null,"",null,"",null,null,""]
[null,"","","",null,null,null,null,null,null,null,"",null,null,"",null,null,"",null,null,null,null,"",null,"",null,null,""]
[null,"","","",null,null,null,null,null,null,null,"",null,null,"",null,null,"",null,null,null,null,"",null,"",null,null,""]
[null,"","","",null,null,null,null,null,null,null,"",null,null,"",null,null,"",null,null,null,null,"",null,"",null,null,""]
[null,"","","",null,null,null,null,null,null,null,"",null,null,"",null,null,"",null,null,null,null,"",null,"",null,null,""]
[null,"","","",null,null,null,null,null,null,null,"",null,null,"",null,null,"",null,null,null,null,"",null,"",null,null,""]
[null,"","","",null,null,null,null,null,null,null,"",null,null,"",null,null,"",null,null,null,null,"",null,"",null,null,""]
[null,"","","",null,null,null,null,null,null,null,"",null,null,"",null,null,"",null,null,null,null,"",null,"",null,null,""]
[null,"","","",null,null,null,null,null,null,null,"",null,null,"",null,null,"",null,null,null,null,"",null,"",null,null,""]
[null,"","","",null,null,null,null,null,null,null,"",null,null,"",null,null,"",null,null,null,null,"",null,"",null,null,""]
[null,"","","",null,null,null,null,null,null,null,"",null,null,"",null,null,"",null,null,null,null,"",null,"",null,null,""]
[null,"","","",null,null,null,null,null,null,null,"",null,null,"",null,null,"",null,null,null,null,"",null,"",null,null,""]
[null,"","","",null,null,null,null,null,null,null,"",null,null,"",null,null,"",null,null,null,null,"",null,"",null,null,""]
[null,"小計Ⓐ(税抜)",null,null,null,null,null,null,null,null,null,null,null,null,null,null,null,{"$f":"IF(R32=\"\",\"\",R32)","v":0},null,null,null,null,null,null,null,null,null,{"$f":"IF(AB32=\"\",\"\",AB32)","v":0}]
[null,"消費税額Ⓑ",null,null,null,null,null,null,null,null,null,null,null,null,null,null,null,{"$f":"IF(R33=\"\",\"\",R33)","v":0},null,null,null,null,null,null,null,null,null,{"$f":"IF(AB33=\"\",\"\",AB33)","v":0}]
[null,"合計Ⓒ(1-10枚目)",null,null,null,null,null,null,null,null,null,null,null,null,null,null,null,{"$f":"IF(R34=\"\",\"\",R34)","v":0},null,null,null,null,null,null,null,null,null,{"$f":"IF(AB34=\"\",\"\",AB34)","v":0}]
[]
[null,null,null,null,null,null,null,null,null,"請求内訳明細書"]
[]
[]
[null,null,null,null,null,null,"所属長",null,null,"担当",null,null,null,null,null,null,null,"西暦",null,{"$f":"IF(D7=\"\",\"\",D7)","v":""},null,null,"年",{"$f":"IF(H7=\"\",\"\",H7)","v":""},null,"月",{"$f":"IF(K7=\"\",\"\",K7)","v":""},null,"日"]
[null," (経理控)",null,null,null,null,null,null,null,null,null,null,null,null,null,null,null,"住所",null,null,{"$f":"IF(U5=\"\",\"\",U5)","v":""}]
[]
[]
[null,"工事番号",null,null,{"$f":"IF(E8=\"\",\"\",E8)","v":""},null,"―",{"$f":"IF(H8=\"\",\"\",H8)","v":""},null,null,null,null,null,null,null,null,null,"会社名",null,null,{"$f":"IF(U8=\"\",\"\",U8)","v":""},null,null,null,null,null,null,null,null,null,"印"]
[]
[null,"工事名",null,{"$f":"IF(D10=\"\",\"\",D10)","v":""}]
[null,null,null,null,null,null,null,null,null,null,null,null,null,null,null,null,null,"TEL",null,null,{"$f":"IF(U11=\"\",\"\",U11)","v":""}]
[]
[]
[null,"月","日","名称",null,null,null,null,null,null,null,"契約",null,null,null,null,null,null,null,null,null,null,"税率",null,"出来高"]
[null,null,null,null,null,null,null,null,null,null,null,"数量",null,null,"単価",null,null,"金額",null,null,null,null,null,null,"数量(％)",null,null,"金額"]
[null,{"$f":"IF(B16=\"\",\"\",B16)","v":""},{"$f":"IF(C16=\"\",\"\",C16)","v":""},{"$f":"IF(D16=\"\",\"\",D16)","v":""},null,null,null,null,null,null,null,{"$f":"IF(L16=\"\",\"\",L16)","v":""},null,null,{"$f":"IF(O16=\"\",\"\",O16)","v":""},null,null,{"$f":"IF(R16=\"\",\"\",R16)","v":""},null,null,null,null,{"$f":"IF(W16=\"\",\"\",W16)","v":""},null,{"$f":"IF(Y16=\"\",\"\",Y16)","v":""},null,null,{"$f":"IF(AB16=\"\",\"\",AB16)","v":""}]
[null,{"$f":"IF(B17=\"\",\"\",B17)","v":""},"","",null,null,null,null,null,null,null,"",null,null,{"$f":"IF(O17=\"\",\"\",O17)","v":""},null,null,{"$f":"IF(R17=\"\",\"\",R17)","v":""},null,null,null,null,{"$f":"IF(W17=\"\",\"\",W17)","v":""},null,{"$f":"IF(Y17=\"\",\"\",Y17)","v":""},null,null,{"$f":"IF(AB17=\"\",\"\",AB17)","v":""}]
[null,"","","",null,null,null,null,null,null,null,"",null,null,"",null,null,"",null,null,null,null,"",null,"",null,null,""]
[null,"","","",null,null,null,null,null,null,null,"",null,null,"",null,null,"",null,null,null,null,"",null,"",null,null,""]
[null,"","","",null,null,null,null,null,null,null,"",null,null,"",null,null,"",null,null,null,null,"",null,"",null,null,""]
[null,"","","",null,null,null,null,null,null,null,"",null,null,"",null,null,"",null,null,null,null,"",null,"",null,null,""]
[null,"","","",null,null,null,null,null,null,null,"",null,null,"",null,null,"",null,null,null,null,"",null,"",null,null,""]
[null,"","","",null,null,null,null,null,null,null,"",null,null,"",null,null,"",null,null,null,null,"",null,"",null,null,""]
[null,"","","",null,null,null,null,null,null,null,"",null,null,"",null,null,"",null,null,null,null,"",null,"",null,null,""]
[null,"","","",null,null,null,null,null,null,null,"",null,null,"",null,null,"",null,null,null,null,"",null,"",null,null,""]
[null,"","","",null,null,null,null,null,null,null,"",null,null,"",null,null,"",null,null,null,null,"",null,"",null,null,""]
[null,"","","",null,null,null,null,null,null,null,"",null,null,"",null,null,"",null,null,null,null,"",null,"",null,null,""]
[null,"","","",null,null,null,null,null,null,null,"",null,null,"",null,null,"",null,null,null,null,"",null,"",null,null,""]
[null,"","","",null,null,null,null,null,null,null,"",null,null,"",null,null,"",null,null,null,null,"",null,"",null,null,""]
[null,"","","",null,null,null,null,null,null,null,"",null,null,"",null,null,"",null,null,null,null,"",null,"",null,null,""]
[null,"","","",null,null,null,null,null,null,null,"",null,null,"",null,null,"",null,null,null,null,"",null,"",null,null,""]
[null,"小計Ⓐ(税抜)",null,null,null,null,null,null,null,null,null,null,null,null,null,null,null,{"$f":"IF(R32=\"\",\"\",R32)","v":0},null,null,null,null,null,null,null,null,null,{"$f":"IF(AB32=\"\",\"\",AB32)","v":0}]
[null,"消費税額Ⓑ",null,null,null,null,null,null,null,null,null,null,null,null,null,null,null,{"$f":"IF(R33=\"\",\"\",R33)","v":0},null,null,null,null,null,null,null,null,null,{"$f":"IF(AB33=\"\",\"\",AB33)","v":0}]
[null,"合計Ⓒ(1-10枚目)",null,null,null,null,null,null,null,null,null,null,null,null,null,null,null,{"$f":"IF(R34=\"\",\"\",R34)","v":0},null,null,null,null,null,null,null,null,null,{"$f":"IF(AB34=\"\",\"\",AB34)","v":0}]